BEGIN:VCALENDAR
VERSION:2.0
PRODID:-//Resurrection Lutheran Church - ECPv6.15.17//NONSGML v1.0//EN
CALSCALE:GREGORIAN
METHOD:PUBLISH
X-ORIGINAL-URL:https://www.orovalley.org
X-WR-CALDESC:Events for Resurrection Lutheran Church
REFRESH-INTERVAL;VALUE=DURATION:PT1H
X-Robots-Tag:noindex
X-PUBLISHED-TTL:PT1H
BEGIN:VTIMEZONE
TZID:UTC
BEGIN:STANDARD
TZOFFSETFROM:+0000
TZOFFSETTO:+0000
TZNAME:UTC
DTSTART:20250101T000000
END:STANDARD
END:VTIMEZONE
BEGIN:VEVENT
DTSTART;TZID=UTC:20260419T074500
DTEND;TZID=UTC:20260419T084500
DTSTAMP:20260419T180522
CREATED:20250605T233406Z
LAST-MODIFIED:20250605T233413Z
UID:10000125-1776584700-1776588300@www.orovalley.org
SUMMARY:7:45 Worship
DESCRIPTION:Traditional Worship. Music provided by Resurrection’s Chancel Choir \n\n\n\n\nWorship Online Here\n\n\n\n\n \n\n\n\n\nOnline Bulletins Here
URL:https://www.orovalley.org/event/745-worship-9/2026-04-19/
LOCATION:Oro Valley Sanctuary
CATEGORIES:Worship
ATTACH;FMTTYPE=image/jpeg:https://www.orovalley.org/wp-content/uploads/2023/12/CopyrightTaylorNoelPhotography2021-158-scaled.jpg
END:VEVENT
BEGIN:VEVENT
DTSTART;TZID=UTC:20260419T080000
DTEND;TZID=UTC:20260419T170000
DTSTAMP:20260419T180522
CREATED:20260407T190911Z
LAST-MODIFIED:20260407T190915Z
UID:10008097-1776585600-1776618000@www.orovalley.org
SUMMARY:Spring Food Drive – Bag Hand Out
DESCRIPTION:Oro Valley
URL:https://www.orovalley.org/event/spring-food-drive-bag-hand-out-2/2026-04-19/
END:VEVENT
BEGIN:VEVENT
DTSTART;TZID=UTC:20260419T080000
DTEND;TZID=UTC:20260419T170000
DTSTAMP:20260419T180522
CREATED:20260407T191346Z
LAST-MODIFIED:20260407T191349Z
UID:10008100-1776585600-1776618000@www.orovalley.org
SUMMARY:Spring Food Drive – Donation Collection
DESCRIPTION:Oro Valley
URL:https://www.orovalley.org/event/spring-food-drive-donation-collection-2/2026-04-19/
END:VEVENT
BEGIN:VEVENT
DTSTART;TZID=UTC:20260419T090000
DTEND;TZID=UTC:20260419T100000
DTSTAMP:20260419T180522
CREATED:20240106T184634Z
LAST-MODIFIED:20240228T200602Z
UID:10001743-1776589200-1776592800@www.orovalley.org
SUMMARY:Worship at SaddleBrooke
DESCRIPTION:Worship Online Here\n\n\n\nOnline Bulletin Here
URL:https://www.orovalley.org/event/worship-at-saddlebrooke/2026-04-19/
LOCATION:SaddleBrooke\, SaddleBrooke HOA2 Clubhouse\, Tucson\, Arizona\, 85739
CATEGORIES:Worship
ATTACH;FMTTYPE=image/jpeg:https://www.orovalley.org/wp-content/uploads/2023/08/sb-worship-pic_3.jpg
END:VEVENT
BEGIN:VEVENT
DTSTART;TZID=UTC:20260419T104500
DTEND;TZID=UTC:20260419T114500
DTSTAMP:20260419T180522
CREATED:20250610T165108Z
LAST-MODIFIED:20250610T165111Z
UID:10005032-1776595500-1776599100@www.orovalley.org
SUMMARY:10:45 Worship - Contemporary
DESCRIPTION:Sunday School\, Confirmation\, High School Sunday School \n\n\n\nChildcare Available \n\n\n\n\nWorship Online Here
URL:https://www.orovalley.org/event/1045-worship-contemporary-7/2026-04-19/
LOCATION:Oro Valley Sanctuary
CATEGORIES:Worship
ATTACH;FMTTYPE=image/jpeg:https://www.orovalley.org/wp-content/uploads/2023/11/CopyrightTaylorNoelPhotography2021-200-scaled.jpg
END:VEVENT
BEGIN:VEVENT
DTSTART;TZID=UTC:20260421T080000
DTEND;TZID=UTC:20260421T133000
DTSTAMP:20260419T180522
CREATED:20260407T191618Z
LAST-MODIFIED:20260407T191623Z
UID:10008102-1776758400-1776778200@www.orovalley.org
SUMMARY:American Red Cross Blood Drive
DESCRIPTION:Katie’s Quarters
URL:https://www.orovalley.org/event/american-red-cross-blood-drive-14/
END:VEVENT
BEGIN:VEVENT
DTSTART;TZID=UTC:20260421T130000
DTEND;TZID=UTC:20260421T160000
DTSTAMP:20260419T180522
CREATED:20260210T184404Z
LAST-MODIFIED:20260210T202351Z
UID:10006825-1776776400-1776787200@www.orovalley.org
SUMMARY:Art by Heart Glass Classes
DESCRIPTION:Art by Heart Studio
URL:https://www.orovalley.org/event/art-by-heart-glass-classes/2026-04-21/
END:VEVENT
BEGIN:VEVENT
DTSTART;TZID=UTC:20260422T150000
DTEND;TZID=UTC:20260422T160000
DTSTAMP:20260419T180522
CREATED:20250701T214646Z
LAST-MODIFIED:20250701T214652Z
UID:10004516-1776870000-1776873600@www.orovalley.org
SUMMARY:Scripture & Salsa
DESCRIPTION:You are invited to join Pastor Carol every Wednesday from 3:00 – 4:00 PM at Mi Tierra Mexican Restaurant in Catalina starting January 8th for an informal discussion of the Bible texts for the upcoming weekend’s worship. No registration is required and there is no long-term commitment. Just grab your Bible and drop by.
URL:https://www.orovalley.org/event/scripture-salsa-2/2026-04-22/
END:VEVENT
BEGIN:VEVENT
DTSTART;TZID=UTC:20260423T130000
DTEND;TZID=UTC:20260423T160000
DTSTAMP:20260419T180522
CREATED:20241213T002356Z
LAST-MODIFIED:20241213T002359Z
UID:10004118-1776949200-1776960000@www.orovalley.org
SUMMARY:Matching Dragons Mah Jongg
DESCRIPTION:Do you play the game of (American) Mah Jongg and have been looking for a group to play with? Join us on Thursday afternoons 1:00-4:00 PM in Luther’s Lair in the Outreach Center. These are friendly games. We do NOT play for money but we ALWAYS have a good time. This group is for those who already know how to play the game. However\, anyone is invited to come observe to see if they would like to learn to play the game. Questions? Contact Jackie Verdick at jackieverdick@gmail.com or 612-554-0111.
URL:https://www.orovalley.org/event/matching-dragons-mah-jongg/2026-04-23/
END:VEVENT
BEGIN:VEVENT
DTSTART;TZID=UTC:20260423T130000
DTEND;TZID=UTC:20260423T160000
DTSTAMP:20260419T180522
CREATED:20251107T191455Z
LAST-MODIFIED:20251107T191616Z
UID:10005768-1776949200-1776960000@www.orovalley.org
SUMMARY:Art by Heart Open Studio
DESCRIPTION:
URL:https://www.orovalley.org/event/art-by-heart-open-studio/2026-04-23/
END:VEVENT
BEGIN:VEVENT
DTSTART;TZID=UTC:20260425T070000
DTEND;TZID=UTC:20260425T070000
DTSTAMP:20260419T180522
CREATED:20260310T205612Z
LAST-MODIFIED:20260310T210638Z
UID:10007235-1777100400-1777100400@www.orovalley.org
SUMMARY:World Vision Global 6k Walk for Water
DESCRIPTION:
URL:https://www.orovalley.org/event/world-vision-global-6k-walk-for-water-2/
LOCATION:Memorial Plaza\, 11575 1st Ave.\, Oro Valley\, Arizona\, 85737\, United States
END:VEVENT
BEGIN:VEVENT
DTSTART;TZID=UTC:20260425T080000
DTEND;TZID=UTC:20260425T170000
DTSTAMP:20260419T180522
CREATED:20260407T185702Z
LAST-MODIFIED:20260407T191052Z
UID:10008093-1777104000-1777136400@www.orovalley.org
SUMMARY:Spring Food Drive – Donation Collection
DESCRIPTION:Oro Valley
URL:https://www.orovalley.org/event/spring-food-drive-donation-collection/2026-04-25/
END:VEVENT
BEGIN:VEVENT
DTSTART;TZID=UTC:20260425T170000
DTEND;TZID=UTC:20260425T180000
DTSTAMP:20260419T180522
CREATED:20240130T000623Z
LAST-MODIFIED:20240228T201059Z
UID:10002362-1777136400-1777140000@www.orovalley.org
SUMMARY:5:00 Worship
DESCRIPTION:Join us for worship!  \n\n\n\n\nWorship Online Here\n\n\n\nOnline Bulletins Here
URL:https://www.orovalley.org/event/500-worship-2/2026-04-25/
LOCATION:Oro Valley Sanctuary
CATEGORIES:Worship
ATTACH;FMTTYPE=image/jpeg:https://www.orovalley.org/wp-content/uploads/2023/08/CopyrightTaylorNoelPhotography2021-175-354e5a6-scaled.jpg
END:VEVENT
BEGIN:VEVENT
DTSTART;TZID=UTC:20260426T074500
DTEND;TZID=UTC:20260426T084500
DTSTAMP:20260419T180522
CREATED:20260407T180154Z
LAST-MODIFIED:20260407T180201Z
UID:10000126-1777189500-1777193100@www.orovalley.org
SUMMARY:7:45 Worship
DESCRIPTION:Traditional Worship. Music provided by Resurrection’s Chancel Choir \n\n\n\n\nWorship Online Here\n\n\n\n\n \n\n\n\n\nOnline Bulletins Here
URL:https://www.orovalley.org/event/745-worship-11/2026-04-26/
LOCATION:Oro Valley Sanctuary
CATEGORIES:Worship
ATTACH;FMTTYPE=image/jpeg:https://www.orovalley.org/wp-content/uploads/2023/12/CopyrightTaylorNoelPhotography2021-158-scaled.jpg
END:VEVENT
BEGIN:VEVENT
DTSTART;TZID=UTC:20260426T080000
DTEND;TZID=UTC:20260426T170000
DTSTAMP:20260419T180522
CREATED:20260407T191346Z
LAST-MODIFIED:20260407T191349Z
UID:10008101-1777190400-1777222800@www.orovalley.org
SUMMARY:Spring Food Drive – Donation Collection
DESCRIPTION:Oro Valley
URL:https://www.orovalley.org/event/spring-food-drive-donation-collection-2/2026-04-26/
END:VEVENT
BEGIN:VEVENT
DTSTART;TZID=UTC:20260426T090000
DTEND;TZID=UTC:20260426T100000
DTSTAMP:20260419T180522
CREATED:20240106T184634Z
LAST-MODIFIED:20240228T200602Z
UID:10001744-1777194000-1777197600@www.orovalley.org
SUMMARY:Worship at SaddleBrooke
DESCRIPTION:Worship Online Here\n\n\n\nOnline Bulletin Here
URL:https://www.orovalley.org/event/worship-at-saddlebrooke/2026-04-26/
LOCATION:SaddleBrooke\, SaddleBrooke HOA2 Clubhouse\, Tucson\, Arizona\, 85739
CATEGORIES:Worship
ATTACH;FMTTYPE=image/jpeg:https://www.orovalley.org/wp-content/uploads/2023/08/sb-worship-pic_3.jpg
END:VEVENT
BEGIN:VEVENT
DTSTART;TZID=UTC:20260426T104500
DTEND;TZID=UTC:20260426T114500
DTSTAMP:20260419T180522
CREATED:20260408T175108Z
LAST-MODIFIED:20260408T175117Z
UID:10005033-1777200300-1777203900@www.orovalley.org
SUMMARY:10:45 Worship - Contemporary
DESCRIPTION:Sunday School\, Confirmation\, High School Sunday School \n\n\n\nChildcare Available \n\n\n\n\nWorship Online Here
URL:https://www.orovalley.org/event/1045-worship-contemporary-8/2026-04-26/
LOCATION:Oro Valley Sanctuary
CATEGORIES:Worship
ATTACH;FMTTYPE=image/jpeg:https://www.orovalley.org/wp-content/uploads/2023/11/CopyrightTaylorNoelPhotography2021-200-scaled.jpg
END:VEVENT
BEGIN:VEVENT
DTSTART;TZID=UTC:20260427T173000
DTEND;TZID=UTC:20260427T180000
DTSTAMP:20260419T180522
CREATED:20260407T192114Z
LAST-MODIFIED:20260407T192119Z
UID:10008105-1777311000-1777312800@www.orovalley.org
SUMMARY:Pray Without Ceasing
DESCRIPTION:Oro Valley Sanctuary
URL:https://www.orovalley.org/event/pray-without-ceasing/2026-04-27/
END:VEVENT
BEGIN:VEVENT
DTSTART;TZID=UTC:20260428T130000
DTEND;TZID=UTC:20260428T160000
DTSTAMP:20260419T180522
CREATED:20260210T184404Z
LAST-MODIFIED:20260210T202351Z
UID:10006826-1777381200-1777392000@www.orovalley.org
SUMMARY:Art by Heart Glass Classes
DESCRIPTION:Art by Heart Studio
URL:https://www.orovalley.org/event/art-by-heart-glass-classes/2026-04-28/
END:VEVENT
BEGIN:VEVENT
DTSTART;TZID=UTC:20260428T183000
DTEND;TZID=UTC:20260428T203000
DTSTAMP:20260419T180522
CREATED:20240910T192133Z
LAST-MODIFIED:20240910T192135Z
UID:10003845-1777401000-1777408200@www.orovalley.org
SUMMARY:Resurrection Card Players
DESCRIPTION:RLC Card Players meets every second and fourth Tuesday of the month. No reservation necessary. Please bring a snack to share and your own beverage. We play a variety of card games and we’re happy to teach you if you don’t know how to play. Everyone is welcome.
URL:https://www.orovalley.org/event/resurrection-card-players-2/2026-04-28/
LOCATION:Luther’s Lair
END:VEVENT
BEGIN:VEVENT
DTSTART;TZID=UTC:20260429T150000
DTEND;TZID=UTC:20260429T160000
DTSTAMP:20260419T180522
CREATED:20250701T214646Z
LAST-MODIFIED:20250701T214652Z
UID:10004517-1777474800-1777478400@www.orovalley.org
SUMMARY:Scripture & Salsa
DESCRIPTION:You are invited to join Pastor Carol every Wednesday from 3:00 – 4:00 PM at Mi Tierra Mexican Restaurant in Catalina starting January 8th for an informal discussion of the Bible texts for the upcoming weekend’s worship. No registration is required and there is no long-term commitment. Just grab your Bible and drop by.
URL:https://www.orovalley.org/event/scripture-salsa-2/2026-04-29/
END:VEVENT
BEGIN:VEVENT
DTSTART;TZID=UTC:20260430T130000
DTEND;TZID=UTC:20260430T160000
DTSTAMP:20260419T180522
CREATED:20241213T002356Z
LAST-MODIFIED:20241213T002359Z
UID:10004119-1777554000-1777564800@www.orovalley.org
SUMMARY:Matching Dragons Mah Jongg
DESCRIPTION:Do you play the game of (American) Mah Jongg and have been looking for a group to play with? Join us on Thursday afternoons 1:00-4:00 PM in Luther’s Lair in the Outreach Center. These are friendly games. We do NOT play for money but we ALWAYS have a good time. This group is for those who already know how to play the game. However\, anyone is invited to come observe to see if they would like to learn to play the game. Questions? Contact Jackie Verdick at jackieverdick@gmail.com or 612-554-0111.
URL:https://www.orovalley.org/event/matching-dragons-mah-jongg/2026-04-30/
END:VEVENT
BEGIN:VEVENT
DTSTART;TZID=UTC:20260430T130000
DTEND;TZID=UTC:20260430T160000
DTSTAMP:20260419T180522
CREATED:20251107T191455Z
LAST-MODIFIED:20251107T191616Z
UID:10005769-1777554000-1777564800@www.orovalley.org
SUMMARY:Art by Heart Open Studio
DESCRIPTION:
URL:https://www.orovalley.org/event/art-by-heart-open-studio/2026-04-30/
END:VEVENT
END:VCALENDAR