BEGIN:VCALENDAR
VERSION:2.0
PRODID:-//Resurrection Lutheran Church - ECPv6.15.20//NONSGML v1.0//EN
CALSCALE:GREGORIAN
METHOD:PUBLISH
X-ORIGINAL-URL:https://www.orovalley.org
X-WR-CALDESC:Events for Resurrection Lutheran Church
REFRESH-INTERVAL;VALUE=DURATION:PT1H
X-Robots-Tag:noindex
X-PUBLISHED-TTL:PT1H
BEGIN:VTIMEZONE
TZID:UTC
BEGIN:STANDARD
TZOFFSETFROM:+0000
TZOFFSETTO:+0000
TZNAME:UTC
DTSTART:20240101T000000
END:STANDARD
END:VTIMEZONE
BEGIN:VEVENT
DTSTART;TZID=UTC:20250305T080000
DTEND;TZID=UTC:20250305T170000
DTSTAMP:20260421T083605
CREATED:20250304T192511Z
LAST-MODIFIED:20250304T192517Z
UID:10004760-1741161600-1741194000@www.orovalley.org
SUMMARY:Desert Wanderers Guided Walk through 14 Demonstration Gardens
DESCRIPTION:We will be back at RLC in time for the Ash Wednesday service. Master Gardeners will teach us about the variety of landscape plants that thrive in various environments. The walk is suitable for persons who utilize walkers for stability. Bring water and a snack for the brief devotion afterwards. Sign up with Elisabeth Wheeler\, hikerelisabeth@gmail.com\, by March 2nd.
URL:https://www.orovalley.org/event/desert-wanderers-guided-walk-through-14-demonstration-gardens/
END:VEVENT
BEGIN:VEVENT
DTSTART;TZID=UTC:20250305T100000
DTEND;TZID=UTC:20250305T113000
DTSTAMP:20260421T083605
CREATED:20241205T000220Z
LAST-MODIFIED:20250114T073511Z
UID:10003976-1741168800-1741174200@www.orovalley.org
SUMMARY:Coping With Grief
DESCRIPTION:Coping With Grief will start its next group on Wednesday\, January 15th at 10:00 AM in the Prayer Room. The group will meet weekly for 10 weeks for 1 1/2 hours sessions and is limited to six participants. \n\n\n\nGrieving the loss of a loved one can be one of the most profound experiences individuals encounter in their lives. Others who have undergone a significant loss can understand well the depth of pain that grief brings. Sharing that experience in a group with others who are going through the same process could provide encouragement and hope for healing. \n\n\n\nCoping With Grief welcomes everyone. To sign up for the next group\, please contact either of the leaders\, Arlyn Norris at acwlnorris@gmail.com\, 402-960-9044 or Pilar Norris at bipiho90@aol.com\, 973-874-3677.
URL:https://www.orovalley.org/event/coping-with-grief/2025-03-05/
END:VEVENT
BEGIN:VEVENT
DTSTART;TZID=UTC:20250305T150000
DTEND;TZID=UTC:20250305T160000
DTSTAMP:20260421T083605
CREATED:20250114T073956Z
LAST-MODIFIED:20250114T073958Z
UID:10004457-1741186800-1741190400@www.orovalley.org
SUMMARY:Scripture & Salsa
DESCRIPTION:You are invited to join Pastor Carol every Wednesday from 3:00 – 4:00 PM at Mi Tierra Mexican Restaurant in Catalina starting January 8th for an informal discussion of the Bible texts for the upcoming weekend’s worship. No registration is required and there is no long-term commitment. Just grab your Bible and drop by.
URL:https://www.orovalley.org/event/scripture-salsa/2025-03-05/
END:VEVENT
END:VCALENDAR