BEGIN:VCALENDAR
VERSION:2.0
PRODID:-//Resurrection Lutheran Church - ECPv6.15.17//NONSGML v1.0//EN
CALSCALE:GREGORIAN
METHOD:PUBLISH
X-WR-CALNAME:Resurrection Lutheran Church
X-ORIGINAL-URL:https://www.orovalley.org
X-WR-CALDESC:Events for Resurrection Lutheran Church
REFRESH-INTERVAL;VALUE=DURATION:PT1H
X-Robots-Tag:noindex
X-PUBLISHED-TTL:PT1H
BEGIN:VTIMEZONE
TZID:UTC
BEGIN:STANDARD
TZOFFSETFROM:+0000
TZOFFSETTO:+0000
TZNAME:UTC
DTSTART:20250101T000000
END:STANDARD
END:VTIMEZONE
BEGIN:VEVENT
DTSTART;TZID=UTC:20260418T080000
DTEND;TZID=UTC:20260418T170000
DTSTAMP:20260419T222412
CREATED:20260407T185237Z
LAST-MODIFIED:20260407T190702Z
UID:10008091-1776499200-1776531600@www.orovalley.org
SUMMARY:Spring Food Drive – Bag Hand Out
DESCRIPTION:Oro Valley
URL:https://www.orovalley.org/event/spring-food-drive-bag-hand-out/2026-04-18/
END:VEVENT
BEGIN:VEVENT
DTSTART;TZID=UTC:20260418T080000
DTEND;TZID=UTC:20260418T170000
DTSTAMP:20260419T222412
CREATED:20260407T185702Z
LAST-MODIFIED:20260407T191052Z
UID:10008092-1776499200-1776531600@www.orovalley.org
SUMMARY:Spring Food Drive – Donation Collection
DESCRIPTION:Oro Valley
URL:https://www.orovalley.org/event/spring-food-drive-donation-collection/2026-04-18/
END:VEVENT
BEGIN:VEVENT
DTSTART;TZID=UTC:20260418T090000
DTEND;TZID=UTC:20260418T110000
DTSTAMP:20260419T222412
CREATED:20260210T201725Z
LAST-MODIFIED:20260210T201733Z
UID:10006775-1776502800-1776510000@www.orovalley.org
SUMMARY:Faithful Living Fellowship
DESCRIPTION:Oro Valley \n\n\n\nWe meet for coffee\, snacks and fellowship\, followed by a film and small discussion groups. We will study the book “Embracing Trust” by Joanna Weaver. Sign up on the website under the Learn section.
URL:https://www.orovalley.org/event/faithful-living-fellowship-3/2026-04-18/
END:VEVENT
BEGIN:VEVENT
DTSTART;TZID=UTC:20260418T170000
DTEND;TZID=UTC:20260418T180000
DTSTAMP:20260419T222412
CREATED:20240130T000623Z
LAST-MODIFIED:20240228T201059Z
UID:10002361-1776531600-1776535200@www.orovalley.org
SUMMARY:5:00 Worship
DESCRIPTION:Join us for worship!  \n\n\n\n\nWorship Online Here\n\n\n\nOnline Bulletins Here
URL:https://www.orovalley.org/event/500-worship-2/2026-04-18/
LOCATION:Oro Valley Sanctuary
CATEGORIES:Worship
ATTACH;FMTTYPE=image/jpeg:https://www.orovalley.org/wp-content/uploads/2023/08/CopyrightTaylorNoelPhotography2021-175-354e5a6-scaled.jpg
END:VEVENT
END:VCALENDAR