BEGIN:VCALENDAR
VERSION:2.0
PRODID:-//Resurrection Lutheran Church - ECPv6.15.20//NONSGML v1.0//EN
CALSCALE:GREGORIAN
METHOD:PUBLISH
X-WR-CALNAME:Resurrection Lutheran Church
X-ORIGINAL-URL:https://www.orovalley.org
X-WR-CALDESC:Events for Resurrection Lutheran Church
REFRESH-INTERVAL;VALUE=DURATION:PT1H
X-Robots-Tag:noindex
X-PUBLISHED-TTL:PT1H
BEGIN:VTIMEZONE
TZID:UTC
BEGIN:STANDARD
TZOFFSETFROM:+0000
TZOFFSETTO:+0000
TZNAME:UTC
DTSTART:20240101T000000
END:STANDARD
END:VTIMEZONE
BEGIN:VEVENT
DTSTART;TZID=UTC:20250312T100000
DTEND;TZID=UTC:20250312T113000
DTSTAMP:20260421T093750
CREATED:20241205T000220Z
LAST-MODIFIED:20250114T073511Z
UID:10003977-1741773600-1741779000@www.orovalley.org
SUMMARY:Coping With Grief
DESCRIPTION:Coping With Grief will start its next group on Wednesday\, January 15th at 10:00 AM in the Prayer Room. The group will meet weekly for 10 weeks for 1 1/2 hours sessions and is limited to six participants. \n\n\n\nGrieving the loss of a loved one can be one of the most profound experiences individuals encounter in their lives. Others who have undergone a significant loss can understand well the depth of pain that grief brings. Sharing that experience in a group with others who are going through the same process could provide encouragement and hope for healing. \n\n\n\nCoping With Grief welcomes everyone. To sign up for the next group\, please contact either of the leaders\, Arlyn Norris at acwlnorris@gmail.com\, 402-960-9044 or Pilar Norris at bipiho90@aol.com\, 973-874-3677.
URL:https://www.orovalley.org/event/coping-with-grief/2025-03-12/
END:VEVENT
BEGIN:VEVENT
DTSTART;TZID=UTC:20250312T120000
DTEND;TZID=UTC:20250312T130000
DTSTAMP:20260421T093750
CREATED:20250303T191917Z
LAST-MODIFIED:20250303T192022Z
UID:10004738-1741780800-1741784400@www.orovalley.org
SUMMARY:Mid-Week Lenten Worship Service
DESCRIPTION:
URL:https://www.orovalley.org/event/mid-week-lenten-worship-service/2025-03-12/
LOCATION:Oro Valley Sanctuary
END:VEVENT
BEGIN:VEVENT
DTSTART;TZID=UTC:20250312T123000
DTEND;TZID=UTC:20250312T143000
DTSTAMP:20260421T093750
CREATED:20250206T224155Z
LAST-MODIFIED:20250206T224158Z
UID:10004724-1741782600-1741789800@www.orovalley.org
SUMMARY:PrimeTime Live With Joe Bourne
DESCRIPTION:Voted Best Local Entertainer by Tucson Lifestyle magazine readers. Come for lunch and stay for the show! Reserve your seat now at https://rsvp.church/r/ztKN2dJ9
URL:https://www.orovalley.org/event/primetime-live-with-joe-bourne/
LOCATION:Outreach Center Gymnasium\, 11575 N 1st Ave\, Oro Valley\, AZ\, 85737\, United States
END:VEVENT
BEGIN:VEVENT
DTSTART;TZID=UTC:20250312T150000
DTEND;TZID=UTC:20250312T160000
DTSTAMP:20260421T093750
CREATED:20250114T073956Z
LAST-MODIFIED:20250114T073958Z
UID:10004458-1741791600-1741795200@www.orovalley.org
SUMMARY:Scripture & Salsa
DESCRIPTION:You are invited to join Pastor Carol every Wednesday from 3:00 – 4:00 PM at Mi Tierra Mexican Restaurant in Catalina starting January 8th for an informal discussion of the Bible texts for the upcoming weekend’s worship. No registration is required and there is no long-term commitment. Just grab your Bible and drop by.
URL:https://www.orovalley.org/event/scripture-salsa/2025-03-12/
END:VEVENT
BEGIN:VEVENT
DTSTART;TZID=UTC:20250313T073000
DTEND;TZID=UTC:20250313T150000
DTSTAMP:20260421T093750
CREATED:20250303T194210Z
LAST-MODIFIED:20250303T194223Z
UID:10004756-1741851000-1741878000@www.orovalley.org
SUMMARY:Desert Wanderers Hike of the Texas Canyon Nature Preserve at the Amerind
DESCRIPTION:Located on the private property of the Amerind Museum\, there is a $10 fee for hiking the trails. There are many interesting and unusual rock formations on the relatively easy four-mile hike. Poles are useful in a few places. Bring water and snacks for the devotion time. The drive is 1.5 hours to the Amerind Museum located off of I-10 at the Dragoon exit. The driver donation is $10. We plan to return to RLC by 3:00 PM. To sign up\, email Christine Wells\, 3hondas@msn.com. If you have questions text/call Christine at 703-625-3814.
URL:https://www.orovalley.org/event/desert-wanderers-hike-of-the-texas-canyon-nature-preserve-at-the-amerind/
END:VEVENT
BEGIN:VEVENT
DTSTART;TZID=UTC:20250313T080000
DTEND;TZID=UTC:20250316T170000
DTSTAMP:20260421T093750
CREATED:20240701T203430Z
LAST-MODIFIED:20240701T203628Z
UID:10003589-1741852800-1742144400@www.orovalley.org
SUMMARY:Casas Por Cristo
DESCRIPTION:WHY WE DO IT\n\n\n\nCasas por Cristo exists to open the door for local pastors and churches to share the love of Jesus Christ by serving. \n\n\n\nWHAT WE DO\n\n\n\nOur mission is to build and serve. \n\n\n\nBuildWe are builders. That’s who we are. We build homes for families that need to be reminded that Jesus loves them. We build relationships between volunteers\, families\, and pastors that would otherwise never have met. We strive to build the Kingdom of God by partnering with other local churches and ministries. We strive to build opportunities for growth by creating structured experiences that cause our volunteers to be stretched beyond their comfort zones. \n\n\n\nServeThrough this building process\, God allows us to interact with our teams\, local families\, pastors\, churches\, vendors\, and fellow missionaries. We do not want to take any of these interactions for granted. We believe that these are unique opportunities presented to us by God to serve each other.
URL:https://www.orovalley.org/event/casas-po-cristo-2/
CATEGORIES:Community Care,Serve
ORGANIZER;CN="Clay Mohler":MAILTO:clay.mohler@gmail.com
END:VEVENT
BEGIN:VEVENT
DTSTART;TZID=UTC:20250313T130000
DTEND;TZID=UTC:20250313T160000
DTSTAMP:20260421T093750
CREATED:20241213T002356Z
LAST-MODIFIED:20241213T002359Z
UID:10004060-1741870800-1741881600@www.orovalley.org
SUMMARY:Matching Dragons Mah Jongg
DESCRIPTION:Do you play the game of (American) Mah Jongg and have been looking for a group to play with? Join us on Thursday afternoons 1:00-4:00 PM in Luther’s Lair in the Outreach Center. These are friendly games. We do NOT play for money but we ALWAYS have a good time. This group is for those who already know how to play the game. However\, anyone is invited to come observe to see if they would like to learn to play the game. Questions? Contact Jackie Verdick at jackieverdick@gmail.com or 612-554-0111.
URL:https://www.orovalley.org/event/matching-dragons-mah-jongg/2025-03-13/
END:VEVENT
BEGIN:VEVENT
DTSTART;TZID=UTC:20250314T081500
DTEND;TZID=UTC:20250314T091500
DTSTAMP:20260421T093750
CREATED:20250303T194626Z
LAST-MODIFIED:20250303T194631Z
UID:10004758-1741940100-1741943700@www.orovalley.org
SUMMARY:Primavera Men’s Shelter Lunch Prep
DESCRIPTION:Prep and pack sack lunches for the men’s job program of the Primavera Men’s Shelter. Donations of boxes of snack chips\, apples or oranges\, and homemade cookies are also GREATLY appreciated. \n\n\n\nSign-up sheet on the patio or call the church office for more info.
URL:https://www.orovalley.org/event/primavera-mens-shelter-lunch-prep-2/
LOCATION:Oro Valley Outreach Center Kitchen
END:VEVENT
BEGIN:VEVENT
DTSTART;TZID=UTC:20250314T123000
DTEND;TZID=UTC:20250314T140000
DTSTAMP:20260421T093750
CREATED:20250303T193437Z
LAST-MODIFIED:20250303T193443Z
UID:10004748-1741955400-1741960800@www.orovalley.org
SUMMARY:Ladies Luncheon
DESCRIPTION:Kindly make reservations here \n\n\n\nhttps://rsvp.church/r/ztKN2dJ9 \n\n\n\nWe look forward to you joining us for a delicious lunch and great conversations!
URL:https://www.orovalley.org/event/ladies-luncheon-7/
END:VEVENT
BEGIN:VEVENT
DTSTART;TZID=UTC:20250315T080000
DTEND;TZID=UTC:20250315T090000
DTSTAMP:20260421T093750
CREATED:20240808T201836Z
LAST-MODIFIED:20260210T201221Z
UID:10003640-1742025600-1742029200@www.orovalley.org
SUMMARY:Men's Bible Study
DESCRIPTION:Uses the Serendipity Bible\, copies are available. All men of the church are welcome to attend. Meets in Luther’s Lair.
URL:https://www.orovalley.org/event/mens-bible-study/2025-03-15/
END:VEVENT
BEGIN:VEVENT
DTSTART;TZID=UTC:20250315T170000
DTEND;TZID=UTC:20250315T180000
DTSTAMP:20260421T093750
CREATED:20240130T000623Z
LAST-MODIFIED:20240228T201059Z
UID:10002304-1742058000-1742061600@www.orovalley.org
SUMMARY:5:00 Worship
DESCRIPTION:Join us for worship!  \n\n\n\n\nWorship Online Here\n\n\n\nOnline Bulletins Here
URL:https://www.orovalley.org/event/500-worship-2/2025-03-15/
LOCATION:Oro Valley Sanctuary
CATEGORIES:Worship
ATTACH;FMTTYPE=image/jpeg:https://www.orovalley.org/wp-content/uploads/2023/08/CopyrightTaylorNoelPhotography2021-175-354e5a6-scaled.jpg
END:VEVENT
BEGIN:VEVENT
DTSTART;TZID=UTC:20250316T074500
DTEND;TZID=UTC:20250316T084500
DTSTAMP:20260421T093750
CREATED:20240513T202737Z
LAST-MODIFIED:20240513T202749Z
UID:10000068-1742111100-1742114700@www.orovalley.org
SUMMARY:7:45 Worship
DESCRIPTION:Traditional Worship. Music provided by Resurrection’s Chancel Choir \n\n\n\n\nWorship Online Here\n\n\n\n\n \n\n\n\n\nOnline Bulletins Here
URL:https://www.orovalley.org/event/745-worship-7/2025-03-16/
LOCATION:Oro Valley Sanctuary
CATEGORIES:Worship
ATTACH;FMTTYPE=image/jpeg:https://www.orovalley.org/wp-content/uploads/2023/12/CopyrightTaylorNoelPhotography2021-158-scaled.jpg
END:VEVENT
BEGIN:VEVENT
DTSTART;TZID=UTC:20250316T090000
DTEND;TZID=UTC:20250316T100000
DTSTAMP:20260421T093750
CREATED:20240106T184634Z
LAST-MODIFIED:20240228T200602Z
UID:10001686-1742115600-1742119200@www.orovalley.org
SUMMARY:Worship at SaddleBrooke
DESCRIPTION:Worship Online Here\n\n\n\nOnline Bulletin Here
URL:https://www.orovalley.org/event/worship-at-saddlebrooke/2025-03-16/
LOCATION:SaddleBrooke\, SaddleBrooke HOA2 Clubhouse\, Tucson\, Arizona\, 85739
CATEGORIES:Worship
ATTACH;FMTTYPE=image/jpeg:https://www.orovalley.org/wp-content/uploads/2023/08/sb-worship-pic_3.jpg
END:VEVENT
BEGIN:VEVENT
DTSTART;TZID=UTC:20250316T104500
DTEND;TZID=UTC:20250316T114500
DTSTAMP:20260421T093750
CREATED:20240513T203112Z
LAST-MODIFIED:20240513T203139Z
UID:10001361-1742121900-1742125500@www.orovalley.org
SUMMARY:10:45 Worship - Contemporary
DESCRIPTION:Sunday School\, Confirmation\, High School Sunday School \n\n\n\nChildcare Available \n\n\n\n\nWorship Online Here
URL:https://www.orovalley.org/event/1045-worship-contemporary-4/2025-03-16/
LOCATION:Oro Valley Sanctuary
CATEGORIES:Worship
ATTACH;FMTTYPE=image/jpeg:https://www.orovalley.org/wp-content/uploads/2023/11/CopyrightTaylorNoelPhotography2021-200-scaled.jpg
END:VEVENT
BEGIN:VEVENT
DTSTART;TZID=UTC:20250317T113000
DTEND;TZID=UTC:20250317T123000
DTSTAMP:20260421T093750
CREATED:20250303T192803Z
LAST-MODIFIED:20250303T192807Z
UID:10004744-1742211000-1742214600@www.orovalley.org
SUMMARY:FLIM Golf Classic
DESCRIPTION:See the March Vision for details or contact Bruce Rianda for more information at bruce.rianda@gmail.com
URL:https://www.orovalley.org/event/flim-golf-classic/
LOCATION:Oro Valley Country Club
END:VEVENT
BEGIN:VEVENT
DTSTART;TZID=UTC:20250317T183000
DTEND;TZID=UTC:20250317T200000
DTSTAMP:20260421T093750
CREATED:20241204T233634Z
LAST-MODIFIED:20241204T234546Z
UID:10003948-1742236200-1742241600@www.orovalley.org
SUMMARY:Book Discussion Group: "Simon Peter" by Adam Hamilton First
DESCRIPTION:Katie’s Quarters \n\n\n\nInterested in learning more about Simon Peter\, please join me as we walk through Adam Hamilton’s book\, “Simon Peter” together\, beginning in February\, 2025. We will meet on the first and third Mondays of February (2/3 and 2/17)\, March (3/3 and 3/17)\, and April (4/7 and 4/21) from 6:30 to 8:00 PM for this six-session study. If you are interested\, please contact Rob Hartmann (520-548-8564) or send me an email at rjhartmann70@msn.com
URL:https://www.orovalley.org/event/book-discussion-group-simon-peter-by-adam-hamilton-first/2025-03-17/
END:VEVENT
BEGIN:VEVENT
DTSTART;TZID=UTC:20250318T103000
DTEND;TZID=UTC:20250318T120000
DTSTAMP:20260421T093750
CREATED:20250303T193828Z
LAST-MODIFIED:20250303T193906Z
UID:10004752-1742293800-1742299200@www.orovalley.org
SUMMARY:Book Study: Gift of Being Yourself
DESCRIPTION:
URL:https://www.orovalley.org/event/book-study-gift-of-being-yourself/2025-03-18/
LOCATION:Katie’s Quarters
END:VEVENT
BEGIN:VEVENT
DTSTART;TZID=UTC:20250319T100000
DTEND;TZID=UTC:20250319T113000
DTSTAMP:20260421T093750
CREATED:20241205T000220Z
LAST-MODIFIED:20250114T073511Z
UID:10003978-1742378400-1742383800@www.orovalley.org
SUMMARY:Coping With Grief
DESCRIPTION:Coping With Grief will start its next group on Wednesday\, January 15th at 10:00 AM in the Prayer Room. The group will meet weekly for 10 weeks for 1 1/2 hours sessions and is limited to six participants. \n\n\n\nGrieving the loss of a loved one can be one of the most profound experiences individuals encounter in their lives. Others who have undergone a significant loss can understand well the depth of pain that grief brings. Sharing that experience in a group with others who are going through the same process could provide encouragement and hope for healing. \n\n\n\nCoping With Grief welcomes everyone. To sign up for the next group\, please contact either of the leaders\, Arlyn Norris at acwlnorris@gmail.com\, 402-960-9044 or Pilar Norris at bipiho90@aol.com\, 973-874-3677.
URL:https://www.orovalley.org/event/coping-with-grief/2025-03-19/
END:VEVENT
BEGIN:VEVENT
DTSTART;TZID=UTC:20250319T103000
DTEND;TZID=UTC:20250319T120000
DTSTAMP:20260421T093750
CREATED:20240617T222009Z
LAST-MODIFIED:20240617T222059Z
UID:10003537-1742380200-1742385600@www.orovalley.org
SUMMARY:Parkinson's Support Group
DESCRIPTION:This support group provides encouragement from meeting with others who have Parkinson’s disease\, and for the care givers of those with Parkinson’s. The meetings provide an opportunity to discuss experiences and feelings and to share solutions to common problems.  Meets every 3rd Wednesday of the month in the High School Youth Room.
URL:https://www.orovalley.org/event/parkinsons-support-group-3/2025-03-19/
LOCATION:Youth Room
CATEGORIES:Congregational Care,Serve
ATTACH;FMTTYPE=image/jpeg:https://www.orovalley.org/wp-content/uploads/2024/06/Graphics-3.jpg
END:VEVENT
BEGIN:VEVENT
DTSTART;TZID=UTC:20250319T120000
DTEND;TZID=UTC:20250319T130000
DTSTAMP:20260421T093750
CREATED:20250303T191917Z
LAST-MODIFIED:20250303T192022Z
UID:10004739-1742385600-1742389200@www.orovalley.org
SUMMARY:Mid-Week Lenten Worship Service
DESCRIPTION:
URL:https://www.orovalley.org/event/mid-week-lenten-worship-service/2025-03-19/
LOCATION:Oro Valley Sanctuary
END:VEVENT
BEGIN:VEVENT
DTSTART;TZID=UTC:20250319T150000
DTEND;TZID=UTC:20250319T160000
DTSTAMP:20260421T093750
CREATED:20250114T073956Z
LAST-MODIFIED:20250114T073958Z
UID:10004459-1742396400-1742400000@www.orovalley.org
SUMMARY:Scripture & Salsa
DESCRIPTION:You are invited to join Pastor Carol every Wednesday from 3:00 – 4:00 PM at Mi Tierra Mexican Restaurant in Catalina starting January 8th for an informal discussion of the Bible texts for the upcoming weekend’s worship. No registration is required and there is no long-term commitment. Just grab your Bible and drop by.
URL:https://www.orovalley.org/event/scripture-salsa/2025-03-19/
END:VEVENT
BEGIN:VEVENT
DTSTART;TZID=UTC:20250320T130000
DTEND;TZID=UTC:20250320T160000
DTSTAMP:20260421T093750
CREATED:20241213T002356Z
LAST-MODIFIED:20241213T002359Z
UID:10004061-1742475600-1742486400@www.orovalley.org
SUMMARY:Matching Dragons Mah Jongg
DESCRIPTION:Do you play the game of (American) Mah Jongg and have been looking for a group to play with? Join us on Thursday afternoons 1:00-4:00 PM in Luther’s Lair in the Outreach Center. These are friendly games. We do NOT play for money but we ALWAYS have a good time. This group is for those who already know how to play the game. However\, anyone is invited to come observe to see if they would like to learn to play the game. Questions? Contact Jackie Verdick at jackieverdick@gmail.com or 612-554-0111.
URL:https://www.orovalley.org/event/matching-dragons-mah-jongg/2025-03-20/
END:VEVENT
BEGIN:VEVENT
DTSTART;TZID=UTC:20250321T113000
DTEND;TZID=UTC:20250321T133000
DTSTAMP:20260421T093750
CREATED:20250303T193638Z
LAST-MODIFIED:20250303T193642Z
UID:10004749-1742556600-1742563800@www.orovalley.org
SUMMARY:SaddleBrooke Soul Sisters Lunch
DESCRIPTION:All women are invited. You do not have to be a member of Resurrection SaddleBrooke to attend. We will sing\, pray and have fellowship together. Registration is required. Sign up and payment can be made after Sunday services at SaddleBrooke on March 2nd & 9th. The price of $24\, which includes lunch\, serving fees and tax. No sign up will be accepted after March 14th. Checks can be made to Ann Patterson\, questions 414-737-8542.
URL:https://www.orovalley.org/event/saddlebrooke-soul-sisters-lunch/
LOCATION:Agave Lounge\, SaddleBrooke HOA1
END:VEVENT
BEGIN:VEVENT
DTSTART;TZID=UTC:20250322T090000
DTEND;TZID=UTC:20250322T110000
DTSTAMP:20260421T093750
CREATED:20241204T235925Z
LAST-MODIFIED:20241205T000850Z
UID:10003962-1742634000-1742641200@www.orovalley.org
SUMMARY:Women's Faithful Living Fellowship
DESCRIPTION:Join us for a 10-session study which meets every third Saturday from 9:00 AM – 11:00 AM for coffee\, snacks and fellowship\, followed by a film and small discussion groups. We will study the book “Having a Mary Heart in a Martha World: Finding Intimacy with God in the Business of Life” by Joanna Weaver. \n\n\n\nSign up on orovalley.org. Space is limited.
URL:https://www.orovalley.org/event/womens-faithful-living-fellowship-2/2025-03-22/
END:VEVENT
BEGIN:VEVENT
DTSTART;TZID=UTC:20250322T170000
DTEND;TZID=UTC:20250322T180000
DTSTAMP:20260421T093750
CREATED:20240130T000623Z
LAST-MODIFIED:20240228T201059Z
UID:10002305-1742662800-1742666400@www.orovalley.org
SUMMARY:5:00 Worship
DESCRIPTION:Join us for worship!  \n\n\n\n\nWorship Online Here\n\n\n\nOnline Bulletins Here
URL:https://www.orovalley.org/event/500-worship-2/2025-03-22/
LOCATION:Oro Valley Sanctuary
CATEGORIES:Worship
ATTACH;FMTTYPE=image/jpeg:https://www.orovalley.org/wp-content/uploads/2023/08/CopyrightTaylorNoelPhotography2021-175-354e5a6-scaled.jpg
END:VEVENT
BEGIN:VEVENT
DTSTART;TZID=UTC:20250323T074500
DTEND;TZID=UTC:20250323T084500
DTSTAMP:20260421T093750
CREATED:20240513T202737Z
LAST-MODIFIED:20240513T202749Z
UID:10000069-1742715900-1742719500@www.orovalley.org
SUMMARY:7:45 Worship
DESCRIPTION:Traditional Worship. Music provided by Resurrection’s Chancel Choir \n\n\n\n\nWorship Online Here\n\n\n\n\n \n\n\n\n\nOnline Bulletins Here
URL:https://www.orovalley.org/event/745-worship-7/2025-03-23/
LOCATION:Oro Valley Sanctuary
CATEGORIES:Worship
ATTACH;FMTTYPE=image/jpeg:https://www.orovalley.org/wp-content/uploads/2023/12/CopyrightTaylorNoelPhotography2021-158-scaled.jpg
END:VEVENT
BEGIN:VEVENT
DTSTART;TZID=UTC:20250323T080000
DTEND;TZID=UTC:20250323T120000
DTSTAMP:20260421T093750
CREATED:20250303T193245Z
LAST-MODIFIED:20250303T193251Z
UID:10004747-1742716800-1742731200@www.orovalley.org
SUMMARY:AbH Boutique Sale
DESCRIPTION:
URL:https://www.orovalley.org/event/abh-boutique-sale/
END:VEVENT
BEGIN:VEVENT
DTSTART;TZID=UTC:20250323T090000
DTEND;TZID=UTC:20250323T100000
DTSTAMP:20260421T093750
CREATED:20240106T184634Z
LAST-MODIFIED:20240228T200602Z
UID:10001687-1742720400-1742724000@www.orovalley.org
SUMMARY:Worship at SaddleBrooke
DESCRIPTION:Worship Online Here\n\n\n\nOnline Bulletin Here
URL:https://www.orovalley.org/event/worship-at-saddlebrooke/2025-03-23/
LOCATION:SaddleBrooke\, SaddleBrooke HOA2 Clubhouse\, Tucson\, Arizona\, 85739
CATEGORIES:Worship
ATTACH;FMTTYPE=image/jpeg:https://www.orovalley.org/wp-content/uploads/2023/08/sb-worship-pic_3.jpg
END:VEVENT
BEGIN:VEVENT
DTSTART;TZID=UTC:20250323T104500
DTEND;TZID=UTC:20250323T114500
DTSTAMP:20260421T093750
CREATED:20240513T203112Z
LAST-MODIFIED:20240513T203139Z
UID:10001362-1742726700-1742730300@www.orovalley.org
SUMMARY:10:45 Worship - Contemporary
DESCRIPTION:Sunday School\, Confirmation\, High School Sunday School \n\n\n\nChildcare Available \n\n\n\n\nWorship Online Here
URL:https://www.orovalley.org/event/1045-worship-contemporary-4/2025-03-23/
LOCATION:Oro Valley Sanctuary
CATEGORIES:Worship
ATTACH;FMTTYPE=image/jpeg:https://www.orovalley.org/wp-content/uploads/2023/11/CopyrightTaylorNoelPhotography2021-200-scaled.jpg
END:VEVENT
BEGIN:VEVENT
DTSTART;TZID=UTC:20250325T080000
DTEND;TZID=UTC:20250325T133000
DTSTAMP:20260421T093750
CREATED:20250303T194747Z
LAST-MODIFIED:20250303T194752Z
UID:10004759-1742889600-1742909400@www.orovalley.org
SUMMARY:American Red Cross Blood Drive
DESCRIPTION:Give the gift of life\, donate blood! Sign up today! \n\n\n\nhttps://www.redcrossblood.org/give.html/drive-results?zipSponsor=RESURRECTION
URL:https://www.orovalley.org/event/american-red-cross-blood-drive-5/
LOCATION:Katie’s Quarters
END:VEVENT
END:VCALENDAR