BEGIN:VCALENDAR
VERSION:2.0
PRODID:-//Resurrection Lutheran Church - ECPv6.15.20//NONSGML v1.0//EN
CALSCALE:GREGORIAN
METHOD:PUBLISH
X-WR-CALNAME:Resurrection Lutheran Church
X-ORIGINAL-URL:https://www.orovalley.org
X-WR-CALDESC:Events for Resurrection Lutheran Church
REFRESH-INTERVAL;VALUE=DURATION:PT1H
X-Robots-Tag:noindex
X-PUBLISHED-TTL:PT1H
BEGIN:VTIMEZONE
TZID:UTC
BEGIN:STANDARD
TZOFFSETFROM:+0000
TZOFFSETTO:+0000
TZNAME:UTC
DTSTART:20230101T000000
END:STANDARD
END:VTIMEZONE
BEGIN:VEVENT
DTSTART;TZID=UTC:20241103T074500
DTEND;TZID=UTC:20241103T084500
DTSTAMP:20260422T024459
CREATED:20240513T202737Z
LAST-MODIFIED:20240513T202749Z
UID:10000049-1730619900-1730623500@www.orovalley.org
SUMMARY:7:45 Worship
DESCRIPTION:Traditional Worship. Music provided by Resurrection’s Chancel Choir \n\n\n\n\nWorship Online Here\n\n\n\n\n \n\n\n\n\nOnline Bulletins Here
URL:https://www.orovalley.org/event/745-worship-7/2024-11-03/
LOCATION:Oro Valley Sanctuary
CATEGORIES:Worship
ATTACH;FMTTYPE=image/jpeg:https://www.orovalley.org/wp-content/uploads/2023/12/CopyrightTaylorNoelPhotography2021-158-scaled.jpg
END:VEVENT
BEGIN:VEVENT
DTSTART;TZID=UTC:20241102T170000
DTEND;TZID=UTC:20241102T180000
DTSTAMP:20260422T024459
CREATED:20240130T000623Z
LAST-MODIFIED:20240228T201059Z
UID:10002285-1730566800-1730570400@www.orovalley.org
SUMMARY:5:00 Worship
DESCRIPTION:Join us for worship!  \n\n\n\n\nWorship Online Here\n\n\n\nOnline Bulletins Here
URL:https://www.orovalley.org/event/500-worship-2/2024-11-02/
LOCATION:Oro Valley Sanctuary
CATEGORIES:Worship
ATTACH;FMTTYPE=image/jpeg:https://www.orovalley.org/wp-content/uploads/2023/08/CopyrightTaylorNoelPhotography2021-175-354e5a6-scaled.jpg
END:VEVENT
BEGIN:VEVENT
DTSTART;TZID=UTC:20241102T090000
DTEND;TZID=UTC:20241102T093000
DTSTAMP:20260422T024459
CREATED:20241031T204626Z
LAST-MODIFIED:20241031T204629Z
UID:10003923-1730538000-1730539800@www.orovalley.org
SUMMARY:Pet Blessing
DESCRIPTION:We gather together with our furry\, feathery\, and scaly friends for a blessing of the animals. All creatures\, great and small\, are welcome! 
URL:https://www.orovalley.org/event/pet-blessing/
LOCATION:Memorial Plaza\, 11575 1st Ave.\, Oro Valley\, Arizona\, 85737\, United States
END:VEVENT
BEGIN:VEVENT
DTSTART;TZID=UTC:20241102T073000
DTEND;TZID=UTC:20241102T093000
DTSTAMP:20260422T024459
CREATED:20240911T190622Z
LAST-MODIFIED:20241001T202124Z
UID:10002534-1730532600-1730539800@www.orovalley.org
SUMMARY:Men's Breakfast
DESCRIPTION:This group meets monthly\, October through May on the first Saturday of the month\, for breakfast\, socializing and learning. There is always a guest speaker. Catered breakfast is included with the $10 cost of admission. \n\n\n\nThis months speaker will be announced closer to the event date.  \n\n\n\nClick Here to RSVP
URL:https://www.orovalley.org/event/mensbreakfast/2024-11-02/
LOCATION:Outreach Center Gymnasium\, 11575 N 1st Ave\, Oro Valley\, AZ\, 85737\, United States
CATEGORIES:Men's Breakfast
ATTACH;FMTTYPE=image/jpeg:https://www.orovalley.org/wp-content/uploads/2023/12/27.jpg
END:VEVENT
BEGIN:VEVENT
DTSTART;TZID=UTC:20241027T120000
DTEND;TZID=UTC:20241027T140000
DTSTAMP:20260422T024459
CREATED:20240827T202312Z
LAST-MODIFIED:20240910T184121Z
UID:10003756-1730030400-1730037600@www.orovalley.org
SUMMARY:New Member Class
DESCRIPTION:Join us for our next new member class. Sign up on the welcome table after worship or contact Kristina Randolph for more information at krandolph@orovalley.org
URL:https://www.orovalley.org/event/new-member-class-2/
LOCATION:Katie’s Quarters
END:VEVENT
BEGIN:VEVENT
DTSTART;TZID=UTC:20241027T104500
DTEND;TZID=UTC:20241027T114500
DTSTAMP:20260422T024459
CREATED:20240513T203112Z
LAST-MODIFIED:20240513T203139Z
UID:10001341-1730025900-1730029500@www.orovalley.org
SUMMARY:10:45 Worship - Contemporary
DESCRIPTION:Sunday School\, Confirmation\, High School Sunday School \n\n\n\nChildcare Available \n\n\n\n\nWorship Online Here
URL:https://www.orovalley.org/event/1045-worship-contemporary-4/2024-10-27/
LOCATION:Oro Valley Sanctuary
CATEGORIES:Worship
ATTACH;FMTTYPE=image/jpeg:https://www.orovalley.org/wp-content/uploads/2023/11/CopyrightTaylorNoelPhotography2021-200-scaled.jpg
END:VEVENT
BEGIN:VEVENT
DTSTART;TZID=UTC:20241027T090000
DTEND;TZID=UTC:20241027T100000
DTSTAMP:20260422T024459
CREATED:20240106T184634Z
LAST-MODIFIED:20240228T200602Z
UID:10001666-1730019600-1730023200@www.orovalley.org
SUMMARY:Worship at SaddleBrooke
DESCRIPTION:Worship Online Here\n\n\n\nOnline Bulletin Here
URL:https://www.orovalley.org/event/worship-at-saddlebrooke/2024-10-27/
LOCATION:SaddleBrooke\, SaddleBrooke HOA2 Clubhouse\, Tucson\, Arizona\, 85739
CATEGORIES:Worship
ATTACH;FMTTYPE=image/jpeg:https://www.orovalley.org/wp-content/uploads/2023/08/sb-worship-pic_3.jpg
END:VEVENT
BEGIN:VEVENT
DTSTART;TZID=UTC:20241027T074500
DTEND;TZID=UTC:20241027T084500
DTSTAMP:20260422T024459
CREATED:20240513T202737Z
LAST-MODIFIED:20240513T202749Z
UID:10000048-1730015100-1730018700@www.orovalley.org
SUMMARY:7:45 Worship
DESCRIPTION:Traditional Worship. Music provided by Resurrection’s Chancel Choir \n\n\n\n\nWorship Online Here\n\n\n\n\n \n\n\n\n\nOnline Bulletins Here
URL:https://www.orovalley.org/event/745-worship-7/2024-10-27/
LOCATION:Oro Valley Sanctuary
CATEGORIES:Worship
ATTACH;FMTTYPE=image/jpeg:https://www.orovalley.org/wp-content/uploads/2023/12/CopyrightTaylorNoelPhotography2021-158-scaled.jpg
END:VEVENT
BEGIN:VEVENT
DTSTART;TZID=UTC:20241026T170000
DTEND;TZID=UTC:20241026T180000
DTSTAMP:20260422T024459
CREATED:20240130T000623Z
LAST-MODIFIED:20240228T201059Z
UID:10002284-1729962000-1729965600@www.orovalley.org
SUMMARY:5:00 Worship
DESCRIPTION:Join us for worship!  \n\n\n\n\nWorship Online Here\n\n\n\nOnline Bulletins Here
URL:https://www.orovalley.org/event/500-worship-2/2024-10-26/
LOCATION:Oro Valley Sanctuary
CATEGORIES:Worship
ATTACH;FMTTYPE=image/jpeg:https://www.orovalley.org/wp-content/uploads/2023/08/CopyrightTaylorNoelPhotography2021-175-354e5a6-scaled.jpg
END:VEVENT
BEGIN:VEVENT
DTSTART;TZID=UTC:20241026T080000
DTEND;TZID=UTC:20241026T090000
DTSTAMP:20260422T024459
CREATED:20240808T201836Z
LAST-MODIFIED:20260210T201221Z
UID:10003630-1729929600-1729933200@www.orovalley.org
SUMMARY:Men's Bible Study
DESCRIPTION:Uses the Serendipity Bible\, copies are available. All men of the church are welcome to attend. Meets in Luther’s Lair.
URL:https://www.orovalley.org/event/mens-bible-study/2024-10-26/
END:VEVENT
BEGIN:VEVENT
DTSTART;TZID=UTC:20241022T183000
DTEND;TZID=UTC:20241022T203000
DTSTAMP:20260422T024459
CREATED:20240910T192133Z
LAST-MODIFIED:20240910T192135Z
UID:10003827-1729621800-1729629000@www.orovalley.org
SUMMARY:Resurrection Card Players
DESCRIPTION:RLC Card Players meets every second and fourth Tuesday of the month. No reservation necessary. Please bring a snack to share and your own beverage. We play a variety of card games and we’re happy to teach you if you don’t know how to play. Everyone is welcome.
URL:https://www.orovalley.org/event/resurrection-card-players-2/2024-10-22/
LOCATION:Luther’s Lair
END:VEVENT
BEGIN:VEVENT
DTSTART;TZID=UTC:20241020T104500
DTEND;TZID=UTC:20241020T114500
DTSTAMP:20260422T024459
CREATED:20240513T203112Z
LAST-MODIFIED:20240513T203139Z
UID:10001340-1729421100-1729424700@www.orovalley.org
SUMMARY:10:45 Worship - Contemporary
DESCRIPTION:Sunday School\, Confirmation\, High School Sunday School \n\n\n\nChildcare Available \n\n\n\n\nWorship Online Here
URL:https://www.orovalley.org/event/1045-worship-contemporary-4/2024-10-20/
LOCATION:Oro Valley Sanctuary
CATEGORIES:Worship
ATTACH;FMTTYPE=image/jpeg:https://www.orovalley.org/wp-content/uploads/2023/11/CopyrightTaylorNoelPhotography2021-200-scaled.jpg
END:VEVENT
BEGIN:VEVENT
DTSTART;TZID=UTC:20241020T090000
DTEND;TZID=UTC:20241020T100000
DTSTAMP:20260422T024459
CREATED:20240106T184634Z
LAST-MODIFIED:20240228T200602Z
UID:10001665-1729414800-1729418400@www.orovalley.org
SUMMARY:Worship at SaddleBrooke
DESCRIPTION:Worship Online Here\n\n\n\nOnline Bulletin Here
URL:https://www.orovalley.org/event/worship-at-saddlebrooke/2024-10-20/
LOCATION:SaddleBrooke\, SaddleBrooke HOA2 Clubhouse\, Tucson\, Arizona\, 85739
CATEGORIES:Worship
ATTACH;FMTTYPE=image/jpeg:https://www.orovalley.org/wp-content/uploads/2023/08/sb-worship-pic_3.jpg
END:VEVENT
BEGIN:VEVENT
DTSTART;TZID=UTC:20241020T074500
DTEND;TZID=UTC:20241020T084500
DTSTAMP:20260422T024459
CREATED:20240513T202737Z
LAST-MODIFIED:20240513T202749Z
UID:10000047-1729410300-1729413900@www.orovalley.org
SUMMARY:7:45 Worship
DESCRIPTION:Traditional Worship. Music provided by Resurrection’s Chancel Choir \n\n\n\n\nWorship Online Here\n\n\n\n\n \n\n\n\n\nOnline Bulletins Here
URL:https://www.orovalley.org/event/745-worship-7/2024-10-20/
LOCATION:Oro Valley Sanctuary
CATEGORIES:Worship
ATTACH;FMTTYPE=image/jpeg:https://www.orovalley.org/wp-content/uploads/2023/12/CopyrightTaylorNoelPhotography2021-158-scaled.jpg
END:VEVENT
BEGIN:VEVENT
DTSTART;TZID=UTC:20241019T170000
DTEND;TZID=UTC:20241019T200000
DTSTAMP:20260422T024459
CREATED:20240808T190520Z
LAST-MODIFIED:20240827T185256Z
UID:10003628-1729357200-1729368000@www.orovalley.org
SUMMARY:Fall Festival
DESCRIPTION:Join us after worship for this fun-filled event for the whole family! There will be trunk or treating\, a chili cook-off\, food\, games\, a cake walk\, inflatables and so much more! \n\n\n\nSign up to help that evening. Click here. \n\n\n\nSign up for teams to help coordinate in advance. Click here.
URL:https://www.orovalley.org/event/fall-festival/
LOCATION:The Patio\, 11575 N 1st Ave\, Oro Valley\, AZ\, 85737\, United States
ORGANIZER;CN="Brenda O'Connor":MAILTO:boconnor2222@yahoo.com
END:VEVENT
BEGIN:VEVENT
DTSTART;TZID=UTC:20241019T170000
DTEND;TZID=UTC:20241019T180000
DTSTAMP:20260422T024459
CREATED:20240130T000623Z
LAST-MODIFIED:20240228T201059Z
UID:10002283-1729357200-1729360800@www.orovalley.org
SUMMARY:5:00 Worship
DESCRIPTION:Join us for worship!  \n\n\n\n\nWorship Online Here\n\n\n\nOnline Bulletins Here
URL:https://www.orovalley.org/event/500-worship-2/2024-10-19/
LOCATION:Oro Valley Sanctuary
CATEGORIES:Worship
ATTACH;FMTTYPE=image/jpeg:https://www.orovalley.org/wp-content/uploads/2023/08/CopyrightTaylorNoelPhotography2021-175-354e5a6-scaled.jpg
END:VEVENT
BEGIN:VEVENT
DTSTART;TZID=UTC:20241018T113000
DTEND;TZID=UTC:20241018T133000
DTSTAMP:20260422T024459
CREATED:20240910T185552Z
LAST-MODIFIED:20240910T185554Z
UID:10003764-1729251000-1729258200@www.orovalley.org
SUMMARY:SaddleBrooke Soul Sisters
DESCRIPTION:Agave Lounge – SaddleBrooke HOA1 \n\n\n\nRegistration of $22 due no later than October 6th. Cash or check to Sue Wilson supawilson1@gmail.com Speaker will be Pastor Carol George.
URL:https://www.orovalley.org/event/saddlebrooke-soul-sisters/
LOCATION:Agave Lounge\, SaddleBrooke HOA1
END:VEVENT
BEGIN:VEVENT
DTSTART;TZID=UTC:20241016T113000
DTEND;TZID=UTC:20241016T133000
DTSTAMP:20260422T024459
CREATED:20240827T204135Z
LAST-MODIFIED:20240827T204656Z
UID:10003759-1729078200-1729085400@www.orovalley.org
SUMMARY:PrimeTime
DESCRIPTION:Join us for fun\, food and fellowship! A delicious home cooked meal of brats with all the fixings\, baked beans\, sauerkraut\, macaroni salad\, potato chips and ice cream for dessert. This month’s activity is BINGO with great prizes! $10 per person. Sign up here: https://rsvp.church/r/ztKN2dJ9
URL:https://www.orovalley.org/event/primetime-4/
ATTACH;FMTTYPE=image/png:https://www.orovalley.org/wp-content/uploads/2024/08/PrimeTime-Logo.png
END:VEVENT
BEGIN:VEVENT
DTSTART;TZID=UTC:20241016T103000
DTEND;TZID=UTC:20241016T120000
DTSTAMP:20260422T024459
CREATED:20240617T222009Z
LAST-MODIFIED:20240617T222059Z
UID:10003532-1729074600-1729080000@www.orovalley.org
SUMMARY:Parkinson's Support Group
DESCRIPTION:This support group provides encouragement from meeting with others who have Parkinson’s disease\, and for the care givers of those with Parkinson’s. The meetings provide an opportunity to discuss experiences and feelings and to share solutions to common problems.  Meets every 3rd Wednesday of the month in the High School Youth Room.
URL:https://www.orovalley.org/event/parkinsons-support-group-3/2024-10-16/
LOCATION:Youth Room
CATEGORIES:Congregational Care,Serve
ATTACH;FMTTYPE=image/jpeg:https://www.orovalley.org/wp-content/uploads/2024/06/Graphics-3.jpg
END:VEVENT
BEGIN:VEVENT
DTSTART;TZID=UTC:20241013T104500
DTEND;TZID=UTC:20241013T114500
DTSTAMP:20260422T024459
CREATED:20240513T203112Z
LAST-MODIFIED:20240513T203139Z
UID:10001339-1728816300-1728819900@www.orovalley.org
SUMMARY:10:45 Worship - Contemporary
DESCRIPTION:Sunday School\, Confirmation\, High School Sunday School \n\n\n\nChildcare Available \n\n\n\n\nWorship Online Here
URL:https://www.orovalley.org/event/1045-worship-contemporary-4/2024-10-13/
LOCATION:Oro Valley Sanctuary
CATEGORIES:Worship
ATTACH;FMTTYPE=image/jpeg:https://www.orovalley.org/wp-content/uploads/2023/11/CopyrightTaylorNoelPhotography2021-200-scaled.jpg
END:VEVENT
BEGIN:VEVENT
DTSTART;TZID=UTC:20241013T090000
DTEND;TZID=UTC:20241013T100000
DTSTAMP:20260422T024459
CREATED:20240106T184634Z
LAST-MODIFIED:20240228T200602Z
UID:10001664-1728810000-1728813600@www.orovalley.org
SUMMARY:Worship at SaddleBrooke
DESCRIPTION:Worship Online Here\n\n\n\nOnline Bulletin Here
URL:https://www.orovalley.org/event/worship-at-saddlebrooke/2024-10-13/
LOCATION:SaddleBrooke\, SaddleBrooke HOA2 Clubhouse\, Tucson\, Arizona\, 85739
CATEGORIES:Worship
ATTACH;FMTTYPE=image/jpeg:https://www.orovalley.org/wp-content/uploads/2023/08/sb-worship-pic_3.jpg
END:VEVENT
BEGIN:VEVENT
DTSTART;TZID=UTC:20241013T074500
DTEND;TZID=UTC:20241013T084500
DTSTAMP:20260422T024459
CREATED:20240513T202737Z
LAST-MODIFIED:20240513T202749Z
UID:10000046-1728805500-1728809100@www.orovalley.org
SUMMARY:7:45 Worship
DESCRIPTION:Traditional Worship. Music provided by Resurrection’s Chancel Choir \n\n\n\n\nWorship Online Here\n\n\n\n\n \n\n\n\n\nOnline Bulletins Here
URL:https://www.orovalley.org/event/745-worship-7/2024-10-13/
LOCATION:Oro Valley Sanctuary
CATEGORIES:Worship
ATTACH;FMTTYPE=image/jpeg:https://www.orovalley.org/wp-content/uploads/2023/12/CopyrightTaylorNoelPhotography2021-158-scaled.jpg
END:VEVENT
BEGIN:VEVENT
DTSTART;TZID=UTC:20241012T170000
DTEND;TZID=UTC:20241012T180000
DTSTAMP:20260422T024459
CREATED:20240130T000623Z
LAST-MODIFIED:20240228T201059Z
UID:10002282-1728752400-1728756000@www.orovalley.org
SUMMARY:5:00 Worship
DESCRIPTION:Join us for worship!  \n\n\n\n\nWorship Online Here\n\n\n\nOnline Bulletins Here
URL:https://www.orovalley.org/event/500-worship-2/2024-10-12/
LOCATION:Oro Valley Sanctuary
CATEGORIES:Worship
ATTACH;FMTTYPE=image/jpeg:https://www.orovalley.org/wp-content/uploads/2023/08/CopyrightTaylorNoelPhotography2021-175-354e5a6-scaled.jpg
END:VEVENT
BEGIN:VEVENT
DTSTART;TZID=UTC:20241012T090000
DTEND;TZID=UTC:20241012T140000
DTSTAMP:20260422T024459
CREATED:20240910T193221Z
LAST-MODIFIED:20240910T193224Z
UID:10003887-1728723600-1728741600@www.orovalley.org
SUMMARY:2024 Craft Fair
DESCRIPTION:Calling all crafters! If you have crafts to sell\, join us! Open to the public. Simply stop in the church office for a registration form. For more information\, please contact the church office. 520-575-9901.
URL:https://www.orovalley.org/event/2024-craft-fair/
END:VEVENT
BEGIN:VEVENT
DTSTART;TZID=UTC:20241012T080000
DTEND;TZID=UTC:20241012T090000
DTSTAMP:20260422T024459
CREATED:20240808T201836Z
LAST-MODIFIED:20260210T201221Z
UID:10003629-1728720000-1728723600@www.orovalley.org
SUMMARY:Men's Bible Study
DESCRIPTION:Uses the Serendipity Bible\, copies are available. All men of the church are welcome to attend. Meets in Luther’s Lair.
URL:https://www.orovalley.org/event/mens-bible-study/2024-10-12/
END:VEVENT
BEGIN:VEVENT
DTSTART;TZID=UTC:20241008T183000
DTEND;TZID=UTC:20241008T203000
DTSTAMP:20260422T024459
CREATED:20241001T203703Z
LAST-MODIFIED:20241001T203703Z
UID:10003767-1728412200-1728419400@www.orovalley.org
SUMMARY:Resurrection Card Players
DESCRIPTION:RLC Card Players meets every second and fourth Tuesday of the month. No reservation necessary. Please bring a snack to share and your own beverage. We play a variety of card games and we’re happy to teach you if you don’t know how to play. Everyone is welcome.
URL:https://www.orovalley.org/event/resurrection-card-players-3/
LOCATION:Luther’s Lair
END:VEVENT
BEGIN:VEVENT
DTSTART;TZID=UTC:20241006T104500
DTEND;TZID=UTC:20241006T114500
DTSTAMP:20260422T024459
CREATED:20240513T203112Z
LAST-MODIFIED:20240513T203139Z
UID:10001338-1728211500-1728215100@www.orovalley.org
SUMMARY:10:45 Worship - Contemporary
DESCRIPTION:Sunday School\, Confirmation\, High School Sunday School \n\n\n\nChildcare Available \n\n\n\n\nWorship Online Here
URL:https://www.orovalley.org/event/1045-worship-contemporary-4/2024-10-06/
LOCATION:Oro Valley Sanctuary
CATEGORIES:Worship
ATTACH;FMTTYPE=image/jpeg:https://www.orovalley.org/wp-content/uploads/2023/11/CopyrightTaylorNoelPhotography2021-200-scaled.jpg
END:VEVENT
BEGIN:VEVENT
DTSTART;TZID=UTC:20241006T090000
DTEND;TZID=UTC:20241006T100000
DTSTAMP:20260422T024459
CREATED:20240106T184634Z
LAST-MODIFIED:20240228T200602Z
UID:10001663-1728205200-1728208800@www.orovalley.org
SUMMARY:Worship at SaddleBrooke
DESCRIPTION:Worship Online Here\n\n\n\nOnline Bulletin Here
URL:https://www.orovalley.org/event/worship-at-saddlebrooke/2024-10-06/
LOCATION:SaddleBrooke\, SaddleBrooke HOA2 Clubhouse\, Tucson\, Arizona\, 85739
CATEGORIES:Worship
ATTACH;FMTTYPE=image/jpeg:https://www.orovalley.org/wp-content/uploads/2023/08/sb-worship-pic_3.jpg
END:VEVENT
BEGIN:VEVENT
DTSTART;TZID=UTC:20241006T074500
DTEND;TZID=UTC:20241006T084500
DTSTAMP:20260422T024459
CREATED:20240513T202737Z
LAST-MODIFIED:20240513T202749Z
UID:10000045-1728200700-1728204300@www.orovalley.org
SUMMARY:7:45 Worship
DESCRIPTION:Traditional Worship. Music provided by Resurrection’s Chancel Choir \n\n\n\n\nWorship Online Here\n\n\n\n\n \n\n\n\n\nOnline Bulletins Here
URL:https://www.orovalley.org/event/745-worship-7/2024-10-06/
LOCATION:Oro Valley Sanctuary
CATEGORIES:Worship
ATTACH;FMTTYPE=image/jpeg:https://www.orovalley.org/wp-content/uploads/2023/12/CopyrightTaylorNoelPhotography2021-158-scaled.jpg
END:VEVENT
BEGIN:VEVENT
DTSTART;TZID=UTC:20241005T170000
DTEND;TZID=UTC:20241005T180000
DTSTAMP:20260422T024459
CREATED:20240130T000623Z
LAST-MODIFIED:20240228T201059Z
UID:10002281-1728147600-1728151200@www.orovalley.org
SUMMARY:5:00 Worship
DESCRIPTION:Join us for worship!  \n\n\n\n\nWorship Online Here\n\n\n\nOnline Bulletins Here
URL:https://www.orovalley.org/event/500-worship-2/2024-10-05/
LOCATION:Oro Valley Sanctuary
CATEGORIES:Worship
ATTACH;FMTTYPE=image/jpeg:https://www.orovalley.org/wp-content/uploads/2023/08/CopyrightTaylorNoelPhotography2021-175-354e5a6-scaled.jpg
END:VEVENT
END:VCALENDAR