BEGIN:VCALENDAR
VERSION:2.0
PRODID:-//Resurrection Lutheran Church - ECPv6.15.17//NONSGML v1.0//EN
CALSCALE:GREGORIAN
METHOD:PUBLISH
X-ORIGINAL-URL:https://www.orovalley.org
X-WR-CALDESC:Events for Resurrection Lutheran Church
REFRESH-INTERVAL;VALUE=DURATION:PT1H
X-Robots-Tag:noindex
X-PUBLISHED-TTL:PT1H
BEGIN:VTIMEZONE
TZID:UTC
BEGIN:STANDARD
TZOFFSETFROM:+0000
TZOFFSETTO:+0000
TZNAME:UTC
DTSTART:20240101T000000
END:STANDARD
END:VTIMEZONE
BEGIN:VEVENT
DTSTART;TZID=UTC:20250706T100000
DTEND;TZID=UTC:20250706T110000
DTSTAMP:20260420T060542
CREATED:20250610T164641Z
LAST-MODIFIED:20250610T164646Z
UID:10004982-1751796000-1751799600@www.orovalley.org
SUMMARY:10:00 Worship - Contemporary
DESCRIPTION:Sunday School\, Confirmation\, High School Sunday School \n\n\n\nChildcare Available \n\n\n\n\nWorship Online Here
URL:https://www.orovalley.org/event/1045-worship-contemporary-6/2025-07-06/
LOCATION:Oro Valley Sanctuary
CATEGORIES:Worship
ATTACH;FMTTYPE=image/jpeg:https://www.orovalley.org/wp-content/uploads/2023/11/CopyrightTaylorNoelPhotography2021-200-scaled.jpg
END:VEVENT
BEGIN:VEVENT
DTSTART;TZID=UTC:20250708T080000
DTEND;TZID=UTC:20250708T170000
DTSTAMP:20260420T060542
CREATED:20250701T213751Z
LAST-MODIFIED:20250701T213754Z
UID:10005134-1751961600-1751994000@www.orovalley.org
SUMMARY:RLC Card Players
DESCRIPTION:In the Music Room
URL:https://www.orovalley.org/event/rlc-card-players-2/2025-07-08/
LOCATION:Katie’s Quarters
END:VEVENT
BEGIN:VEVENT
DTSTART;TZID=UTC:20250708T183000
DTEND;TZID=UTC:20250708T203000
DTSTAMP:20260420T060542
CREATED:20240910T191442Z
LAST-MODIFIED:20240910T191955Z
UID:10003776-1751999400-1752006600@www.orovalley.org
SUMMARY:Resurrection Card Players
DESCRIPTION:RLC Card Players meets every second and fourth Tuesday of the month. No reservation necessary. Please bring a snack to share and your own beverage. We play a variety of card games and we’re happy to teach you if you don’t know how to play. Everyone is welcome.
URL:https://www.orovalley.org/event/resurrection-card-players/2025-07-08/
LOCATION:Luther’s Lair
END:VEVENT
BEGIN:VEVENT
DTSTART;TZID=UTC:20250709T080000
DTEND;TZID=UTC:20250709T133000
DTSTAMP:20260420T060542
CREATED:20250630T190905Z
LAST-MODIFIED:20250630T190908Z
UID:10005129-1752048000-1752067800@www.orovalley.org
SUMMARY:American Red Cross Blood Drive
DESCRIPTION:Give the gift of life\, donate blood! Sign up online: https://www.redcrossblood.org/give.html/drive-results?zipSponsor=RESURRECTION
URL:https://www.orovalley.org/event/american-red-cross-blood-drive-9/
LOCATION:Katie’s Quarters
END:VEVENT
BEGIN:VEVENT
DTSTART;TZID=UTC:20250710T130000
DTEND;TZID=UTC:20250710T160000
DTSTAMP:20260420T060542
CREATED:20241213T002356Z
LAST-MODIFIED:20241213T002359Z
UID:10004077-1752152400-1752163200@www.orovalley.org
SUMMARY:Matching Dragons Mah Jongg
DESCRIPTION:Do you play the game of (American) Mah Jongg and have been looking for a group to play with? Join us on Thursday afternoons 1:00-4:00 PM in Luther’s Lair in the Outreach Center. These are friendly games. We do NOT play for money but we ALWAYS have a good time. This group is for those who already know how to play the game. However\, anyone is invited to come observe to see if they would like to learn to play the game. Questions? Contact Jackie Verdick at jackieverdick@gmail.com or 612-554-0111.
URL:https://www.orovalley.org/event/matching-dragons-mah-jongg/2025-07-10/
END:VEVENT
BEGIN:VEVENT
DTSTART;TZID=UTC:20250711T123000
DTEND;TZID=UTC:20250711T143000
DTSTAMP:20260420T060542
CREATED:20250630T185714Z
LAST-MODIFIED:20250630T185719Z
UID:10005128-1752237000-1752244200@www.orovalley.org
SUMMARY:Ladies Luncheon
DESCRIPTION:Luncheon at The Overlook Restaurant
URL:https://www.orovalley.org/event/ladies-luncheon-11/
LOCATION:The Overlook Restaurant\, 10555 N La Cañada Dr\, Tucson\, AZ 85737\, Tucson\, Arizona\, 85737\, United States
END:VEVENT
BEGIN:VEVENT
DTSTART;TZID=UTC:20250712T170000
DTEND;TZID=UTC:20250712T180000
DTSTAMP:20260420T060542
CREATED:20240130T000623Z
LAST-MODIFIED:20240228T201059Z
UID:10002321-1752339600-1752343200@www.orovalley.org
SUMMARY:5:00 Worship
DESCRIPTION:Join us for worship!  \n\n\n\n\nWorship Online Here\n\n\n\nOnline Bulletins Here
URL:https://www.orovalley.org/event/500-worship-2/2025-07-12/
LOCATION:Oro Valley Sanctuary
CATEGORIES:Worship
ATTACH;FMTTYPE=image/jpeg:https://www.orovalley.org/wp-content/uploads/2023/08/CopyrightTaylorNoelPhotography2021-175-354e5a6-scaled.jpg
END:VEVENT
BEGIN:VEVENT
DTSTART;TZID=UTC:20250712T180000
DTEND;TZID=UTC:20250712T203000
DTSTAMP:20260420T060542
CREATED:20250630T182310Z
LAST-MODIFIED:20250630T185819Z
UID:10005127-1752343200-1752352200@www.orovalley.org
SUMMARY:Pastor Tim’s 25th Ordination Anniversary
DESCRIPTION:We’ll gather for a special evening filled with gratitude\, fellowship\, and a “Taylor Made” meal featuring brats and hot dogs with all the fixings\, baked beans\, macaroni salad\, and a sweet celebration dessert! Please RSVP here: https://rsvp.church/r/ztKN2dJ9 Space is limited\, so we encourage you to reserve your spot soon! A card basket will be available as we express our heartfelt thanks to Pastor Tim for his faithful ministry at Resurrection.
URL:https://www.orovalley.org/event/pastor-tims-25th-ordination-anniversary/
LOCATION:Outreach Center Gymnasium\, 11575 N 1st Ave\, Oro Valley\, AZ\, 85737\, United States
END:VEVENT
BEGIN:VEVENT
DTSTART;TZID=UTC:20250713T083000
DTEND;TZID=UTC:20250713T093000
DTSTAMP:20260420T060542
CREATED:20250501T181228Z
LAST-MODIFIED:20250610T163010Z
UID:10004787-1752395400-1752399000@www.orovalley.org
SUMMARY:Summer Worship Hours
DESCRIPTION:Oro Valley. Summer Worship Hours (traditional)Join us each Sunday at 8:30 AM in the Oro Valley Sanctuary for our traditional worship service! Music is provided by Resurrection’s Spirit Singers. \n\n\n\nChildcare available
URL:https://www.orovalley.org/event/summer-worship-hours/2025-07-13/
END:VEVENT
BEGIN:VEVENT
DTSTART;TZID=UTC:20250713T090000
DTEND;TZID=UTC:20250713T100000
DTSTAMP:20260420T060542
CREATED:20240106T184634Z
LAST-MODIFIED:20240228T200602Z
UID:10001703-1752397200-1752400800@www.orovalley.org
SUMMARY:Worship at SaddleBrooke
DESCRIPTION:Worship Online Here\n\n\n\nOnline Bulletin Here
URL:https://www.orovalley.org/event/worship-at-saddlebrooke/2025-07-13/
LOCATION:SaddleBrooke\, SaddleBrooke HOA2 Clubhouse\, Tucson\, Arizona\, 85739
CATEGORIES:Worship
ATTACH;FMTTYPE=image/jpeg:https://www.orovalley.org/wp-content/uploads/2023/08/sb-worship-pic_3.jpg
END:VEVENT
BEGIN:VEVENT
DTSTART;TZID=UTC:20250713T100000
DTEND;TZID=UTC:20250713T110000
DTSTAMP:20260420T060542
CREATED:20250610T164641Z
LAST-MODIFIED:20250610T164646Z
UID:10004983-1752400800-1752404400@www.orovalley.org
SUMMARY:10:00 Worship - Contemporary
DESCRIPTION:Sunday School\, Confirmation\, High School Sunday School \n\n\n\nChildcare Available \n\n\n\n\nWorship Online Here
URL:https://www.orovalley.org/event/1045-worship-contemporary-6/2025-07-13/
LOCATION:Oro Valley Sanctuary
CATEGORIES:Worship
ATTACH;FMTTYPE=image/jpeg:https://www.orovalley.org/wp-content/uploads/2023/11/CopyrightTaylorNoelPhotography2021-200-scaled.jpg
END:VEVENT
BEGIN:VEVENT
DTSTART;TZID=UTC:20250716T103000
DTEND;TZID=UTC:20250716T120000
DTSTAMP:20260420T060542
CREATED:20240617T222009Z
LAST-MODIFIED:20240617T222059Z
UID:10003541-1752661800-1752667200@www.orovalley.org
SUMMARY:Parkinson's Support Group
DESCRIPTION:This support group provides encouragement from meeting with others who have Parkinson’s disease\, and for the care givers of those with Parkinson’s. The meetings provide an opportunity to discuss experiences and feelings and to share solutions to common problems.  Meets every 3rd Wednesday of the month in the High School Youth Room.
URL:https://www.orovalley.org/event/parkinsons-support-group-3/2025-07-16/
LOCATION:Youth Room
CATEGORIES:Congregational Care,Serve
ATTACH;FMTTYPE=image/jpeg:https://www.orovalley.org/wp-content/uploads/2024/06/Graphics-3.jpg
END:VEVENT
BEGIN:VEVENT
DTSTART;TZID=UTC:20250717T130000
DTEND;TZID=UTC:20250717T160000
DTSTAMP:20260420T060542
CREATED:20241213T002356Z
LAST-MODIFIED:20241213T002359Z
UID:10004078-1752757200-1752768000@www.orovalley.org
SUMMARY:Matching Dragons Mah Jongg
DESCRIPTION:Do you play the game of (American) Mah Jongg and have been looking for a group to play with? Join us on Thursday afternoons 1:00-4:00 PM in Luther’s Lair in the Outreach Center. These are friendly games. We do NOT play for money but we ALWAYS have a good time. This group is for those who already know how to play the game. However\, anyone is invited to come observe to see if they would like to learn to play the game. Questions? Contact Jackie Verdick at jackieverdick@gmail.com or 612-554-0111.
URL:https://www.orovalley.org/event/matching-dragons-mah-jongg/2025-07-17/
END:VEVENT
BEGIN:VEVENT
DTSTART;TZID=UTC:20250719T080000
DTEND;TZID=UTC:20250719T090000
DTSTAMP:20260420T060542
CREATED:20240808T201836Z
LAST-MODIFIED:20260210T201221Z
UID:10004315-1752912000-1752915600@www.orovalley.org
SUMMARY:Men's Bible Study
DESCRIPTION:Uses the Serendipity Bible\, copies are available. All men of the church are welcome to attend. Meets in Luther’s Lair.
URL:https://www.orovalley.org/event/mens-bible-study/2025-07-19/
END:VEVENT
BEGIN:VEVENT
DTSTART;TZID=UTC:20250719T083000
DTEND;TZID=UTC:20250719T170000
DTSTAMP:20260420T060542
CREATED:20250701T214023Z
LAST-MODIFIED:20250701T214028Z
UID:10005136-1752913800-1752944400@www.orovalley.org
SUMMARY:Desert Wanderers Event
DESCRIPTION:Meet at RLC Parking Lot Mini Time Machine Museum of Miniatures
URL:https://www.orovalley.org/event/desert-wanderers-event/
END:VEVENT
BEGIN:VEVENT
DTSTART;TZID=UTC:20250719T170000
DTEND;TZID=UTC:20250719T180000
DTSTAMP:20260420T060542
CREATED:20240130T000623Z
LAST-MODIFIED:20240228T201059Z
UID:10002322-1752944400-1752948000@www.orovalley.org
SUMMARY:5:00 Worship
DESCRIPTION:Join us for worship!  \n\n\n\n\nWorship Online Here\n\n\n\nOnline Bulletins Here
URL:https://www.orovalley.org/event/500-worship-2/2025-07-19/
LOCATION:Oro Valley Sanctuary
CATEGORIES:Worship
ATTACH;FMTTYPE=image/jpeg:https://www.orovalley.org/wp-content/uploads/2023/08/CopyrightTaylorNoelPhotography2021-175-354e5a6-scaled.jpg
END:VEVENT
BEGIN:VEVENT
DTSTART;TZID=UTC:20250720T083000
DTEND;TZID=UTC:20250720T093000
DTSTAMP:20260420T060542
CREATED:20250501T181228Z
LAST-MODIFIED:20250610T163010Z
UID:10004788-1753000200-1753003800@www.orovalley.org
SUMMARY:Summer Worship Hours
DESCRIPTION:Oro Valley. Summer Worship Hours (traditional)Join us each Sunday at 8:30 AM in the Oro Valley Sanctuary for our traditional worship service! Music is provided by Resurrection’s Spirit Singers. \n\n\n\nChildcare available
URL:https://www.orovalley.org/event/summer-worship-hours/2025-07-20/
END:VEVENT
BEGIN:VEVENT
DTSTART;TZID=UTC:20250720T090000
DTEND;TZID=UTC:20250720T100000
DTSTAMP:20260420T060542
CREATED:20240106T184634Z
LAST-MODIFIED:20240228T200602Z
UID:10001704-1753002000-1753005600@www.orovalley.org
SUMMARY:Worship at SaddleBrooke
DESCRIPTION:Worship Online Here\n\n\n\nOnline Bulletin Here
URL:https://www.orovalley.org/event/worship-at-saddlebrooke/2025-07-20/
LOCATION:SaddleBrooke\, SaddleBrooke HOA2 Clubhouse\, Tucson\, Arizona\, 85739
CATEGORIES:Worship
ATTACH;FMTTYPE=image/jpeg:https://www.orovalley.org/wp-content/uploads/2023/08/sb-worship-pic_3.jpg
END:VEVENT
BEGIN:VEVENT
DTSTART;TZID=UTC:20250720T100000
DTEND;TZID=UTC:20250720T110000
DTSTAMP:20260420T060542
CREATED:20250610T164641Z
LAST-MODIFIED:20250610T164646Z
UID:10004984-1753005600-1753009200@www.orovalley.org
SUMMARY:10:00 Worship - Contemporary
DESCRIPTION:Sunday School\, Confirmation\, High School Sunday School \n\n\n\nChildcare Available \n\n\n\n\nWorship Online Here
URL:https://www.orovalley.org/event/1045-worship-contemporary-6/2025-07-20/
LOCATION:Oro Valley Sanctuary
CATEGORIES:Worship
ATTACH;FMTTYPE=image/jpeg:https://www.orovalley.org/wp-content/uploads/2023/11/CopyrightTaylorNoelPhotography2021-200-scaled.jpg
END:VEVENT
BEGIN:VEVENT
DTSTART;TZID=UTC:20250720T120000
DTEND;TZID=UTC:20250720T140000
DTSTAMP:20260420T060542
CREATED:20250501T181521Z
LAST-MODIFIED:20250501T181527Z
UID:10004790-1753012800-1753020000@www.orovalley.org
SUMMARY:New Member’s Class
DESCRIPTION:We would love to invite you to experience the joy of belonging to Resurrection Lutheran Church! Our new member’s class is an opportunity to learn more about who we are and what we believe. It is a great way to learn about the church\, meet our pastors\, council members\, staff\, and other new people\, get plugged into RLC\, and see why being committed and belonging to the church through membership can help you and others in many ways. \n\n\n\nKatie’s Quarters in the Outreach Center at the Oro Valley campus. \n\n\n\nLunch is provided\, and childcare is available. \n\n\n\nPlease sign up after worship in Oro Valley or SaddleBrooke at the Welcome Table\, or contact Kristina Randolph for more information at krandolph@orovalley.org or 520-575-9901.
URL:https://www.orovalley.org/event/new-members-class/
END:VEVENT
BEGIN:VEVENT
DTSTART;TZID=UTC:20250721T000000
DTEND;TZID=UTC:20250725T235959
DTSTAMP:20260420T060542
CREATED:20250604T211327Z
LAST-MODIFIED:20250604T211332Z
UID:10004808-1753056000-1753487999@www.orovalley.org
SUMMARY:Blast Camp
DESCRIPTION:What: Middle School Summer Day Camp – Join us for a week full of slime\, swimming\, a trampoline park\, friendship\, service\, and learning why Jesus is our True North. \n\n\n\nWhere: RLC Campus\, Jumping Cholla (defy) trampoline park &amp; Oro Valley Aquatics Center \n\n\n\nWhen: Monday\, July 21st – Friday\, July 25th \n\n\n\n(M-W 9:00 AM – 12:00 PM) (Th – 9:00 AM – 1:00 PM) (F – 12:00 PM – 3:30 PM) \n\n\n\nWho: Incoming 6th graders – incoming 9th graders \n\n\n\nWhy: Because it’s summer time\, we love your kids and want to hang out with them and share the love Jesus has for all of us! \n\n\n\nCost: $80.00/per youth (scholarships available) \n\n\n\nWe will provide snacks and drinks every day\, all supplies included. We will have vans to take us to Jumping Cholla and back on Thursday\, and we will provide lunch on this day also. Friday we will have snacks and Eegees at the pool. We can’t wait to spend the week with you!! \n\n\n\nRegister here: https://forms.gle/kJ19zapZyGB1X1ej8
URL:https://www.orovalley.org/event/blast-camp-2/
END:VEVENT
BEGIN:VEVENT
DTSTART;TZID=UTC:20250721T103000
DTEND;TZID=UTC:20250721T113000
DTSTAMP:20260420T060542
CREATED:20250701T214342Z
LAST-MODIFIED:20250701T214345Z
UID:10005138-1753093800-1753097400@www.orovalley.org
SUMMARY:Driving Ministry Meeting
DESCRIPTION:If you’re interested in helping to drive other congregation members to church\, please come to this meeting or contact Pastor Wyatt for how you can help.
URL:https://www.orovalley.org/event/driving-ministry-meeting/
LOCATION:Luther’s Lair
END:VEVENT
BEGIN:VEVENT
DTSTART;TZID=UTC:20250722T183000
DTEND;TZID=UTC:20250722T203000
DTSTAMP:20260420T060542
CREATED:20240910T192133Z
LAST-MODIFIED:20240910T192135Z
UID:10003836-1753209000-1753216200@www.orovalley.org
SUMMARY:Resurrection Card Players
DESCRIPTION:RLC Card Players meets every second and fourth Tuesday of the month. No reservation necessary. Please bring a snack to share and your own beverage. We play a variety of card games and we’re happy to teach you if you don’t know how to play. Everyone is welcome.
URL:https://www.orovalley.org/event/resurrection-card-players-2/2025-07-22/
LOCATION:Luther’s Lair
END:VEVENT
BEGIN:VEVENT
DTSTART;TZID=UTC:20250722T183000
DTEND;TZID=UTC:20250722T203000
DTSTAMP:20260420T060542
CREATED:20250701T213751Z
LAST-MODIFIED:20250701T213754Z
UID:10005135-1753209000-1753216200@www.orovalley.org
SUMMARY:RLC Card Players
DESCRIPTION:In the Music Room
URL:https://www.orovalley.org/event/rlc-card-players-2/2025-07-22/
LOCATION:Katie’s Quarters
END:VEVENT
BEGIN:VEVENT
DTSTART;TZID=UTC:20250723T173000
DTEND;TZID=UTC:20250723T203000
DTSTAMP:20260420T060542
CREATED:20250701T212148Z
LAST-MODIFIED:20250701T212152Z
UID:10005133-1753291800-1753302600@www.orovalley.org
SUMMARY:Bunco!
DESCRIPTION:July 23rd – 5:30 PM – 7:30 PM Katie’s Quarters – Music Room
URL:https://www.orovalley.org/event/bunco/
LOCATION:Katie’s Quarters
END:VEVENT
BEGIN:VEVENT
DTSTART;TZID=UTC:20250724T130000
DTEND;TZID=UTC:20250724T160000
DTSTAMP:20260420T060542
CREATED:20241213T002356Z
LAST-MODIFIED:20241213T002359Z
UID:10004079-1753362000-1753372800@www.orovalley.org
SUMMARY:Matching Dragons Mah Jongg
DESCRIPTION:Do you play the game of (American) Mah Jongg and have been looking for a group to play with? Join us on Thursday afternoons 1:00-4:00 PM in Luther’s Lair in the Outreach Center. These are friendly games. We do NOT play for money but we ALWAYS have a good time. This group is for those who already know how to play the game. However\, anyone is invited to come observe to see if they would like to learn to play the game. Questions? Contact Jackie Verdick at jackieverdick@gmail.com or 612-554-0111.
URL:https://www.orovalley.org/event/matching-dragons-mah-jongg/2025-07-24/
END:VEVENT
BEGIN:VEVENT
DTSTART;TZID=UTC:20250726T090000
DTEND;TZID=UTC:20250726T110000
DTSTAMP:20260420T060542
CREATED:20241204T235925Z
LAST-MODIFIED:20241205T000850Z
UID:10003968-1753520400-1753527600@www.orovalley.org
SUMMARY:Women's Faithful Living Fellowship
DESCRIPTION:Join us for a 10-session study which meets every third Saturday from 9:00 AM – 11:00 AM for coffee\, snacks and fellowship\, followed by a film and small discussion groups. We will study the book “Having a Mary Heart in a Martha World: Finding Intimacy with God in the Business of Life” by Joanna Weaver. \n\n\n\nSign up on orovalley.org. Space is limited.
URL:https://www.orovalley.org/event/womens-faithful-living-fellowship-2/2025-07-26/
END:VEVENT
BEGIN:VEVENT
DTSTART;TZID=UTC:20250726T170000
DTEND;TZID=UTC:20250726T180000
DTSTAMP:20260420T060542
CREATED:20240130T000623Z
LAST-MODIFIED:20240228T201059Z
UID:10002323-1753549200-1753552800@www.orovalley.org
SUMMARY:5:00 Worship
DESCRIPTION:Join us for worship!  \n\n\n\n\nWorship Online Here\n\n\n\nOnline Bulletins Here
URL:https://www.orovalley.org/event/500-worship-2/2025-07-26/
LOCATION:Oro Valley Sanctuary
CATEGORIES:Worship
ATTACH;FMTTYPE=image/jpeg:https://www.orovalley.org/wp-content/uploads/2023/08/CopyrightTaylorNoelPhotography2021-175-354e5a6-scaled.jpg
END:VEVENT
BEGIN:VEVENT
DTSTART;TZID=UTC:20250727T083000
DTEND;TZID=UTC:20250727T093000
DTSTAMP:20260420T060542
CREATED:20250501T181228Z
LAST-MODIFIED:20250610T163010Z
UID:10004789-1753605000-1753608600@www.orovalley.org
SUMMARY:Summer Worship Hours
DESCRIPTION:Oro Valley. Summer Worship Hours (traditional)Join us each Sunday at 8:30 AM in the Oro Valley Sanctuary for our traditional worship service! Music is provided by Resurrection’s Spirit Singers. \n\n\n\nChildcare available
URL:https://www.orovalley.org/event/summer-worship-hours/2025-07-27/
END:VEVENT
BEGIN:VEVENT
DTSTART;TZID=UTC:20250727T090000
DTEND;TZID=UTC:20250727T100000
DTSTAMP:20260420T060542
CREATED:20240106T184634Z
LAST-MODIFIED:20240228T200602Z
UID:10001705-1753606800-1753610400@www.orovalley.org
SUMMARY:Worship at SaddleBrooke
DESCRIPTION:Worship Online Here\n\n\n\nOnline Bulletin Here
URL:https://www.orovalley.org/event/worship-at-saddlebrooke/2025-07-27/
LOCATION:SaddleBrooke\, SaddleBrooke HOA2 Clubhouse\, Tucson\, Arizona\, 85739
CATEGORIES:Worship
ATTACH;FMTTYPE=image/jpeg:https://www.orovalley.org/wp-content/uploads/2023/08/sb-worship-pic_3.jpg
END:VEVENT
END:VCALENDAR