BEGIN:VCALENDAR
VERSION:2.0
PRODID:-//Resurrection Lutheran Church - ECPv6.15.20//NONSGML v1.0//EN
CALSCALE:GREGORIAN
METHOD:PUBLISH
X-WR-CALNAME:Resurrection Lutheran Church
X-ORIGINAL-URL:https://www.orovalley.org
X-WR-CALDESC:Events for Resurrection Lutheran Church
REFRESH-INTERVAL;VALUE=DURATION:PT1H
X-Robots-Tag:noindex
X-PUBLISHED-TTL:PT1H
BEGIN:VTIMEZONE
TZID:UTC
BEGIN:STANDARD
TZOFFSETFROM:+0000
TZOFFSETTO:+0000
TZNAME:UTC
DTSTART:20240101T000000
END:STANDARD
END:VTIMEZONE
BEGIN:VEVENT
DTSTART;TZID=UTC:20250906T170000
DTEND;TZID=UTC:20250906T180000
DTSTAMP:20260421T232030
CREATED:20240130T000623Z
LAST-MODIFIED:20240228T201059Z
UID:10002329-1757178000-1757181600@www.orovalley.org
SUMMARY:5:00 Worship
DESCRIPTION:Join us for worship!  \n\n\n\n\nWorship Online Here\n\n\n\nOnline Bulletins Here
URL:https://www.orovalley.org/event/500-worship-2/2025-09-06/
LOCATION:Oro Valley Sanctuary
CATEGORIES:Worship
ATTACH;FMTTYPE=image/jpeg:https://www.orovalley.org/wp-content/uploads/2023/08/CopyrightTaylorNoelPhotography2021-175-354e5a6-scaled.jpg
END:VEVENT
BEGIN:VEVENT
DTSTART;TZID=UTC:20250907T074500
DTEND;TZID=UTC:20250907T084500
DTSTAMP:20260421T232030
CREATED:20250605T233406Z
LAST-MODIFIED:20250605T233413Z
UID:10000093-1757231100-1757234700@www.orovalley.org
SUMMARY:7:45 Worship
DESCRIPTION:Traditional Worship. Music provided by Resurrection’s Chancel Choir \n\n\n\n\nWorship Online Here\n\n\n\n\n \n\n\n\n\nOnline Bulletins Here
URL:https://www.orovalley.org/event/745-worship-9/2025-09-07/
LOCATION:Oro Valley Sanctuary
CATEGORIES:Worship
ATTACH;FMTTYPE=image/jpeg:https://www.orovalley.org/wp-content/uploads/2023/12/CopyrightTaylorNoelPhotography2021-158-scaled.jpg
END:VEVENT
BEGIN:VEVENT
DTSTART;TZID=UTC:20250907T090000
DTEND;TZID=UTC:20250907T100000
DTSTAMP:20260421T232030
CREATED:20240106T184634Z
LAST-MODIFIED:20240228T200602Z
UID:10001711-1757235600-1757239200@www.orovalley.org
SUMMARY:Worship at SaddleBrooke
DESCRIPTION:Worship Online Here\n\n\n\nOnline Bulletin Here
URL:https://www.orovalley.org/event/worship-at-saddlebrooke/2025-09-07/
LOCATION:SaddleBrooke\, SaddleBrooke HOA2 Clubhouse\, Tucson\, Arizona\, 85739
CATEGORIES:Worship
ATTACH;FMTTYPE=image/jpeg:https://www.orovalley.org/wp-content/uploads/2023/08/sb-worship-pic_3.jpg
END:VEVENT
BEGIN:VEVENT
DTSTART;TZID=UTC:20250907T091500
DTEND;TZID=UTC:20250907T101500
DTSTAMP:20260421T232030
CREATED:20250610T165422Z
LAST-MODIFIED:20250610T165427Z
UID:10005088-1757236500-1757240100@www.orovalley.org
SUMMARY:09:15 Worship - Contemporary
DESCRIPTION:Sunday School\, Confirmation\, High School Sunday School \n\n\n\nChildcare Available \n\n\n\n\nWorship Online Here
URL:https://www.orovalley.org/event/0915-worship-contemporary/2025-09-07/
LOCATION:Oro Valley Sanctuary
CATEGORIES:Worship
ATTACH;FMTTYPE=image/jpeg:https://www.orovalley.org/wp-content/uploads/2023/11/CopyrightTaylorNoelPhotography2021-200-scaled.jpg
END:VEVENT
BEGIN:VEVENT
DTSTART;TZID=UTC:20250907T104500
DTEND;TZID=UTC:20250907T114500
DTSTAMP:20260421T232030
CREATED:20250610T165108Z
LAST-MODIFIED:20250610T165111Z
UID:10005000-1757241900-1757245500@www.orovalley.org
SUMMARY:10:45 Worship - Contemporary
DESCRIPTION:Sunday School\, Confirmation\, High School Sunday School \n\n\n\nChildcare Available \n\n\n\n\nWorship Online Here
URL:https://www.orovalley.org/event/1045-worship-contemporary-7/2025-09-07/
LOCATION:Oro Valley Sanctuary
CATEGORIES:Worship
ATTACH;FMTTYPE=image/jpeg:https://www.orovalley.org/wp-content/uploads/2023/11/CopyrightTaylorNoelPhotography2021-200-scaled.jpg
END:VEVENT
BEGIN:VEVENT
DTSTART;TZID=UTC:20250907T120000
DTEND;TZID=UTC:20250907T130000
DTSTAMP:20260421T232030
CREATED:20250801T171722Z
LAST-MODIFIED:20250801T171725Z
UID:10005170-1757246400-1757250000@www.orovalley.org
SUMMARY:Congregation Meeting
DESCRIPTION:Oro Valley Sanctuary
URL:https://www.orovalley.org/event/congregation-meeting-2/
END:VEVENT
BEGIN:VEVENT
DTSTART;TZID=UTC:20250908T130000
DTEND;TZID=UTC:20250908T140000
DTSTAMP:20260421T232030
CREATED:20250829T203021Z
LAST-MODIFIED:20250829T203025Z
UID:10005220-1757336400-1757340000@www.orovalley.org
SUMMARY:PrimeTime Team Meeting
DESCRIPTION:High School Youth Room \n\n\n\nIf you are interested in learning more about this ministry and how to serve\, we would love for you to join us!
URL:https://www.orovalley.org/event/primetime-team-meeting/
END:VEVENT
BEGIN:VEVENT
DTSTART;TZID=UTC:20250908T173000
DTEND;TZID=UTC:20250908T183000
DTSTAMP:20260421T232030
CREATED:20250701T214218Z
LAST-MODIFIED:20250701T214221Z
UID:10005137-1757352600-1757356200@www.orovalley.org
SUMMARY:Desert Wanderers Team Meeting
DESCRIPTION:Meet and Luther’s Lair
URL:https://www.orovalley.org/event/desert-wanderers-team-meeting/
LOCATION:Luther’s Lair
END:VEVENT
BEGIN:VEVENT
DTSTART;TZID=UTC:20250909T183000
DTEND;TZID=UTC:20250909T203000
DTSTAMP:20260421T232030
CREATED:20240910T191442Z
LAST-MODIFIED:20240910T191955Z
UID:10003778-1757442600-1757449800@www.orovalley.org
SUMMARY:Resurrection Card Players
DESCRIPTION:RLC Card Players meets every second and fourth Tuesday of the month. No reservation necessary. Please bring a snack to share and your own beverage. We play a variety of card games and we’re happy to teach you if you don’t know how to play. Everyone is welcome.
URL:https://www.orovalley.org/event/resurrection-card-players/2025-09-09/
LOCATION:Luther’s Lair
END:VEVENT
BEGIN:VEVENT
DTSTART;TZID=UTC:20250910T100000
DTEND;TZID=UTC:20250910T113000
DTSTAMP:20260421T232030
CREATED:20250829T185819Z
LAST-MODIFIED:20250829T185823Z
UID:10005178-1757498400-1757503800@www.orovalley.org
SUMMARY:Apostles’ Creed Class
DESCRIPTION:Oro Valley Sanctuary \n\n\n\nTogether with the pastors\, we’ll explore the history of the creeds and wrestle with what it means to confess them in today’s world. Join us in person on Wednesdays or tune in online at your own pace.
URL:https://www.orovalley.org/event/apostles-creed-class/
END:VEVENT
BEGIN:VEVENT
DTSTART;TZID=UTC:20250911T130000
DTEND;TZID=UTC:20250911T160000
DTSTAMP:20260421T232030
CREATED:20241213T002356Z
LAST-MODIFIED:20241213T002359Z
UID:10004086-1757595600-1757606400@www.orovalley.org
SUMMARY:Matching Dragons Mah Jongg
DESCRIPTION:Do you play the game of (American) Mah Jongg and have been looking for a group to play with? Join us on Thursday afternoons 1:00-4:00 PM in Luther’s Lair in the Outreach Center. These are friendly games. We do NOT play for money but we ALWAYS have a good time. This group is for those who already know how to play the game. However\, anyone is invited to come observe to see if they would like to learn to play the game. Questions? Contact Jackie Verdick at jackieverdick@gmail.com or 612-554-0111.
URL:https://www.orovalley.org/event/matching-dragons-mah-jongg/2025-09-11/
END:VEVENT
BEGIN:VEVENT
DTSTART;TZID=UTC:20250912T123000
DTEND;TZID=UTC:20250912T143000
DTSTAMP:20260421T232030
CREATED:20250829T193149Z
LAST-MODIFIED:20250829T193154Z
UID:10005200-1757680200-1757687400@www.orovalley.org
SUMMARY:Ladies Luncheon
DESCRIPTION:Charred Pie \n\n\n\nKindly RSVP https://rsvp.church/r/ztKN2dJ9
URL:https://www.orovalley.org/event/ladies-luncheon-12/
END:VEVENT
BEGIN:VEVENT
DTSTART;TZID=UTC:20250913T080000
DTEND;TZID=UTC:20250913T090000
DTSTAMP:20260421T232030
CREATED:20240808T201836Z
LAST-MODIFIED:20260210T201221Z
UID:10004319-1757750400-1757754000@www.orovalley.org
SUMMARY:Men's Bible Study
DESCRIPTION:Uses the Serendipity Bible\, copies are available. All men of the church are welcome to attend. Meets in Luther’s Lair.
URL:https://www.orovalley.org/event/mens-bible-study/2025-09-13/
END:VEVENT
BEGIN:VEVENT
DTSTART;TZID=UTC:20250913T170000
DTEND;TZID=UTC:20250913T180000
DTSTAMP:20260421T232030
CREATED:20240130T000623Z
LAST-MODIFIED:20240228T201059Z
UID:10002330-1757782800-1757786400@www.orovalley.org
SUMMARY:5:00 Worship
DESCRIPTION:Join us for worship!  \n\n\n\n\nWorship Online Here\n\n\n\nOnline Bulletins Here
URL:https://www.orovalley.org/event/500-worship-2/2025-09-13/
LOCATION:Oro Valley Sanctuary
CATEGORIES:Worship
ATTACH;FMTTYPE=image/jpeg:https://www.orovalley.org/wp-content/uploads/2023/08/CopyrightTaylorNoelPhotography2021-175-354e5a6-scaled.jpg
END:VEVENT
BEGIN:VEVENT
DTSTART;TZID=UTC:20250914T074500
DTEND;TZID=UTC:20250914T084500
DTSTAMP:20260421T232030
CREATED:20250605T233406Z
LAST-MODIFIED:20250605T233413Z
UID:10000094-1757835900-1757839500@www.orovalley.org
SUMMARY:7:45 Worship
DESCRIPTION:Traditional Worship. Music provided by Resurrection’s Chancel Choir \n\n\n\n\nWorship Online Here\n\n\n\n\n \n\n\n\n\nOnline Bulletins Here
URL:https://www.orovalley.org/event/745-worship-9/2025-09-14/
LOCATION:Oro Valley Sanctuary
CATEGORIES:Worship
ATTACH;FMTTYPE=image/jpeg:https://www.orovalley.org/wp-content/uploads/2023/12/CopyrightTaylorNoelPhotography2021-158-scaled.jpg
END:VEVENT
BEGIN:VEVENT
DTSTART;TZID=UTC:20250914T090000
DTEND;TZID=UTC:20250914T100000
DTSTAMP:20260421T232030
CREATED:20240106T184634Z
LAST-MODIFIED:20240228T200602Z
UID:10001712-1757840400-1757844000@www.orovalley.org
SUMMARY:Worship at SaddleBrooke
DESCRIPTION:Worship Online Here\n\n\n\nOnline Bulletin Here
URL:https://www.orovalley.org/event/worship-at-saddlebrooke/2025-09-14/
LOCATION:SaddleBrooke\, SaddleBrooke HOA2 Clubhouse\, Tucson\, Arizona\, 85739
CATEGORIES:Worship
ATTACH;FMTTYPE=image/jpeg:https://www.orovalley.org/wp-content/uploads/2023/08/sb-worship-pic_3.jpg
END:VEVENT
BEGIN:VEVENT
DTSTART;TZID=UTC:20250914T091500
DTEND;TZID=UTC:20250914T101500
DTSTAMP:20260421T232030
CREATED:20250610T165422Z
LAST-MODIFIED:20250610T165427Z
UID:10005089-1757841300-1757844900@www.orovalley.org
SUMMARY:09:15 Worship - Contemporary
DESCRIPTION:Sunday School\, Confirmation\, High School Sunday School \n\n\n\nChildcare Available \n\n\n\n\nWorship Online Here
URL:https://www.orovalley.org/event/0915-worship-contemporary/2025-09-14/
LOCATION:Oro Valley Sanctuary
CATEGORIES:Worship
ATTACH;FMTTYPE=image/jpeg:https://www.orovalley.org/wp-content/uploads/2023/11/CopyrightTaylorNoelPhotography2021-200-scaled.jpg
END:VEVENT
BEGIN:VEVENT
DTSTART;TZID=UTC:20250914T104500
DTEND;TZID=UTC:20250914T114500
DTSTAMP:20260421T232030
CREATED:20250610T165108Z
LAST-MODIFIED:20250610T165111Z
UID:10005001-1757846700-1757850300@www.orovalley.org
SUMMARY:10:45 Worship - Contemporary
DESCRIPTION:Sunday School\, Confirmation\, High School Sunday School \n\n\n\nChildcare Available \n\n\n\n\nWorship Online Here
URL:https://www.orovalley.org/event/1045-worship-contemporary-7/2025-09-14/
LOCATION:Oro Valley Sanctuary
CATEGORIES:Worship
ATTACH;FMTTYPE=image/jpeg:https://www.orovalley.org/wp-content/uploads/2023/11/CopyrightTaylorNoelPhotography2021-200-scaled.jpg
END:VEVENT
BEGIN:VEVENT
DTSTART;TZID=UTC:20250916T070000
DTEND;TZID=UTC:20250916T080000
DTSTAMP:20260421T232031
CREATED:20250829T202644Z
LAST-MODIFIED:20250829T202648Z
UID:10005217-1758006000-1758009600@www.orovalley.org
SUMMARY:Desert Wanderers September Hike
DESCRIPTION:RLC parking lot. More information in the September Vision.
URL:https://www.orovalley.org/event/desert-wanderers-september-hike/
END:VEVENT
BEGIN:VEVENT
DTSTART;TZID=UTC:20250916T080000
DTEND;TZID=UTC:20250916T133000
DTSTAMP:20260421T232031
CREATED:20250829T203706Z
LAST-MODIFIED:20250829T203710Z
UID:10005222-1758009600-1758029400@www.orovalley.org
SUMMARY:American Red Cross Blood Drive
DESCRIPTION:Katie’s Quarters \n\n\n\nGive the gift of life\, donate today! Sign up online. https://www.redcrossblood.org/give.html/drive-results?zipSponsor=RESURRECTION
URL:https://www.orovalley.org/event/american-red-cross-blood-drive-10/
END:VEVENT
BEGIN:VEVENT
DTSTART;TZID=UTC:20250917T100000
DTEND;TZID=UTC:20250917T113000
DTSTAMP:20260421T232031
CREATED:20250829T190026Z
LAST-MODIFIED:20250829T190032Z
UID:10005179-1758103200-1758108600@www.orovalley.org
SUMMARY:Apostles’ Creed Class
DESCRIPTION:Oro Valley Sanctuary \n\n\n\nTogether with the pastors\, we’ll explore the history of the creeds and wrestle with what it means to confess them in today’s world. Join us in person on Wednesdays or tune in online at your own pace.
URL:https://www.orovalley.org/event/apostles-creed-class-2/
END:VEVENT
BEGIN:VEVENT
DTSTART;TZID=UTC:20250917T103000
DTEND;TZID=UTC:20250917T120000
DTSTAMP:20260421T232031
CREATED:20240617T222009Z
LAST-MODIFIED:20240617T222059Z
UID:10003543-1758105000-1758110400@www.orovalley.org
SUMMARY:Parkinson's Support Group
DESCRIPTION:This support group provides encouragement from meeting with others who have Parkinson’s disease\, and for the care givers of those with Parkinson’s. The meetings provide an opportunity to discuss experiences and feelings and to share solutions to common problems.  Meets every 3rd Wednesday of the month in the High School Youth Room.
URL:https://www.orovalley.org/event/parkinsons-support-group-3/2025-09-17/
LOCATION:Youth Room
CATEGORIES:Congregational Care,Serve
ATTACH;FMTTYPE=image/jpeg:https://www.orovalley.org/wp-content/uploads/2024/06/Graphics-3.jpg
END:VEVENT
BEGIN:VEVENT
DTSTART;TZID=UTC:20250917T103000
DTEND;TZID=UTC:20250917T120000
DTSTAMP:20260421T232031
CREATED:20250829T193450Z
LAST-MODIFIED:20250829T193453Z
UID:10005202-1758105000-1758110400@www.orovalley.org
SUMMARY:Parkinson’s Support Group
DESCRIPTION:Katie’s Quarters \n\n\n\nJoin us this month for special guest Dr. Maria Ospina\, a Movement Disorder Neurologist.
URL:https://www.orovalley.org/event/parkinsons-support-group-4/
END:VEVENT
BEGIN:VEVENT
DTSTART;TZID=UTC:20250918T130000
DTEND;TZID=UTC:20250918T160000
DTSTAMP:20260421T232031
CREATED:20241213T002356Z
LAST-MODIFIED:20241213T002359Z
UID:10004087-1758200400-1758211200@www.orovalley.org
SUMMARY:Matching Dragons Mah Jongg
DESCRIPTION:Do you play the game of (American) Mah Jongg and have been looking for a group to play with? Join us on Thursday afternoons 1:00-4:00 PM in Luther’s Lair in the Outreach Center. These are friendly games. We do NOT play for money but we ALWAYS have a good time. This group is for those who already know how to play the game. However\, anyone is invited to come observe to see if they would like to learn to play the game. Questions? Contact Jackie Verdick at jackieverdick@gmail.com or 612-554-0111.
URL:https://www.orovalley.org/event/matching-dragons-mah-jongg/2025-09-18/
END:VEVENT
BEGIN:VEVENT
DTSTART;TZID=UTC:20250920T160000
DTEND;TZID=UTC:20250920T170000
DTSTAMP:20260421T232031
CREATED:20250829T191220Z
LAST-MODIFIED:20250829T191223Z
UID:10005185-1758384000-1758387600@www.orovalley.org
SUMMARY:Eventide Singers
DESCRIPTION:Rehearsal in the Music Room\, sings for that evening’s 5:00 PM service.
URL:https://www.orovalley.org/event/eventide-singers-2/
END:VEVENT
BEGIN:VEVENT
DTSTART;TZID=UTC:20250920T170000
DTEND;TZID=UTC:20250920T180000
DTSTAMP:20260421T232031
CREATED:20240130T000623Z
LAST-MODIFIED:20240228T201059Z
UID:10002331-1758387600-1758391200@www.orovalley.org
SUMMARY:5:00 Worship
DESCRIPTION:Join us for worship!  \n\n\n\n\nWorship Online Here\n\n\n\nOnline Bulletins Here
URL:https://www.orovalley.org/event/500-worship-2/2025-09-20/
LOCATION:Oro Valley Sanctuary
CATEGORIES:Worship
ATTACH;FMTTYPE=image/jpeg:https://www.orovalley.org/wp-content/uploads/2023/08/CopyrightTaylorNoelPhotography2021-175-354e5a6-scaled.jpg
END:VEVENT
BEGIN:VEVENT
DTSTART;TZID=UTC:20250921T074500
DTEND;TZID=UTC:20250921T084500
DTSTAMP:20260421T232031
CREATED:20250605T233406Z
LAST-MODIFIED:20250605T233413Z
UID:10000095-1758440700-1758444300@www.orovalley.org
SUMMARY:7:45 Worship
DESCRIPTION:Traditional Worship. Music provided by Resurrection’s Chancel Choir \n\n\n\n\nWorship Online Here\n\n\n\n\n \n\n\n\n\nOnline Bulletins Here
URL:https://www.orovalley.org/event/745-worship-9/2025-09-21/
LOCATION:Oro Valley Sanctuary
CATEGORIES:Worship
ATTACH;FMTTYPE=image/jpeg:https://www.orovalley.org/wp-content/uploads/2023/12/CopyrightTaylorNoelPhotography2021-158-scaled.jpg
END:VEVENT
BEGIN:VEVENT
DTSTART;TZID=UTC:20250921T090000
DTEND;TZID=UTC:20250921T100000
DTSTAMP:20260421T232031
CREATED:20240106T184634Z
LAST-MODIFIED:20240228T200602Z
UID:10001713-1758445200-1758448800@www.orovalley.org
SUMMARY:Worship at SaddleBrooke
DESCRIPTION:Worship Online Here\n\n\n\nOnline Bulletin Here
URL:https://www.orovalley.org/event/worship-at-saddlebrooke/2025-09-21/
LOCATION:SaddleBrooke\, SaddleBrooke HOA2 Clubhouse\, Tucson\, Arizona\, 85739
CATEGORIES:Worship
ATTACH;FMTTYPE=image/jpeg:https://www.orovalley.org/wp-content/uploads/2023/08/sb-worship-pic_3.jpg
END:VEVENT
BEGIN:VEVENT
DTSTART;TZID=UTC:20250921T091500
DTEND;TZID=UTC:20250921T101500
DTSTAMP:20260421T232031
CREATED:20250610T165422Z
LAST-MODIFIED:20250610T165427Z
UID:10005090-1758446100-1758449700@www.orovalley.org
SUMMARY:09:15 Worship - Contemporary
DESCRIPTION:Sunday School\, Confirmation\, High School Sunday School \n\n\n\nChildcare Available \n\n\n\n\nWorship Online Here
URL:https://www.orovalley.org/event/0915-worship-contemporary/2025-09-21/
LOCATION:Oro Valley Sanctuary
CATEGORIES:Worship
ATTACH;FMTTYPE=image/jpeg:https://www.orovalley.org/wp-content/uploads/2023/11/CopyrightTaylorNoelPhotography2021-200-scaled.jpg
END:VEVENT
BEGIN:VEVENT
DTSTART;TZID=UTC:20250921T104500
DTEND;TZID=UTC:20250921T114500
DTSTAMP:20260421T232031
CREATED:20250610T165108Z
LAST-MODIFIED:20250610T165111Z
UID:10005002-1758451500-1758455100@www.orovalley.org
SUMMARY:10:45 Worship - Contemporary
DESCRIPTION:Sunday School\, Confirmation\, High School Sunday School \n\n\n\nChildcare Available \n\n\n\n\nWorship Online Here
URL:https://www.orovalley.org/event/1045-worship-contemporary-7/2025-09-21/
LOCATION:Oro Valley Sanctuary
CATEGORIES:Worship
ATTACH;FMTTYPE=image/jpeg:https://www.orovalley.org/wp-content/uploads/2023/11/CopyrightTaylorNoelPhotography2021-200-scaled.jpg
END:VEVENT
END:VCALENDAR