BEGIN:VCALENDAR
VERSION:2.0
PRODID:-//Resurrection Lutheran Church - ECPv6.15.20//NONSGML v1.0//EN
CALSCALE:GREGORIAN
METHOD:PUBLISH
X-WR-CALNAME:Resurrection Lutheran Church
X-ORIGINAL-URL:https://www.orovalley.org
X-WR-CALDESC:Events for Resurrection Lutheran Church
REFRESH-INTERVAL;VALUE=DURATION:PT1H
X-Robots-Tag:noindex
X-PUBLISHED-TTL:PT1H
BEGIN:VTIMEZONE
TZID:UTC
BEGIN:STANDARD
TZOFFSETFROM:+0000
TZOFFSETTO:+0000
TZNAME:UTC
DTSTART:20240101T000000
END:STANDARD
END:VTIMEZONE
BEGIN:VEVENT
DTSTART;TZID=UTC:20251101T170000
DTEND;TZID=UTC:20251101T180000
DTSTAMP:20260422T064500
CREATED:20240130T000623Z
LAST-MODIFIED:20240228T201059Z
UID:10002337-1762016400-1762020000@www.orovalley.org
SUMMARY:5:00 Worship
DESCRIPTION:Join us for worship!  \n\n\n\n\nWorship Online Here\n\n\n\nOnline Bulletins Here
URL:https://www.orovalley.org/event/500-worship-2/2025-11-01/
LOCATION:Oro Valley Sanctuary
CATEGORIES:Worship
ATTACH;FMTTYPE=image/jpeg:https://www.orovalley.org/wp-content/uploads/2023/08/CopyrightTaylorNoelPhotography2021-175-354e5a6-scaled.jpg
END:VEVENT
BEGIN:VEVENT
DTSTART;TZID=UTC:20251102T074500
DTEND;TZID=UTC:20251102T084500
DTSTAMP:20260422T064500
CREATED:20250605T233406Z
LAST-MODIFIED:20250605T233413Z
UID:10000101-1762069500-1762073100@www.orovalley.org
SUMMARY:7:45 Worship
DESCRIPTION:Traditional Worship. Music provided by Resurrection’s Chancel Choir \n\n\n\n\nWorship Online Here\n\n\n\n\n \n\n\n\n\nOnline Bulletins Here
URL:https://www.orovalley.org/event/745-worship-9/2025-11-02/
LOCATION:Oro Valley Sanctuary
CATEGORIES:Worship
ATTACH;FMTTYPE=image/jpeg:https://www.orovalley.org/wp-content/uploads/2023/12/CopyrightTaylorNoelPhotography2021-158-scaled.jpg
END:VEVENT
BEGIN:VEVENT
DTSTART;TZID=UTC:20251102T090000
DTEND;TZID=UTC:20251102T100000
DTSTAMP:20260422T064500
CREATED:20240106T184634Z
LAST-MODIFIED:20240228T200602Z
UID:10001719-1762074000-1762077600@www.orovalley.org
SUMMARY:Worship at SaddleBrooke
DESCRIPTION:Worship Online Here\n\n\n\nOnline Bulletin Here
URL:https://www.orovalley.org/event/worship-at-saddlebrooke/2025-11-02/
LOCATION:SaddleBrooke\, SaddleBrooke HOA2 Clubhouse\, Tucson\, Arizona\, 85739
CATEGORIES:Worship
ATTACH;FMTTYPE=image/jpeg:https://www.orovalley.org/wp-content/uploads/2023/08/sb-worship-pic_3.jpg
END:VEVENT
BEGIN:VEVENT
DTSTART;TZID=UTC:20251102T091500
DTEND;TZID=UTC:20251102T101500
DTSTAMP:20260422T064500
CREATED:20250610T165422Z
LAST-MODIFIED:20250610T165427Z
UID:10005096-1762074900-1762078500@www.orovalley.org
SUMMARY:09:15 Worship - Contemporary
DESCRIPTION:Sunday School\, Confirmation\, High School Sunday School \n\n\n\nChildcare Available \n\n\n\n\nWorship Online Here
URL:https://www.orovalley.org/event/0915-worship-contemporary/2025-11-02/
LOCATION:Oro Valley Sanctuary
CATEGORIES:Worship
ATTACH;FMTTYPE=image/jpeg:https://www.orovalley.org/wp-content/uploads/2023/11/CopyrightTaylorNoelPhotography2021-200-scaled.jpg
END:VEVENT
BEGIN:VEVENT
DTSTART;TZID=UTC:20251102T104500
DTEND;TZID=UTC:20251102T114500
DTSTAMP:20260422T064500
CREATED:20250610T165108Z
LAST-MODIFIED:20250610T165111Z
UID:10005008-1762080300-1762083900@www.orovalley.org
SUMMARY:10:45 Worship - Contemporary
DESCRIPTION:Sunday School\, Confirmation\, High School Sunday School \n\n\n\nChildcare Available \n\n\n\n\nWorship Online Here
URL:https://www.orovalley.org/event/1045-worship-contemporary-7/2025-11-02/
LOCATION:Oro Valley Sanctuary
CATEGORIES:Worship
ATTACH;FMTTYPE=image/jpeg:https://www.orovalley.org/wp-content/uploads/2023/11/CopyrightTaylorNoelPhotography2021-200-scaled.jpg
END:VEVENT
BEGIN:VEVENT
DTSTART;TZID=UTC:20251104T100000
DTEND;TZID=UTC:20251104T120000
DTSTAMP:20260422T064500
CREATED:20250829T191654Z
LAST-MODIFIED:20251017T203547Z
UID:10005188-1762250400-1762257600@www.orovalley.org
SUMMARY:Faithfully Addressing Polarization – Adult Study Class
DESCRIPTION:Oro Valley Sanctuary \n\n\n\nWe will examine the causes and consequences of polarization in our communities. We will explore our own motivations and internal triggers\, practice talking through tough topics\, and gain fresh perspectives on handling disagreements in the Church and in society. \n\n\n\nLearn more about this class and how to register here: https://www.orovalley.org/study/
URL:https://www.orovalley.org/event/faithfully-addressing-polarization-adult-study-class-3/
END:VEVENT
BEGIN:VEVENT
DTSTART;TZID=UTC:20251105T150000
DTEND;TZID=UTC:20251105T160000
DTSTAMP:20260422T064500
CREATED:20250701T214646Z
LAST-MODIFIED:20250701T214652Z
UID:10004492-1762354800-1762358400@www.orovalley.org
SUMMARY:Scripture & Salsa
DESCRIPTION:You are invited to join Pastor Carol every Wednesday from 3:00 – 4:00 PM at Mi Tierra Mexican Restaurant in Catalina starting January 8th for an informal discussion of the Bible texts for the upcoming weekend’s worship. No registration is required and there is no long-term commitment. Just grab your Bible and drop by.
URL:https://www.orovalley.org/event/scripture-salsa-2/2025-11-05/
END:VEVENT
BEGIN:VEVENT
DTSTART;TZID=UTC:20251106T130000
DTEND;TZID=UTC:20251106T160000
DTSTAMP:20260422T064500
CREATED:20241213T002356Z
LAST-MODIFIED:20241213T002359Z
UID:10004094-1762434000-1762444800@www.orovalley.org
SUMMARY:Matching Dragons Mah Jongg
DESCRIPTION:Do you play the game of (American) Mah Jongg and have been looking for a group to play with? Join us on Thursday afternoons 1:00-4:00 PM in Luther’s Lair in the Outreach Center. These are friendly games. We do NOT play for money but we ALWAYS have a good time. This group is for those who already know how to play the game. However\, anyone is invited to come observe to see if they would like to learn to play the game. Questions? Contact Jackie Verdick at jackieverdick@gmail.com or 612-554-0111.
URL:https://www.orovalley.org/event/matching-dragons-mah-jongg/2025-11-06/
END:VEVENT
BEGIN:VEVENT
DTSTART;TZID=UTC:20251106T130000
DTEND;TZID=UTC:20251106T160000
DTSTAMP:20260422T064500
CREATED:20251107T191455Z
LAST-MODIFIED:20251107T191616Z
UID:10005744-1762434000-1762444800@www.orovalley.org
SUMMARY:Art by Heart Open Studio
DESCRIPTION:
URL:https://www.orovalley.org/event/art-by-heart-open-studio/2025-11-06/
END:VEVENT
BEGIN:VEVENT
DTSTART;TZID=UTC:20251107T170000
DTEND;TZID=UTC:20251107T193000
DTSTAMP:20260422T064500
CREATED:20251008T010418Z
LAST-MODIFIED:20251008T010421Z
UID:10005231-1762534800-1762543800@www.orovalley.org
SUMMARY:SaddleBrooke Fellowship Mixer
DESCRIPTION:Tennis Court Patio\, HOA 1 \n\n\n\nPlease bring an appetizer or dessert to share. BYOB. Please sign up at worship.
URL:https://www.orovalley.org/event/saddlebrooke-fellowship-mixer/
END:VEVENT
BEGIN:VEVENT
DTSTART;TZID=UTC:20251108T080000
DTEND;TZID=UTC:20251108T090000
DTSTAMP:20260422T064500
CREATED:20240808T201836Z
LAST-MODIFIED:20260210T201221Z
UID:10004323-1762588800-1762592400@www.orovalley.org
SUMMARY:Men's Bible Study
DESCRIPTION:Uses the Serendipity Bible\, copies are available. All men of the church are welcome to attend. Meets in Luther’s Lair.
URL:https://www.orovalley.org/event/mens-bible-study/2025-11-08/
END:VEVENT
BEGIN:VEVENT
DTSTART;TZID=UTC:20251108T083000
DTEND;TZID=UTC:20251108T133000
DTSTAMP:20260422T064500
CREATED:20251008T010951Z
LAST-MODIFIED:20251008T010955Z
UID:10005323-1762590600-1762608600@www.orovalley.org
SUMMARY:Parent Educator Collaborative
DESCRIPTION:Oro Valley Sanctuary \n\n\n\nFor more information and to register: \n\n\n\nhttps://www.orovalley.org/parenteducatorcollaborative/
URL:https://www.orovalley.org/event/parent-educator-collaborative/
END:VEVENT
BEGIN:VEVENT
DTSTART;TZID=UTC:20251108T170000
DTEND;TZID=UTC:20251108T180000
DTSTAMP:20260422T064500
CREATED:20240130T000623Z
LAST-MODIFIED:20240228T201059Z
UID:10002338-1762621200-1762624800@www.orovalley.org
SUMMARY:5:00 Worship
DESCRIPTION:Join us for worship!  \n\n\n\n\nWorship Online Here\n\n\n\nOnline Bulletins Here
URL:https://www.orovalley.org/event/500-worship-2/2025-11-08/
LOCATION:Oro Valley Sanctuary
CATEGORIES:Worship
ATTACH;FMTTYPE=image/jpeg:https://www.orovalley.org/wp-content/uploads/2023/08/CopyrightTaylorNoelPhotography2021-175-354e5a6-scaled.jpg
END:VEVENT
BEGIN:VEVENT
DTSTART;TZID=UTC:20251109T074500
DTEND;TZID=UTC:20251109T084500
DTSTAMP:20260422T064500
CREATED:20250605T233406Z
LAST-MODIFIED:20250605T233413Z
UID:10000102-1762674300-1762677900@www.orovalley.org
SUMMARY:7:45 Worship
DESCRIPTION:Traditional Worship. Music provided by Resurrection’s Chancel Choir \n\n\n\n\nWorship Online Here\n\n\n\n\n \n\n\n\n\nOnline Bulletins Here
URL:https://www.orovalley.org/event/745-worship-9/2025-11-09/
LOCATION:Oro Valley Sanctuary
CATEGORIES:Worship
ATTACH;FMTTYPE=image/jpeg:https://www.orovalley.org/wp-content/uploads/2023/12/CopyrightTaylorNoelPhotography2021-158-scaled.jpg
END:VEVENT
BEGIN:VEVENT
DTSTART;TZID=UTC:20251109T083000
DTEND;TZID=UTC:20251109T120000
DTSTAMP:20260422T064500
CREATED:20250829T202236Z
LAST-MODIFIED:20250829T202239Z
UID:10005215-1762677000-1762689600@www.orovalley.org
SUMMARY:Ministry Fair
DESCRIPTION:Come and learn about all the different ministry opportunities here at RLC\, as they are showcased out on our patio!
URL:https://www.orovalley.org/event/ministry-fair-2/
END:VEVENT
BEGIN:VEVENT
DTSTART;TZID=UTC:20251109T090000
DTEND;TZID=UTC:20251109T100000
DTSTAMP:20260422T064500
CREATED:20240106T184634Z
LAST-MODIFIED:20240228T200602Z
UID:10001720-1762678800-1762682400@www.orovalley.org
SUMMARY:Worship at SaddleBrooke
DESCRIPTION:Worship Online Here\n\n\n\nOnline Bulletin Here
URL:https://www.orovalley.org/event/worship-at-saddlebrooke/2025-11-09/
LOCATION:SaddleBrooke\, SaddleBrooke HOA2 Clubhouse\, Tucson\, Arizona\, 85739
CATEGORIES:Worship
ATTACH;FMTTYPE=image/jpeg:https://www.orovalley.org/wp-content/uploads/2023/08/sb-worship-pic_3.jpg
END:VEVENT
BEGIN:VEVENT
DTSTART;TZID=UTC:20251109T091500
DTEND;TZID=UTC:20251109T101500
DTSTAMP:20260422T064500
CREATED:20250610T165422Z
LAST-MODIFIED:20250610T165427Z
UID:10005097-1762679700-1762683300@www.orovalley.org
SUMMARY:09:15 Worship - Contemporary
DESCRIPTION:Sunday School\, Confirmation\, High School Sunday School \n\n\n\nChildcare Available \n\n\n\n\nWorship Online Here
URL:https://www.orovalley.org/event/0915-worship-contemporary/2025-11-09/
LOCATION:Oro Valley Sanctuary
CATEGORIES:Worship
ATTACH;FMTTYPE=image/jpeg:https://www.orovalley.org/wp-content/uploads/2023/11/CopyrightTaylorNoelPhotography2021-200-scaled.jpg
END:VEVENT
BEGIN:VEVENT
DTSTART;TZID=UTC:20251109T104500
DTEND;TZID=UTC:20251109T114500
DTSTAMP:20260422T064500
CREATED:20250610T165108Z
LAST-MODIFIED:20250610T165111Z
UID:10005009-1762685100-1762688700@www.orovalley.org
SUMMARY:10:45 Worship - Contemporary
DESCRIPTION:Sunday School\, Confirmation\, High School Sunday School \n\n\n\nChildcare Available \n\n\n\n\nWorship Online Here
URL:https://www.orovalley.org/event/1045-worship-contemporary-7/2025-11-09/
LOCATION:Oro Valley Sanctuary
CATEGORIES:Worship
ATTACH;FMTTYPE=image/jpeg:https://www.orovalley.org/wp-content/uploads/2023/11/CopyrightTaylorNoelPhotography2021-200-scaled.jpg
END:VEVENT
BEGIN:VEVENT
DTSTART;TZID=UTC:20251109T150000
DTEND;TZID=UTC:20251109T160000
DTSTAMP:20260422T064500
CREATED:20251008T010011Z
LAST-MODIFIED:20251008T010014Z
UID:10005228-1762700400-1762704000@www.orovalley.org
SUMMARY:Catalinas Community Chorus Veteran’s Day Concert
DESCRIPTION:Oro Valley Sanctuary
URL:https://www.orovalley.org/event/catalinas-community-chorus-veterans-day-concert/
END:VEVENT
BEGIN:VEVENT
DTSTART;TZID=UTC:20251111T100000
DTEND;TZID=UTC:20251111T120000
DTSTAMP:20260422T064500
CREATED:20250829T191746Z
LAST-MODIFIED:20251017T203816Z
UID:10005189-1762855200-1762862400@www.orovalley.org
SUMMARY:Faithfully Addressing Polarization – Adult Study Class
DESCRIPTION:Oro Valley Sanctuary \n\n\n\nWe will examine the causes and consequences of polarization in our communities. We will explore our own motivations and internal triggers\, practice talking through tough topics\, and gain fresh perspectives on handling disagreements in the Church and in society. \n\n\n\nLearn more about this class and how to register here: https://www.orovalley.org/study/
URL:https://www.orovalley.org/event/faithfully-addressing-polarization-adult-study-class-4/
END:VEVENT
BEGIN:VEVENT
DTSTART;TZID=UTC:20251111T183000
DTEND;TZID=UTC:20251111T203000
DTSTAMP:20260422T064500
CREATED:20251111T170454Z
LAST-MODIFIED:20251111T170509Z
UID:10003780-1762885800-1762893000@www.orovalley.org
SUMMARY:Resurrection Card Players
DESCRIPTION:RLC Card Players meets every second and fourth Tuesday of the month in the Music Room. No reservation necessary. Please bring a snack to share and your own beverage. We play a variety of card games and we’re happy to teach you if you don’t know how to play. Everyone is welcome.
URL:https://www.orovalley.org/event/resurrection-card-players-5/2025-11-11/
END:VEVENT
BEGIN:VEVENT
DTSTART;TZID=UTC:20251112T073000
DTEND;TZID=UTC:20251112T170000
DTSTAMP:20260422T064500
CREATED:20251107T192049Z
LAST-MODIFIED:20251107T192054Z
UID:10006007-1762932600-1762966800@www.orovalley.org
SUMMARY:Desert Wanderers November Hike
DESCRIPTION:Departs RLC\, will hike Honey Bee Canyon. \n\n\n\nSign up with wd.wiseguy@yahoo.com
URL:https://www.orovalley.org/event/desert-wanderers-november-hike/
END:VEVENT
BEGIN:VEVENT
DTSTART;TZID=UTC:20251112T113000
DTEND;TZID=UTC:20251112T133000
DTSTAMP:20260422T064500
CREATED:20251107T183132Z
LAST-MODIFIED:20251107T200721Z
UID:10005340-1762947000-1762954200@www.orovalley.org
SUMMARY:PrimeTime Lunch With Trivia
DESCRIPTION:Come enjoy a delicious homecooked meal of roasted turkey\, mashed potatoes and gravy\, wild rice dressing\, green beans\, cranberry sauce\, rolls and pumpkin and apple pie with whipped cream for dessert! And enjoy trivia with great prizes! Just $10.00 per person. \n\n\n\nRSVP on the website: https://rsvp.church/r/ztKN2dJ9 \n\n\n\nOnce again we will have the grocery cart out during PrimeTime\, collecting food donations for the Oro Valley Assembly of God food pantry. The Southern Arizona food bank is struggling to keep up with the demand\, and some families are being turned away. As you are able\, please bring an item or two for the grocery cart. Canned vegetables\, canned fruit\, canned meat\, rice\, beans and cereal are the most needed items. Thank you for your support!
URL:https://www.orovalley.org/event/primetime-lunch-with-trivia/
END:VEVENT
BEGIN:VEVENT
DTSTART;TZID=UTC:20251112T150000
DTEND;TZID=UTC:20251112T160000
DTSTAMP:20260422T064500
CREATED:20250701T214646Z
LAST-MODIFIED:20250701T214652Z
UID:10004493-1762959600-1762963200@www.orovalley.org
SUMMARY:Scripture & Salsa
DESCRIPTION:You are invited to join Pastor Carol every Wednesday from 3:00 – 4:00 PM at Mi Tierra Mexican Restaurant in Catalina starting January 8th for an informal discussion of the Bible texts for the upcoming weekend’s worship. No registration is required and there is no long-term commitment. Just grab your Bible and drop by.
URL:https://www.orovalley.org/event/scripture-salsa-2/2025-11-12/
END:VEVENT
BEGIN:VEVENT
DTSTART;TZID=UTC:20251113T130000
DTEND;TZID=UTC:20251113T160000
DTSTAMP:20260422T064500
CREATED:20241213T002356Z
LAST-MODIFIED:20241213T002359Z
UID:10004095-1763038800-1763049600@www.orovalley.org
SUMMARY:Matching Dragons Mah Jongg
DESCRIPTION:Do you play the game of (American) Mah Jongg and have been looking for a group to play with? Join us on Thursday afternoons 1:00-4:00 PM in Luther’s Lair in the Outreach Center. These are friendly games. We do NOT play for money but we ALWAYS have a good time. This group is for those who already know how to play the game. However\, anyone is invited to come observe to see if they would like to learn to play the game. Questions? Contact Jackie Verdick at jackieverdick@gmail.com or 612-554-0111.
URL:https://www.orovalley.org/event/matching-dragons-mah-jongg/2025-11-13/
END:VEVENT
BEGIN:VEVENT
DTSTART;TZID=UTC:20251113T130000
DTEND;TZID=UTC:20251113T160000
DTSTAMP:20260422T064500
CREATED:20251107T191455Z
LAST-MODIFIED:20251107T191616Z
UID:10005745-1763038800-1763049600@www.orovalley.org
SUMMARY:Art by Heart Open Studio
DESCRIPTION:
URL:https://www.orovalley.org/event/art-by-heart-open-studio/2025-11-13/
END:VEVENT
BEGIN:VEVENT
DTSTART;TZID=UTC:20251114T123000
DTEND;TZID=UTC:20251114T143000
DTSTAMP:20260422T064500
CREATED:20251107T182904Z
LAST-MODIFIED:20251107T182910Z
UID:10005339-1763123400-1763130600@www.orovalley.org
SUMMARY:Ladies Luncheon
DESCRIPTION:
URL:https://www.orovalley.org/event/ladies-luncheon-14/
END:VEVENT
BEGIN:VEVENT
DTSTART;TZID=UTC:20251114T173000
DTEND;TZID=UTC:20251114T200000
DTSTAMP:20260422T064500
CREATED:20251107T193059Z
LAST-MODIFIED:20251107T193107Z
UID:10006012-1763141400-1763150400@www.orovalley.org
SUMMARY:Stone Soup Performance
DESCRIPTION:This event will be held in the Oro Valley Sanctuary.
URL:https://www.orovalley.org/event/stone-soup-performance/
END:VEVENT
BEGIN:VEVENT
DTSTART;TZID=UTC:20251115T170000
DTEND;TZID=UTC:20251115T180000
DTSTAMP:20260422T064500
CREATED:20240130T000623Z
LAST-MODIFIED:20240228T201059Z
UID:10002339-1763226000-1763229600@www.orovalley.org
SUMMARY:5:00 Worship
DESCRIPTION:Join us for worship!  \n\n\n\n\nWorship Online Here\n\n\n\nOnline Bulletins Here
URL:https://www.orovalley.org/event/500-worship-2/2025-11-15/
LOCATION:Oro Valley Sanctuary
CATEGORIES:Worship
ATTACH;FMTTYPE=image/jpeg:https://www.orovalley.org/wp-content/uploads/2023/08/CopyrightTaylorNoelPhotography2021-175-354e5a6-scaled.jpg
END:VEVENT
BEGIN:VEVENT
DTSTART;TZID=UTC:20251116T074500
DTEND;TZID=UTC:20251116T084500
DTSTAMP:20260422T064500
CREATED:20250605T233406Z
LAST-MODIFIED:20250605T233413Z
UID:10000103-1763279100-1763282700@www.orovalley.org
SUMMARY:7:45 Worship
DESCRIPTION:Traditional Worship. Music provided by Resurrection’s Chancel Choir \n\n\n\n\nWorship Online Here\n\n\n\n\n \n\n\n\n\nOnline Bulletins Here
URL:https://www.orovalley.org/event/745-worship-9/2025-11-16/
LOCATION:Oro Valley Sanctuary
CATEGORIES:Worship
ATTACH;FMTTYPE=image/jpeg:https://www.orovalley.org/wp-content/uploads/2023/12/CopyrightTaylorNoelPhotography2021-158-scaled.jpg
END:VEVENT
END:VCALENDAR