BEGIN:VCALENDAR
VERSION:2.0
PRODID:-//Resurrection Lutheran Church - ECPv6.15.20//NONSGML v1.0//EN
CALSCALE:GREGORIAN
METHOD:PUBLISH
X-WR-CALNAME:Resurrection Lutheran Church
X-ORIGINAL-URL:https://www.orovalley.org
X-WR-CALDESC:Events for Resurrection Lutheran Church
REFRESH-INTERVAL;VALUE=DURATION:PT1H
X-Robots-Tag:noindex
X-PUBLISHED-TTL:PT1H
BEGIN:VTIMEZONE
TZID:UTC
BEGIN:STANDARD
TZOFFSETFROM:+0000
TZOFFSETTO:+0000
TZNAME:UTC
DTSTART:20230101T000000
END:STANDARD
END:VTIMEZONE
BEGIN:VEVENT
DTSTART;TZID=UTC:20240405T190000
DTEND;TZID=UTC:20240405T200000
DTSTAMP:20260422T173512
CREATED:20240320T213802Z
LAST-MODIFIED:20240325T233244Z
UID:10002887-1712343600-1712347200@www.orovalley.org
SUMMARY:Alleluia!: The Musical
DESCRIPTION:Presented by the Choirs of Resurrection\n\n\n\n\n\nPresented both April 5 @ 7:00 pm – 8 pm\, and again April 6 @ 5:00 pm – 6:00 pm. \n\n\n\nJoin us in the Oro Valley Sanctuary as the choirs of Resurrection present Alleluia: A Praise Gathering for Believers by Bill & Gloria Gaither. A reflection of Jesus’ birth\, life\, sacrifice on Calvary\, and His triumphant resurrection! Let us praise the Lord! No tickets necessary\, free will offering. 
URL:https://www.orovalley.org/event/alleluia-the-musical/2024-04-05/
LOCATION:Oro Valley Sanctuary
CATEGORIES:Music Ministry
ATTACH;FMTTYPE=image/jpeg:https://www.orovalley.org/wp-content/uploads/2024/03/Graphics-12.jpg
END:VEVENT
BEGIN:VEVENT
DTSTART;TZID=UTC:20240404T190000
DTEND;TZID=UTC:20240404T203000
DTSTAMP:20260422T173512
CREATED:20240212T222150Z
LAST-MODIFIED:20240212T230708Z
UID:10002827-1712257200-1712262600@www.orovalley.org
SUMMARY:Chancel Choir
DESCRIPTION:The Chancel Choir is a small ensemble and rehearses in the Choir Loft on Thursdays from 7-8:30 PM\, and sings in the 7:45 AM service\, September through May.  \n\n\n\n\nLearn More About Chancel Choir Here
URL:https://www.orovalley.org/event/chancel-choir-3/2024-04-04/
LOCATION:Oro Valley Sanctuary
CATEGORIES:Music Ministry
ATTACH;FMTTYPE=image/jpeg:https://www.orovalley.org/wp-content/uploads/2023/12/qtq80-sMxHqZ-scaled.jpeg
END:VEVENT
BEGIN:VEVENT
DTSTART;TZID=UTC:20240403T190000
DTEND;TZID=UTC:20240403T203000
DTSTAMP:20260422T173512
CREATED:20240212T224350Z
LAST-MODIFIED:20240212T225817Z
UID:10002844-1712170800-1712176200@www.orovalley.org
SUMMARY:Spirit Singers
DESCRIPTION:The Spirit Singers choir is a large ensemble and rehearses in the Choir Loft on Wednesdays\, and sings on Sundays at the Sunday\, 9:15 AM service\, September through May. \n\n\n\n\nLearn More about Spirit Singers Here
URL:https://www.orovalley.org/event/spirit-singers/2024-04-03/
LOCATION:Oro Valley Sanctuary
CATEGORIES:Music Ministry
ATTACH;FMTTYPE=image/jpeg:https://www.orovalley.org/wp-content/uploads/2023/12/qtq80-sMxHqZ-scaled.jpeg
END:VEVENT
BEGIN:VEVENT
DTSTART;TZID=UTC:20240331T104500
DTEND;TZID=UTC:20240331T114500
DTSTAMP:20260422T173512
CREATED:20240226T230140Z
LAST-MODIFIED:20240227T183648Z
UID:10001311-1711881900-1711885500@www.orovalley.org
SUMMARY:10:45 Easter Worship
DESCRIPTION:He is Risen! Join us as we celebrate the Resurrection promise brought to us by Jesus Christ!
URL:https://www.orovalley.org/event/1045-worship-contemporary-2/
LOCATION:Oro Valley Sanctuary
CATEGORIES:Worship
ATTACH;FMTTYPE=image/jpeg:https://www.orovalley.org/wp-content/uploads/2024/02/Holy-Week-a-e1708983621510.jpg
END:VEVENT
BEGIN:VEVENT
DTSTART;TZID=UTC:20240331T091500
DTEND;TZID=UTC:20240331T101500
DTSTAMP:20260422T173512
CREATED:20240226T225933Z
LAST-MODIFIED:20240327T231938Z
UID:10000534-1711876500-1711880100@www.orovalley.org
SUMMARY:9:15 Easter Worship
DESCRIPTION:He is Risen! Join us as we celebrate the Resurrection promise brought to us by Jesus Christ! \n\n\n\nAlso at this service is our Children\, Youth\, and Family Easter Egg Hunt! This will include an Easter lesson\, craft\, snack\, and Easter Egg Hunt. No need to sign up\, meet us on the Patio on Easter Morning to join!
URL:https://www.orovalley.org/event/915-worship-2/
LOCATION:Oro Valley Sanctuary
CATEGORIES:Worship
ATTACH;FMTTYPE=image/jpeg:https://www.orovalley.org/wp-content/uploads/2024/02/Holy-Week-a-e1708983621510.jpg
END:VEVENT
BEGIN:VEVENT
DTSTART;TZID=UTC:20240331T090000
DTEND;TZID=UTC:20240331T100000
DTSTAMP:20260422T173512
CREATED:20240226T225255Z
LAST-MODIFIED:20240327T231711Z
UID:10001636-1711875600-1711879200@www.orovalley.org
SUMMARY:Easter Worship at SaddleBrooke
DESCRIPTION:He is Risen! Join us as we celebrate the resurrection promise brought to us by Jesus Christ!
URL:https://www.orovalley.org/event/worship-at-saddlebrooke-2/
LOCATION:SaddleBrooke\, SaddleBrooke HOA2 Clubhouse\, Tucson\, Arizona\, 85739
CATEGORIES:Worship
ATTACH;FMTTYPE=image/jpeg:https://www.orovalley.org/wp-content/uploads/2024/02/Holy-Week-a-e1708983621510.jpg
END:VEVENT
BEGIN:VEVENT
DTSTART;TZID=UTC:20240331T074500
DTEND;TZID=UTC:20240331T084500
DTSTAMP:20260422T173512
CREATED:20240226T225119Z
LAST-MODIFIED:20240327T231628Z
UID:10000018-1711871100-1711874700@www.orovalley.org
SUMMARY:7:45 Easter Worship
DESCRIPTION:He is Risen! Join us as we celebrate the Resurrection promise brought to us by Jesus Christ! Traditional Worship\, music provided by Resurrection’s Chancel Choir
URL:https://www.orovalley.org/event/745-worship-3/
LOCATION:Oro Valley Sanctuary
CATEGORIES:Worship
ATTACH;FMTTYPE=image/jpeg:https://www.orovalley.org/wp-content/uploads/2024/02/Holy-Week-a-e1708983621510.jpg
END:VEVENT
BEGIN:VEVENT
DTSTART;TZID=UTC:20240331T061500
DTEND;TZID=UTC:20240331T071500
DTSTAMP:20260422T173512
CREATED:20240226T230836Z
LAST-MODIFIED:20240328T171856Z
UID:10002881-1711865700-1711869300@www.orovalley.org
SUMMARY:6:15 Easter Sunrise Worship
DESCRIPTION:He is Risen! Join us for a Sunrise Service as we celebrate the Resurrection promise brought to us by Jesus Christ! Held in the Memorial Plaza at Oro Valley Campus\, please dress warm!
URL:https://www.orovalley.org/event/615-easter-sunrise-worship/
LOCATION:Memorial Plaza\, 11575 1st Ave.\, Oro Valley\, Arizona\, 85737\, United States
CATEGORIES:Worship
ATTACH;FMTTYPE=image/jpeg:https://www.orovalley.org/wp-content/uploads/2024/02/Holy-Week-a-e1708983621510.jpg
END:VEVENT
BEGIN:VEVENT
DTSTART;TZID=UTC:20240330T170000
DTEND;TZID=UTC:20240330T180000
DTSTAMP:20260422T173512
CREATED:20240226T224915Z
LAST-MODIFIED:20240328T172329Z
UID:10002254-1711818000-1711821600@www.orovalley.org
SUMMARY:5:00 Easter Worship
DESCRIPTION:He is Risen! Join us as we celebrate the Resurrection promise brought to us by Jesus Christ!  \n\n\n\n\nWorship Online Here\n\n\n\nFind Bulletins Here
URL:https://www.orovalley.org/event/500-worship-4/
LOCATION:Oro Valley Sanctuary
CATEGORIES:Worship
ATTACH;FMTTYPE=image/jpeg:https://www.orovalley.org/wp-content/uploads/2024/02/Holy-Week-a-e1708983621510.jpg
END:VEVENT
BEGIN:VEVENT
DTSTART;TZID=UTC:20240329T181500
DTEND;TZID=UTC:20240329T191500
DTSTAMP:20260422T173512
CREATED:20240226T224520Z
LAST-MODIFIED:20240327T232732Z
UID:10002875-1711736100-1711739700@www.orovalley.org
SUMMARY:Good Friday Service
DESCRIPTION:Join us for Good Friday Service
URL:https://www.orovalley.org/event/good-friday-service/
LOCATION:Oro Valley Sanctuary
CATEGORIES:Worship
ATTACH;FMTTYPE=image/jpeg:https://www.orovalley.org/wp-content/uploads/2024/02/Holy-Week-a-e1708983621510.jpg
END:VEVENT
BEGIN:VEVENT
DTSTART;TZID=UTC:20240329T120000
DTEND;TZID=UTC:20240329T130000
DTSTAMP:20260422T173512
CREATED:20240226T224820Z
LAST-MODIFIED:20240328T172617Z
UID:10002876-1711713600-1711717200@www.orovalley.org
SUMMARY:Good Friday Service
DESCRIPTION:Join us for Maundy Thursday worship!  \n\n\n\n\nWorship Online Here\n\n\n\nFind Bulletins Here
URL:https://www.orovalley.org/event/good-friday-service-2/
LOCATION:Oro Valley Sanctuary
CATEGORIES:Worship
ATTACH;FMTTYPE=image/jpeg:https://www.orovalley.org/wp-content/uploads/2024/02/Holy-Week-a-e1708983621510.jpg
END:VEVENT
BEGIN:VEVENT
DTSTART;TZID=UTC:20240328T190000
DTEND;TZID=UTC:20240328T203000
DTSTAMP:20260422T173512
CREATED:20240212T222150Z
LAST-MODIFIED:20240212T230708Z
UID:10002826-1711652400-1711657800@www.orovalley.org
SUMMARY:Chancel Choir
DESCRIPTION:The Chancel Choir is a small ensemble and rehearses in the Choir Loft on Thursdays from 7-8:30 PM\, and sings in the 7:45 AM service\, September through May.  \n\n\n\n\nLearn More About Chancel Choir Here
URL:https://www.orovalley.org/event/chancel-choir-3/2024-03-28/
LOCATION:Oro Valley Sanctuary
CATEGORIES:Music Ministry
ATTACH;FMTTYPE=image/jpeg:https://www.orovalley.org/wp-content/uploads/2023/12/qtq80-sMxHqZ-scaled.jpeg
END:VEVENT
BEGIN:VEVENT
DTSTART;TZID=UTC:20240328T181500
DTEND;TZID=UTC:20240328T191500
DTSTAMP:20260422T173512
CREATED:20240226T223901Z
LAST-MODIFIED:20240327T232532Z
UID:10002874-1711649700-1711653300@www.orovalley.org
SUMMARY:Maundy Thursday Worship
DESCRIPTION:Join us for Maundy Thursday worship!
URL:https://www.orovalley.org/event/maundy-thursday-worship-4/
LOCATION:Oro Valley Sanctuary
CATEGORIES:Worship
ATTACH;FMTTYPE=image/jpeg:https://www.orovalley.org/wp-content/uploads/2024/02/Holy-Week-a-e1708983621510.jpg
END:VEVENT
BEGIN:VEVENT
DTSTART;TZID=UTC:20240328T120000
DTEND;TZID=UTC:20240328T130000
DTSTAMP:20260422T173512
CREATED:20240226T222836Z
LAST-MODIFIED:20240327T232026Z
UID:10002873-1711627200-1711630800@www.orovalley.org
SUMMARY:Maundy Thursday Worship
DESCRIPTION:Join us for Maundy Thursday worship!
URL:https://www.orovalley.org/event/maundy-thursday-worship-3/
LOCATION:Oro Valley Sanctuary
CATEGORIES:Worship
ATTACH;FMTTYPE=image/jpeg:https://www.orovalley.org/wp-content/uploads/2024/02/Holy-Week-a-e1708983621510.jpg
END:VEVENT
BEGIN:VEVENT
DTSTART;TZID=UTC:20240327T190000
DTEND;TZID=UTC:20240327T203000
DTSTAMP:20260422T173512
CREATED:20240212T224350Z
LAST-MODIFIED:20240212T225817Z
UID:10002843-1711566000-1711571400@www.orovalley.org
SUMMARY:Spirit Singers
DESCRIPTION:The Spirit Singers choir is a large ensemble and rehearses in the Choir Loft on Wednesdays\, and sings on Sundays at the Sunday\, 9:15 AM service\, September through May. \n\n\n\n\nLearn More about Spirit Singers Here
URL:https://www.orovalley.org/event/spirit-singers/2024-03-27/
LOCATION:Oro Valley Sanctuary
CATEGORIES:Music Ministry
ATTACH;FMTTYPE=image/jpeg:https://www.orovalley.org/wp-content/uploads/2023/12/qtq80-sMxHqZ-scaled.jpeg
END:VEVENT
BEGIN:VEVENT
DTSTART;TZID=UTC:20240325T103000
DTEND;TZID=UTC:20240325T120000
DTSTAMP:20260422T173512
CREATED:20240212T232459Z
LAST-MODIFIED:20240213T001024Z
UID:10001916-1711362600-1711368000@www.orovalley.org
SUMMARY:Bible 101
DESCRIPTION:​Using Making Sense of the Bible by Adam Hamilton this in-person class will explore how the Bible came to be\, work through the inerrant and inspired Word of God\, create a place to seek to understand one another and discuss how we interpret scripture in our lives. This class meets weekly and is about 11 weeks long.   \n\n\n\n\nStream Class Here
URL:https://www.orovalley.org/event/bible-101-2/2024-03-25/
LOCATION:Oro Valley Sanctuary
CATEGORIES:Bible Study,Learn
ATTACH;FMTTYPE=image/jpeg:https://www.orovalley.org/wp-content/uploads/2024/01/Bible-101.jpg
END:VEVENT
BEGIN:VEVENT
DTSTART;TZID=UTC:20240324T104500
DTEND;TZID=UTC:20240324T114500
DTSTAMP:20260422T173512
CREATED:20240226T220201Z
LAST-MODIFIED:20240226T220524Z
UID:10001310-1711277100-1711280700@www.orovalley.org
SUMMARY:10:45 Palm Sunday Worship
DESCRIPTION:Childcare Available \n\n\n\nJoin us for Palm Sunday Worship! 10:45 is our Contemporary Service\, music is provided by Resurrection’s river band.
URL:https://www.orovalley.org/event/1045-worship-contemporary/
LOCATION:Oro Valley Sanctuary
CATEGORIES:Worship
ATTACH;FMTTYPE=image/jpeg:https://www.orovalley.org/wp-content/uploads/2024/02/Holy-Week-a-e1708983621510.jpg
END:VEVENT
BEGIN:VEVENT
DTSTART;TZID=UTC:20240324T091500
DTEND;TZID=UTC:20240324T101500
DTSTAMP:20260422T173512
CREATED:20240226T215734Z
LAST-MODIFIED:20240226T220730Z
UID:10000533-1711271700-1711275300@www.orovalley.org
SUMMARY:9:15 Palm Sunday Worship
DESCRIPTION:Join us for Palm Sunday Worship! 9:15 is a Traditional Service\, music is provided by Resurrection’s Spirit Singers. \n\n\n\nChildcare available
URL:https://www.orovalley.org/event/915-worship/
LOCATION:Oro Valley Sanctuary
CATEGORIES:Worship
ATTACH;FMTTYPE=image/jpeg:https://www.orovalley.org/wp-content/uploads/2024/02/Holy-Week-a-e1708983621510.jpg
END:VEVENT
BEGIN:VEVENT
DTSTART;TZID=UTC:20240324T074500
DTEND;TZID=UTC:20240324T084500
DTSTAMP:20260422T173512
CREATED:20240228T194309Z
LAST-MODIFIED:20240513T201331Z
UID:10002930-1711266300-1711269900@www.orovalley.org
SUMMARY:7:45 Worship
DESCRIPTION:Traditional Worship. Music provided by Resurrection’s Chancel Choir \n\n\n\n\nWorship Online Here\n\n\n\n\n \n\n\n\n\nOnline Bulletins Here
URL:https://www.orovalley.org/event/745-worship-4/2024-03-24/
LOCATION:Oro Valley Sanctuary
CATEGORIES:Worship
ATTACH;FMTTYPE=image/jpeg:https://www.orovalley.org/wp-content/uploads/2023/12/CopyrightTaylorNoelPhotography2021-158-scaled.jpg
END:VEVENT
BEGIN:VEVENT
DTSTART;TZID=UTC:20240324T074500
DTEND;TZID=UTC:20240324T084500
DTSTAMP:20260422T173512
CREATED:20240226T215542Z
LAST-MODIFIED:20240226T215635Z
UID:10000017-1711266300-1711269900@www.orovalley.org
SUMMARY:7:45 Palm Sunday Worship
DESCRIPTION:Join us for Palm Sunday Worship! 7:45 is our Traditional Service\, music is provided by Resurrection’s Chancel Choir.
URL:https://www.orovalley.org/event/745-worship-2/
LOCATION:Oro Valley Sanctuary
CATEGORIES:Worship
ATTACH;FMTTYPE=image/jpeg:https://www.orovalley.org/wp-content/uploads/2024/02/Holy-Week-a-e1708983621510.jpg
END:VEVENT
BEGIN:VEVENT
DTSTART;TZID=UTC:20240323T170000
DTEND;TZID=UTC:20240323T180000
DTSTAMP:20260422T173512
CREATED:20240226T202150Z
LAST-MODIFIED:20240226T215231Z
UID:10002253-1711213200-1711216800@www.orovalley.org
SUMMARY:5:00 Palm Sunday Worship
DESCRIPTION:Join us for worship as we celebrate Palm Sunday! \n\n\n\nClick Here to Join Worship Online
URL:https://www.orovalley.org/event/500-worship-3/
LOCATION:Oro Valley Sanctuary
CATEGORIES:Worship
ATTACH;FMTTYPE=image/jpeg:https://www.orovalley.org/wp-content/uploads/2024/02/Holy-Week-a-e1708983621510.jpg
END:VEVENT
BEGIN:VEVENT
DTSTART;TZID=UTC:20240322T173000
DTEND;TZID=UTC:20240322T193000
DTSTAMP:20260422T173512
CREATED:20240318T224044Z
LAST-MODIFIED:20240318T224630Z
UID:10002885-1711128600-1711135800@www.orovalley.org
SUMMARY:Family Fun Night!
DESCRIPTION:Join us for dinner and dessert for fellowship and fun with other families of the CDC! After dinner the kids can watch a movie in the sanctuary with some of our RLCDC Staff while you have some time to meet each other and relax! Chris will also have some information to share from the Conscious Discipline cirriculum that you might find helpful in your everyday parenting challenges.  \n\n\n\nPlease RSVP with the CDC office or with your child’s teacher so that we can prepare your fabulous meal!
URL:https://www.orovalley.org/event/family-fun-night/
LOCATION:Outreach Center Gymnasium\, 11575 N 1st Ave\, Oro Valley\, AZ\, 85737\, United States
END:VEVENT
BEGIN:VEVENT
DTSTART;TZID=UTC:20240321T190000
DTEND;TZID=UTC:20240321T203000
DTSTAMP:20260422T173512
CREATED:20240212T222150Z
LAST-MODIFIED:20240212T230708Z
UID:10002825-1711047600-1711053000@www.orovalley.org
SUMMARY:Chancel Choir
DESCRIPTION:The Chancel Choir is a small ensemble and rehearses in the Choir Loft on Thursdays from 7-8:30 PM\, and sings in the 7:45 AM service\, September through May.  \n\n\n\n\nLearn More About Chancel Choir Here
URL:https://www.orovalley.org/event/chancel-choir-3/2024-03-21/
LOCATION:Oro Valley Sanctuary
CATEGORIES:Music Ministry
ATTACH;FMTTYPE=image/jpeg:https://www.orovalley.org/wp-content/uploads/2023/12/qtq80-sMxHqZ-scaled.jpeg
END:VEVENT
BEGIN:VEVENT
DTSTART;TZID=UTC:20240320T190000
DTEND;TZID=UTC:20240320T203000
DTSTAMP:20260422T173512
CREATED:20240212T224350Z
LAST-MODIFIED:20240212T225817Z
UID:10002842-1710961200-1710966600@www.orovalley.org
SUMMARY:Spirit Singers
DESCRIPTION:The Spirit Singers choir is a large ensemble and rehearses in the Choir Loft on Wednesdays\, and sings on Sundays at the Sunday\, 9:15 AM service\, September through May. \n\n\n\n\nLearn More about Spirit Singers Here
URL:https://www.orovalley.org/event/spirit-singers/2024-03-20/
LOCATION:Oro Valley Sanctuary
CATEGORIES:Music Ministry
ATTACH;FMTTYPE=image/jpeg:https://www.orovalley.org/wp-content/uploads/2023/12/qtq80-sMxHqZ-scaled.jpeg
END:VEVENT
BEGIN:VEVENT
DTSTART;TZID=UTC:20240320T120000
DTEND;TZID=UTC:20240320T130000
DTSTAMP:20260422T173512
CREATED:20240129T233021Z
LAST-MODIFIED:20240129T233226Z
UID:10001977-1710936000-1710939600@www.orovalley.org
SUMMARY:Lenten Service
DESCRIPTION:The Lenten season is a time of reflection\, of meditation on what it is to be human. Join us as we worship the God who created us from dust\, and contemplate our createdness.
URL:https://www.orovalley.org/event/lenten-service/2024-03-20/
LOCATION:Oro Valley Sanctuary
ATTACH;FMTTYPE=image/jpeg:https://www.orovalley.org/wp-content/uploads/2024/01/56.jpg
END:VEVENT
BEGIN:VEVENT
DTSTART;TZID=UTC:20240318T103000
DTEND;TZID=UTC:20240318T120000
DTSTAMP:20260422T173512
CREATED:20240212T232459Z
LAST-MODIFIED:20240213T001024Z
UID:10001915-1710757800-1710763200@www.orovalley.org
SUMMARY:Bible 101
DESCRIPTION:​Using Making Sense of the Bible by Adam Hamilton this in-person class will explore how the Bible came to be\, work through the inerrant and inspired Word of God\, create a place to seek to understand one another and discuss how we interpret scripture in our lives. This class meets weekly and is about 11 weeks long.   \n\n\n\n\nStream Class Here
URL:https://www.orovalley.org/event/bible-101-2/2024-03-18/
LOCATION:Oro Valley Sanctuary
CATEGORIES:Bible Study,Learn
ATTACH;FMTTYPE=image/jpeg:https://www.orovalley.org/wp-content/uploads/2024/01/Bible-101.jpg
END:VEVENT
BEGIN:VEVENT
DTSTART;TZID=UTC:20240317T104500
DTEND;TZID=UTC:20240317T114500
DTSTAMP:20260422T173512
CREATED:20240106T065411Z
LAST-MODIFIED:20240228T200844Z
UID:10001309-1710672300-1710675900@www.orovalley.org
SUMMARY:10:45 Worship - Contemporary
DESCRIPTION:Sunday School\, Confirmation\, High School Sunday School \n\n\n\nChildcare Available \n\n\n\n\nWorship Online Here
URL:https://www.orovalley.org/event/worship-3/2024-03-17/
LOCATION:Oro Valley Sanctuary
CATEGORIES:Worship
ATTACH;FMTTYPE=image/jpeg:https://www.orovalley.org/wp-content/uploads/2023/11/CopyrightTaylorNoelPhotography2021-200-scaled.jpg
END:VEVENT
BEGIN:VEVENT
DTSTART;TZID=UTC:20240317T090000
DTEND;TZID=UTC:20240317T100000
DTSTAMP:20260422T173512
CREATED:20240106T184634Z
LAST-MODIFIED:20240228T200602Z
UID:10001634-1710666000-1710669600@www.orovalley.org
SUMMARY:Worship at SaddleBrooke
DESCRIPTION:Worship Online Here\n\n\n\nOnline Bulletin Here
URL:https://www.orovalley.org/event/worship-at-saddlebrooke/2024-03-17/
LOCATION:SaddleBrooke\, SaddleBrooke HOA2 Clubhouse\, Tucson\, Arizona\, 85739
CATEGORIES:Worship
ATTACH;FMTTYPE=image/jpeg:https://www.orovalley.org/wp-content/uploads/2023/08/sb-worship-pic_3.jpg
END:VEVENT
BEGIN:VEVENT
DTSTART;TZID=UTC:20240317T074500
DTEND;TZID=UTC:20240317T084500
DTSTAMP:20260422T173512
CREATED:20240228T194309Z
LAST-MODIFIED:20240513T201331Z
UID:10002929-1710661500-1710665100@www.orovalley.org
SUMMARY:7:45 Worship
DESCRIPTION:Traditional Worship. Music provided by Resurrection’s Chancel Choir \n\n\n\n\nWorship Online Here\n\n\n\n\n \n\n\n\n\nOnline Bulletins Here
URL:https://www.orovalley.org/event/745-worship-4/2024-03-17/
LOCATION:Oro Valley Sanctuary
CATEGORIES:Worship
ATTACH;FMTTYPE=image/jpeg:https://www.orovalley.org/wp-content/uploads/2023/12/CopyrightTaylorNoelPhotography2021-158-scaled.jpg
END:VEVENT
BEGIN:VEVENT
DTSTART;TZID=UTC:20240317T074500
DTEND;TZID=UTC:20240317T084500
DTSTAMP:20260422T173512
CREATED:20240226T214735Z
LAST-MODIFIED:20240226T215430Z
UID:10000016-1710661500-1710665100@www.orovalley.org
SUMMARY:7:45 Worship
DESCRIPTION:7:45 is our Traditional Service\, music is provided by Resurrection’s Chancel Choir.
URL:https://www.orovalley.org/event/745-worship/
LOCATION:Oro Valley Sanctuary
CATEGORIES:Worship
ATTACH;FMTTYPE=image/jpeg:https://www.orovalley.org/wp-content/uploads/2023/12/CopyrightTaylorNoelPhotography2021-158-scaled.jpg
END:VEVENT
END:VCALENDAR