BEGIN:VCALENDAR
VERSION:2.0
PRODID:-//Resurrection Lutheran Church - ECPv6.15.20//NONSGML v1.0//EN
CALSCALE:GREGORIAN
METHOD:PUBLISH
X-WR-CALNAME:Resurrection Lutheran Church
X-ORIGINAL-URL:https://www.orovalley.org
X-WR-CALDESC:Events for Resurrection Lutheran Church
REFRESH-INTERVAL;VALUE=DURATION:PT1H
X-Robots-Tag:noindex
X-PUBLISHED-TTL:PT1H
BEGIN:VTIMEZONE
TZID:UTC
BEGIN:STANDARD
TZOFFSETFROM:+0000
TZOFFSETTO:+0000
TZNAME:UTC
DTSTART:20230101T000000
END:STANDARD
END:VTIMEZONE
BEGIN:VEVENT
DTSTART;TZID=UTC:20240323T170000
DTEND;TZID=UTC:20240323T180000
DTSTAMP:20260422T191045
CREATED:20240226T202150Z
LAST-MODIFIED:20240226T215231Z
UID:10002253-1711213200-1711216800@www.orovalley.org
SUMMARY:5:00 Palm Sunday Worship
DESCRIPTION:Join us for worship as we celebrate Palm Sunday! \n\n\n\nClick Here to Join Worship Online
URL:https://www.orovalley.org/event/500-worship-3/
LOCATION:Oro Valley Sanctuary
CATEGORIES:Worship
ATTACH;FMTTYPE=image/jpeg:https://www.orovalley.org/wp-content/uploads/2024/02/Holy-Week-a-e1708983621510.jpg
END:VEVENT
BEGIN:VEVENT
DTSTART;TZID=UTC:20240322T173000
DTEND;TZID=UTC:20240322T193000
DTSTAMP:20260422T191045
CREATED:20240318T224044Z
LAST-MODIFIED:20240318T224630Z
UID:10002885-1711128600-1711135800@www.orovalley.org
SUMMARY:Family Fun Night!
DESCRIPTION:Join us for dinner and dessert for fellowship and fun with other families of the CDC! After dinner the kids can watch a movie in the sanctuary with some of our RLCDC Staff while you have some time to meet each other and relax! Chris will also have some information to share from the Conscious Discipline cirriculum that you might find helpful in your everyday parenting challenges.  \n\n\n\nPlease RSVP with the CDC office or with your child’s teacher so that we can prepare your fabulous meal!
URL:https://www.orovalley.org/event/family-fun-night/
LOCATION:Outreach Center Gymnasium\, 11575 N 1st Ave\, Oro Valley\, AZ\, 85737\, United States
END:VEVENT
BEGIN:VEVENT
DTSTART;TZID=UTC:20240321T190000
DTEND;TZID=UTC:20240321T203000
DTSTAMP:20260422T191045
CREATED:20240212T222150Z
LAST-MODIFIED:20240212T230708Z
UID:10002825-1711047600-1711053000@www.orovalley.org
SUMMARY:Chancel Choir
DESCRIPTION:The Chancel Choir is a small ensemble and rehearses in the Choir Loft on Thursdays from 7-8:30 PM\, and sings in the 7:45 AM service\, September through May.  \n\n\n\n\nLearn More About Chancel Choir Here
URL:https://www.orovalley.org/event/chancel-choir-3/2024-03-21/
LOCATION:Oro Valley Sanctuary
CATEGORIES:Music Ministry
ATTACH;FMTTYPE=image/jpeg:https://www.orovalley.org/wp-content/uploads/2023/12/qtq80-sMxHqZ-scaled.jpeg
END:VEVENT
BEGIN:VEVENT
DTSTART;TZID=UTC:20240320T190000
DTEND;TZID=UTC:20240320T203000
DTSTAMP:20260422T191045
CREATED:20240212T224350Z
LAST-MODIFIED:20240212T225817Z
UID:10002842-1710961200-1710966600@www.orovalley.org
SUMMARY:Spirit Singers
DESCRIPTION:The Spirit Singers choir is a large ensemble and rehearses in the Choir Loft on Wednesdays\, and sings on Sundays at the Sunday\, 9:15 AM service\, September through May. \n\n\n\n\nLearn More about Spirit Singers Here
URL:https://www.orovalley.org/event/spirit-singers/2024-03-20/
LOCATION:Oro Valley Sanctuary
CATEGORIES:Music Ministry
ATTACH;FMTTYPE=image/jpeg:https://www.orovalley.org/wp-content/uploads/2023/12/qtq80-sMxHqZ-scaled.jpeg
END:VEVENT
BEGIN:VEVENT
DTSTART;TZID=UTC:20240320T120000
DTEND;TZID=UTC:20240320T130000
DTSTAMP:20260422T191045
CREATED:20240129T233021Z
LAST-MODIFIED:20240129T233226Z
UID:10001977-1710936000-1710939600@www.orovalley.org
SUMMARY:Lenten Service
DESCRIPTION:The Lenten season is a time of reflection\, of meditation on what it is to be human. Join us as we worship the God who created us from dust\, and contemplate our createdness.
URL:https://www.orovalley.org/event/lenten-service/2024-03-20/
LOCATION:Oro Valley Sanctuary
ATTACH;FMTTYPE=image/jpeg:https://www.orovalley.org/wp-content/uploads/2024/01/56.jpg
END:VEVENT
BEGIN:VEVENT
DTSTART;TZID=UTC:20240318T103000
DTEND;TZID=UTC:20240318T120000
DTSTAMP:20260422T191045
CREATED:20240212T232459Z
LAST-MODIFIED:20240213T001024Z
UID:10001915-1710757800-1710763200@www.orovalley.org
SUMMARY:Bible 101
DESCRIPTION:​Using Making Sense of the Bible by Adam Hamilton this in-person class will explore how the Bible came to be\, work through the inerrant and inspired Word of God\, create a place to seek to understand one another and discuss how we interpret scripture in our lives. This class meets weekly and is about 11 weeks long.   \n\n\n\n\nStream Class Here
URL:https://www.orovalley.org/event/bible-101-2/2024-03-18/
LOCATION:Oro Valley Sanctuary
CATEGORIES:Bible Study,Learn
ATTACH;FMTTYPE=image/jpeg:https://www.orovalley.org/wp-content/uploads/2024/01/Bible-101.jpg
END:VEVENT
BEGIN:VEVENT
DTSTART;TZID=UTC:20240317T104500
DTEND;TZID=UTC:20240317T114500
DTSTAMP:20260422T191045
CREATED:20240106T065411Z
LAST-MODIFIED:20240228T200844Z
UID:10001309-1710672300-1710675900@www.orovalley.org
SUMMARY:10:45 Worship - Contemporary
DESCRIPTION:Sunday School\, Confirmation\, High School Sunday School \n\n\n\nChildcare Available \n\n\n\n\nWorship Online Here
URL:https://www.orovalley.org/event/worship-3/2024-03-17/
LOCATION:Oro Valley Sanctuary
CATEGORIES:Worship
ATTACH;FMTTYPE=image/jpeg:https://www.orovalley.org/wp-content/uploads/2023/11/CopyrightTaylorNoelPhotography2021-200-scaled.jpg
END:VEVENT
BEGIN:VEVENT
DTSTART;TZID=UTC:20240317T090000
DTEND;TZID=UTC:20240317T100000
DTSTAMP:20260422T191045
CREATED:20240106T184634Z
LAST-MODIFIED:20240228T200602Z
UID:10001634-1710666000-1710669600@www.orovalley.org
SUMMARY:Worship at SaddleBrooke
DESCRIPTION:Worship Online Here\n\n\n\nOnline Bulletin Here
URL:https://www.orovalley.org/event/worship-at-saddlebrooke/2024-03-17/
LOCATION:SaddleBrooke\, SaddleBrooke HOA2 Clubhouse\, Tucson\, Arizona\, 85739
CATEGORIES:Worship
ATTACH;FMTTYPE=image/jpeg:https://www.orovalley.org/wp-content/uploads/2023/08/sb-worship-pic_3.jpg
END:VEVENT
BEGIN:VEVENT
DTSTART;TZID=UTC:20240317T074500
DTEND;TZID=UTC:20240317T084500
DTSTAMP:20260422T191045
CREATED:20240228T194309Z
LAST-MODIFIED:20240513T201331Z
UID:10002929-1710661500-1710665100@www.orovalley.org
SUMMARY:7:45 Worship
DESCRIPTION:Traditional Worship. Music provided by Resurrection’s Chancel Choir \n\n\n\n\nWorship Online Here\n\n\n\n\n \n\n\n\n\nOnline Bulletins Here
URL:https://www.orovalley.org/event/745-worship-4/2024-03-17/
LOCATION:Oro Valley Sanctuary
CATEGORIES:Worship
ATTACH;FMTTYPE=image/jpeg:https://www.orovalley.org/wp-content/uploads/2023/12/CopyrightTaylorNoelPhotography2021-158-scaled.jpg
END:VEVENT
BEGIN:VEVENT
DTSTART;TZID=UTC:20240317T074500
DTEND;TZID=UTC:20240317T084500
DTSTAMP:20260422T191045
CREATED:20240226T214735Z
LAST-MODIFIED:20240226T215430Z
UID:10000016-1710661500-1710665100@www.orovalley.org
SUMMARY:7:45 Worship
DESCRIPTION:7:45 is our Traditional Service\, music is provided by Resurrection’s Chancel Choir.
URL:https://www.orovalley.org/event/745-worship/
LOCATION:Oro Valley Sanctuary
CATEGORIES:Worship
ATTACH;FMTTYPE=image/jpeg:https://www.orovalley.org/wp-content/uploads/2023/12/CopyrightTaylorNoelPhotography2021-158-scaled.jpg
END:VEVENT
BEGIN:VEVENT
DTSTART;TZID=UTC:20240316T170000
DTEND;TZID=UTC:20240316T180000
DTSTAMP:20260422T191045
CREATED:20240130T000623Z
LAST-MODIFIED:20240228T201059Z
UID:10002252-1710608400-1710612000@www.orovalley.org
SUMMARY:5:00 Worship
DESCRIPTION:Join us for worship!  \n\n\n\n\nWorship Online Here\n\n\n\nOnline Bulletins Here
URL:https://www.orovalley.org/event/500-worship-2/2024-03-16/
LOCATION:Oro Valley Sanctuary
CATEGORIES:Worship
ATTACH;FMTTYPE=image/jpeg:https://www.orovalley.org/wp-content/uploads/2023/08/CopyrightTaylorNoelPhotography2021-175-354e5a6-scaled.jpg
END:VEVENT
BEGIN:VEVENT
DTSTART;TZID=UTC:20240314T190000
DTEND;TZID=UTC:20240314T203000
DTSTAMP:20260422T191045
CREATED:20240212T222150Z
LAST-MODIFIED:20240212T230708Z
UID:10002824-1710442800-1710448200@www.orovalley.org
SUMMARY:Chancel Choir
DESCRIPTION:The Chancel Choir is a small ensemble and rehearses in the Choir Loft on Thursdays from 7-8:30 PM\, and sings in the 7:45 AM service\, September through May.  \n\n\n\n\nLearn More About Chancel Choir Here
URL:https://www.orovalley.org/event/chancel-choir-3/2024-03-14/
LOCATION:Oro Valley Sanctuary
CATEGORIES:Music Ministry
ATTACH;FMTTYPE=image/jpeg:https://www.orovalley.org/wp-content/uploads/2023/12/qtq80-sMxHqZ-scaled.jpeg
END:VEVENT
BEGIN:VEVENT
DTSTART;TZID=UTC:20240313T190000
DTEND;TZID=UTC:20240313T203000
DTSTAMP:20260422T191045
CREATED:20240212T224350Z
LAST-MODIFIED:20240212T225817Z
UID:10002841-1710356400-1710361800@www.orovalley.org
SUMMARY:Spirit Singers
DESCRIPTION:The Spirit Singers choir is a large ensemble and rehearses in the Choir Loft on Wednesdays\, and sings on Sundays at the Sunday\, 9:15 AM service\, September through May. \n\n\n\n\nLearn More about Spirit Singers Here
URL:https://www.orovalley.org/event/spirit-singers/2024-03-13/
LOCATION:Oro Valley Sanctuary
CATEGORIES:Music Ministry
ATTACH;FMTTYPE=image/jpeg:https://www.orovalley.org/wp-content/uploads/2023/12/qtq80-sMxHqZ-scaled.jpeg
END:VEVENT
BEGIN:VEVENT
DTSTART;TZID=UTC:20240313T130000
DTEND;TZID=UTC:20240313T140000
DTSTAMP:20260422T191045
CREATED:20240301T160457Z
LAST-MODIFIED:20240301T160606Z
UID:10002882-1710334800-1710338400@www.orovalley.org
SUMMARY:PrimeTime
DESCRIPTION:March 13th\, Lunch is Served at 1PM \n\n\n\nDirectly following the 12 noon Lenten service\, join us for an Irish-inspired lunch\, and a presentation from OVPD’s Resource Officer Steve Snyder on how to protect yourself from fraud and scams. Cost is $10/person.  \n\n\n\nPlease consider bringing a donation for the Church of God food pantry!  \n\n\n\n\nKindly RSVP Here!
URL:https://www.orovalley.org/event/primetime-3/
LOCATION:Church\, 11575 N 1st Ave.\, Oro Valley\, AZ\, 85737
CATEGORIES:Fellowship Events
ATTACH;FMTTYPE=image/jpeg:https://www.orovalley.org/wp-content/uploads/2024/01/Graphics-5-1.jpg
END:VEVENT
BEGIN:VEVENT
DTSTART;TZID=UTC:20240313T120000
DTEND;TZID=UTC:20240313T130000
DTSTAMP:20260422T191045
CREATED:20240129T233021Z
LAST-MODIFIED:20240129T233226Z
UID:10001976-1710331200-1710334800@www.orovalley.org
SUMMARY:Lenten Service
DESCRIPTION:The Lenten season is a time of reflection\, of meditation on what it is to be human. Join us as we worship the God who created us from dust\, and contemplate our createdness.
URL:https://www.orovalley.org/event/lenten-service/2024-03-13/
LOCATION:Oro Valley Sanctuary
ATTACH;FMTTYPE=image/jpeg:https://www.orovalley.org/wp-content/uploads/2024/01/56.jpg
END:VEVENT
BEGIN:VEVENT
DTSTART;TZID=UTC:20240311T103000
DTEND;TZID=UTC:20240311T120000
DTSTAMP:20260422T191045
CREATED:20240212T232459Z
LAST-MODIFIED:20240213T001024Z
UID:10001914-1710153000-1710158400@www.orovalley.org
SUMMARY:Bible 101
DESCRIPTION:​Using Making Sense of the Bible by Adam Hamilton this in-person class will explore how the Bible came to be\, work through the inerrant and inspired Word of God\, create a place to seek to understand one another and discuss how we interpret scripture in our lives. This class meets weekly and is about 11 weeks long.   \n\n\n\n\nStream Class Here
URL:https://www.orovalley.org/event/bible-101-2/2024-03-11/
LOCATION:Oro Valley Sanctuary
CATEGORIES:Bible Study,Learn
ATTACH;FMTTYPE=image/jpeg:https://www.orovalley.org/wp-content/uploads/2024/01/Bible-101.jpg
END:VEVENT
BEGIN:VEVENT
DTSTART;TZID=UTC:20240310T104500
DTEND;TZID=UTC:20240310T114500
DTSTAMP:20260422T191045
CREATED:20240106T065411Z
LAST-MODIFIED:20240228T200844Z
UID:10001308-1710067500-1710071100@www.orovalley.org
SUMMARY:10:45 Worship - Contemporary
DESCRIPTION:Sunday School\, Confirmation\, High School Sunday School \n\n\n\nChildcare Available \n\n\n\n\nWorship Online Here
URL:https://www.orovalley.org/event/worship-3/2024-03-10/
LOCATION:Oro Valley Sanctuary
CATEGORIES:Worship
ATTACH;FMTTYPE=image/jpeg:https://www.orovalley.org/wp-content/uploads/2023/11/CopyrightTaylorNoelPhotography2021-200-scaled.jpg
END:VEVENT
BEGIN:VEVENT
DTSTART;TZID=UTC:20240310T074500
DTEND;TZID=UTC:20240310T084500
DTSTAMP:20260422T191045
CREATED:20240228T194309Z
LAST-MODIFIED:20240513T201331Z
UID:10000015-1710056700-1710060300@www.orovalley.org
SUMMARY:7:45 Worship
DESCRIPTION:Traditional Worship. Music provided by Resurrection’s Chancel Choir \n\n\n\n\nWorship Online Here\n\n\n\n\n \n\n\n\n\nOnline Bulletins Here
URL:https://www.orovalley.org/event/745-worship-4/2024-03-10/
LOCATION:Oro Valley Sanctuary
CATEGORIES:Worship
ATTACH;FMTTYPE=image/jpeg:https://www.orovalley.org/wp-content/uploads/2023/12/CopyrightTaylorNoelPhotography2021-158-scaled.jpg
END:VEVENT
BEGIN:VEVENT
DTSTART;TZID=UTC:20240309T170000
DTEND;TZID=UTC:20240309T180000
DTSTAMP:20260422T191045
CREATED:20240130T000623Z
LAST-MODIFIED:20240228T201059Z
UID:10002251-1710003600-1710007200@www.orovalley.org
SUMMARY:5:00 Worship
DESCRIPTION:Join us for worship!  \n\n\n\n\nWorship Online Here\n\n\n\nOnline Bulletins Here
URL:https://www.orovalley.org/event/500-worship-2/2024-03-09/
LOCATION:Oro Valley Sanctuary
CATEGORIES:Worship
ATTACH;FMTTYPE=image/jpeg:https://www.orovalley.org/wp-content/uploads/2023/08/CopyrightTaylorNoelPhotography2021-175-354e5a6-scaled.jpg
END:VEVENT
BEGIN:VEVENT
DTSTART;TZID=UTC:20240307T190000
DTEND;TZID=UTC:20240307T203000
DTSTAMP:20260422T191045
CREATED:20240212T222150Z
LAST-MODIFIED:20240212T230708Z
UID:10002823-1709838000-1709843400@www.orovalley.org
SUMMARY:Chancel Choir
DESCRIPTION:The Chancel Choir is a small ensemble and rehearses in the Choir Loft on Thursdays from 7-8:30 PM\, and sings in the 7:45 AM service\, September through May.  \n\n\n\n\nLearn More About Chancel Choir Here
URL:https://www.orovalley.org/event/chancel-choir-3/2024-03-07/
LOCATION:Oro Valley Sanctuary
CATEGORIES:Music Ministry
ATTACH;FMTTYPE=image/jpeg:https://www.orovalley.org/wp-content/uploads/2023/12/qtq80-sMxHqZ-scaled.jpeg
END:VEVENT
BEGIN:VEVENT
DTSTART;TZID=UTC:20240306T190000
DTEND;TZID=UTC:20240306T203000
DTSTAMP:20260422T191045
CREATED:20240212T224350Z
LAST-MODIFIED:20240212T225817Z
UID:10002840-1709751600-1709757000@www.orovalley.org
SUMMARY:Spirit Singers
DESCRIPTION:The Spirit Singers choir is a large ensemble and rehearses in the Choir Loft on Wednesdays\, and sings on Sundays at the Sunday\, 9:15 AM service\, September through May. \n\n\n\n\nLearn More about Spirit Singers Here
URL:https://www.orovalley.org/event/spirit-singers/2024-03-06/
LOCATION:Oro Valley Sanctuary
CATEGORIES:Music Ministry
ATTACH;FMTTYPE=image/jpeg:https://www.orovalley.org/wp-content/uploads/2023/12/qtq80-sMxHqZ-scaled.jpeg
END:VEVENT
BEGIN:VEVENT
DTSTART;TZID=UTC:20240306T120000
DTEND;TZID=UTC:20240306T130000
DTSTAMP:20260422T191045
CREATED:20240129T233021Z
LAST-MODIFIED:20240129T233226Z
UID:10001975-1709726400-1709730000@www.orovalley.org
SUMMARY:Lenten Service
DESCRIPTION:The Lenten season is a time of reflection\, of meditation on what it is to be human. Join us as we worship the God who created us from dust\, and contemplate our createdness.
URL:https://www.orovalley.org/event/lenten-service/2024-03-06/
LOCATION:Oro Valley Sanctuary
ATTACH;FMTTYPE=image/jpeg:https://www.orovalley.org/wp-content/uploads/2024/01/56.jpg
END:VEVENT
BEGIN:VEVENT
DTSTART;TZID=UTC:20240304T103000
DTEND;TZID=UTC:20240304T120000
DTSTAMP:20260422T191045
CREATED:20240212T232459Z
LAST-MODIFIED:20240213T001024Z
UID:10001913-1709548200-1709553600@www.orovalley.org
SUMMARY:Bible 101
DESCRIPTION:​Using Making Sense of the Bible by Adam Hamilton this in-person class will explore how the Bible came to be\, work through the inerrant and inspired Word of God\, create a place to seek to understand one another and discuss how we interpret scripture in our lives. This class meets weekly and is about 11 weeks long.   \n\n\n\n\nStream Class Here
URL:https://www.orovalley.org/event/bible-101-2/2024-03-04/
LOCATION:Oro Valley Sanctuary
CATEGORIES:Bible Study,Learn
ATTACH;FMTTYPE=image/jpeg:https://www.orovalley.org/wp-content/uploads/2024/01/Bible-101.jpg
END:VEVENT
BEGIN:VEVENT
DTSTART;TZID=UTC:20240303T104500
DTEND;TZID=UTC:20240303T114500
DTSTAMP:20260422T191045
CREATED:20240106T065411Z
LAST-MODIFIED:20240228T200844Z
UID:10001307-1709462700-1709466300@www.orovalley.org
SUMMARY:10:45 Worship - Contemporary
DESCRIPTION:Sunday School\, Confirmation\, High School Sunday School \n\n\n\nChildcare Available \n\n\n\n\nWorship Online Here
URL:https://www.orovalley.org/event/worship-3/2024-03-03/
LOCATION:Oro Valley Sanctuary
CATEGORIES:Worship
ATTACH;FMTTYPE=image/jpeg:https://www.orovalley.org/wp-content/uploads/2023/11/CopyrightTaylorNoelPhotography2021-200-scaled.jpg
END:VEVENT
BEGIN:VEVENT
DTSTART;TZID=UTC:20240303T090000
DTEND;TZID=UTC:20240303T100000
DTSTAMP:20260422T191045
CREATED:20240106T184634Z
LAST-MODIFIED:20240228T200602Z
UID:10001632-1709456400-1709460000@www.orovalley.org
SUMMARY:Worship at SaddleBrooke
DESCRIPTION:Worship Online Here\n\n\n\nOnline Bulletin Here
URL:https://www.orovalley.org/event/worship-at-saddlebrooke/2024-03-03/
LOCATION:SaddleBrooke\, SaddleBrooke HOA2 Clubhouse\, Tucson\, Arizona\, 85739
CATEGORIES:Worship
ATTACH;FMTTYPE=image/jpeg:https://www.orovalley.org/wp-content/uploads/2023/08/sb-worship-pic_3.jpg
END:VEVENT
BEGIN:VEVENT
DTSTART;TZID=UTC:20240303T074500
DTEND;TZID=UTC:20240303T084500
DTSTAMP:20260422T191045
CREATED:20240228T195346Z
LAST-MODIFIED:20240228T195832Z
UID:10000014-1709451900-1709455500@www.orovalley.org
SUMMARY:7:45 Worship
DESCRIPTION:Traditional Worship. Music provided by Resurrection’s Chancel Choir \n\n\n\n\nWorship Online Here\n\n\n\n\n \n\n\n\n\nOnline Bulletins Here
URL:https://www.orovalley.org/event/745-worship-5/
LOCATION:Oro Valley Sanctuary
CATEGORIES:Worship
ATTACH;FMTTYPE=image/jpeg:https://www.orovalley.org/wp-content/uploads/2023/12/CopyrightTaylorNoelPhotography2021-158-scaled.jpg
END:VEVENT
BEGIN:VEVENT
DTSTART;TZID=UTC:20240302T170000
DTEND;TZID=UTC:20240302T180000
DTSTAMP:20260422T191045
CREATED:20240130T000623Z
LAST-MODIFIED:20240228T201059Z
UID:10002250-1709398800-1709402400@www.orovalley.org
SUMMARY:5:00 Worship
DESCRIPTION:Join us for worship!  \n\n\n\n\nWorship Online Here\n\n\n\nOnline Bulletins Here
URL:https://www.orovalley.org/event/500-worship-2/2024-03-02/
LOCATION:Oro Valley Sanctuary
CATEGORIES:Worship
ATTACH;FMTTYPE=image/jpeg:https://www.orovalley.org/wp-content/uploads/2023/08/CopyrightTaylorNoelPhotography2021-175-354e5a6-scaled.jpg
END:VEVENT
BEGIN:VEVENT
DTSTART;TZID=UTC:20240302T073000
DTEND;TZID=UTC:20240302T093000
DTSTAMP:20260422T191045
CREATED:20240222T183919Z
LAST-MODIFIED:20240222T184026Z
UID:10002526-1709364600-1709371800@www.orovalley.org
SUMMARY:Men's Breakfast
DESCRIPTION:Coffee is on at 7! Join us each first Saturday of the month to hear a great speaker and enjoy a hot breakfast. $10/person. The speaker for March is David Meslow\, an official for the NFL.
URL:https://www.orovalley.org/event/mens-breakfast-3/
LOCATION:Outreach Center Gymnasium\, 11575 N 1st Ave\, Oro Valley\, AZ\, 85737\, United States
CATEGORIES:Men's Breakfast
ATTACH;FMTTYPE=image/jpeg:https://www.orovalley.org/wp-content/uploads/2023/12/27.jpg
END:VEVENT
BEGIN:VEVENT
DTSTART;TZID=UTC:20240229T190000
DTEND;TZID=UTC:20240229T203000
DTSTAMP:20260422T191045
CREATED:20240212T222150Z
LAST-MODIFIED:20240212T230708Z
UID:10002822-1709233200-1709238600@www.orovalley.org
SUMMARY:Chancel Choir
DESCRIPTION:The Chancel Choir is a small ensemble and rehearses in the Choir Loft on Thursdays from 7-8:30 PM\, and sings in the 7:45 AM service\, September through May.  \n\n\n\n\nLearn More About Chancel Choir Here
URL:https://www.orovalley.org/event/chancel-choir-3/2024-02-29/
LOCATION:Oro Valley Sanctuary
CATEGORIES:Music Ministry
ATTACH;FMTTYPE=image/jpeg:https://www.orovalley.org/wp-content/uploads/2023/12/qtq80-sMxHqZ-scaled.jpeg
END:VEVENT
BEGIN:VEVENT
DTSTART;TZID=UTC:20240228T190000
DTEND;TZID=UTC:20240228T203000
DTSTAMP:20260422T191045
CREATED:20240212T224350Z
LAST-MODIFIED:20240212T225817Z
UID:10002839-1709146800-1709152200@www.orovalley.org
SUMMARY:Spirit Singers
DESCRIPTION:The Spirit Singers choir is a large ensemble and rehearses in the Choir Loft on Wednesdays\, and sings on Sundays at the Sunday\, 9:15 AM service\, September through May. \n\n\n\n\nLearn More about Spirit Singers Here
URL:https://www.orovalley.org/event/spirit-singers/2024-02-28/
LOCATION:Oro Valley Sanctuary
CATEGORIES:Music Ministry
ATTACH;FMTTYPE=image/jpeg:https://www.orovalley.org/wp-content/uploads/2023/12/qtq80-sMxHqZ-scaled.jpeg
END:VEVENT
END:VCALENDAR