BEGIN:VCALENDAR
VERSION:2.0
PRODID:-//Resurrection Lutheran Church - ECPv6.15.20//NONSGML v1.0//EN
CALSCALE:GREGORIAN
METHOD:PUBLISH
X-WR-CALNAME:Resurrection Lutheran Church
X-ORIGINAL-URL:https://www.orovalley.org
X-WR-CALDESC:Events for Resurrection Lutheran Church
REFRESH-INTERVAL;VALUE=DURATION:PT1H
X-Robots-Tag:noindex
X-PUBLISHED-TTL:PT1H
BEGIN:VTIMEZONE
TZID:UTC
BEGIN:STANDARD
TZOFFSETFROM:+0000
TZOFFSETTO:+0000
TZNAME:UTC
DTSTART:20230101T000000
END:STANDARD
END:VTIMEZONE
BEGIN:VEVENT
DTSTART;TZID=UTC:20240306T190000
DTEND;TZID=UTC:20240306T203000
DTSTAMP:20260422T203152
CREATED:20240212T224350Z
LAST-MODIFIED:20240212T225817Z
UID:10002840-1709751600-1709757000@www.orovalley.org
SUMMARY:Spirit Singers
DESCRIPTION:The Spirit Singers choir is a large ensemble and rehearses in the Choir Loft on Wednesdays\, and sings on Sundays at the Sunday\, 9:15 AM service\, September through May. \n\n\n\n\nLearn More about Spirit Singers Here
URL:https://www.orovalley.org/event/spirit-singers/2024-03-06/
LOCATION:Oro Valley Sanctuary
CATEGORIES:Music Ministry
ATTACH;FMTTYPE=image/jpeg:https://www.orovalley.org/wp-content/uploads/2023/12/qtq80-sMxHqZ-scaled.jpeg
END:VEVENT
BEGIN:VEVENT
DTSTART;TZID=UTC:20240306T120000
DTEND;TZID=UTC:20240306T130000
DTSTAMP:20260422T203152
CREATED:20240129T233021Z
LAST-MODIFIED:20240129T233226Z
UID:10001975-1709726400-1709730000@www.orovalley.org
SUMMARY:Lenten Service
DESCRIPTION:The Lenten season is a time of reflection\, of meditation on what it is to be human. Join us as we worship the God who created us from dust\, and contemplate our createdness.
URL:https://www.orovalley.org/event/lenten-service/2024-03-06/
LOCATION:Oro Valley Sanctuary
ATTACH;FMTTYPE=image/jpeg:https://www.orovalley.org/wp-content/uploads/2024/01/56.jpg
END:VEVENT
BEGIN:VEVENT
DTSTART;TZID=UTC:20240304T103000
DTEND;TZID=UTC:20240304T120000
DTSTAMP:20260422T203152
CREATED:20240212T232459Z
LAST-MODIFIED:20240213T001024Z
UID:10001913-1709548200-1709553600@www.orovalley.org
SUMMARY:Bible 101
DESCRIPTION:​Using Making Sense of the Bible by Adam Hamilton this in-person class will explore how the Bible came to be\, work through the inerrant and inspired Word of God\, create a place to seek to understand one another and discuss how we interpret scripture in our lives. This class meets weekly and is about 11 weeks long.   \n\n\n\n\nStream Class Here
URL:https://www.orovalley.org/event/bible-101-2/2024-03-04/
LOCATION:Oro Valley Sanctuary
CATEGORIES:Bible Study,Learn
ATTACH;FMTTYPE=image/jpeg:https://www.orovalley.org/wp-content/uploads/2024/01/Bible-101.jpg
END:VEVENT
BEGIN:VEVENT
DTSTART;TZID=UTC:20240303T104500
DTEND;TZID=UTC:20240303T114500
DTSTAMP:20260422T203152
CREATED:20240106T065411Z
LAST-MODIFIED:20240228T200844Z
UID:10001307-1709462700-1709466300@www.orovalley.org
SUMMARY:10:45 Worship - Contemporary
DESCRIPTION:Sunday School\, Confirmation\, High School Sunday School \n\n\n\nChildcare Available \n\n\n\n\nWorship Online Here
URL:https://www.orovalley.org/event/worship-3/2024-03-03/
LOCATION:Oro Valley Sanctuary
CATEGORIES:Worship
ATTACH;FMTTYPE=image/jpeg:https://www.orovalley.org/wp-content/uploads/2023/11/CopyrightTaylorNoelPhotography2021-200-scaled.jpg
END:VEVENT
BEGIN:VEVENT
DTSTART;TZID=UTC:20240303T090000
DTEND;TZID=UTC:20240303T100000
DTSTAMP:20260422T203152
CREATED:20240106T184634Z
LAST-MODIFIED:20240228T200602Z
UID:10001632-1709456400-1709460000@www.orovalley.org
SUMMARY:Worship at SaddleBrooke
DESCRIPTION:Worship Online Here\n\n\n\nOnline Bulletin Here
URL:https://www.orovalley.org/event/worship-at-saddlebrooke/2024-03-03/
LOCATION:SaddleBrooke\, SaddleBrooke HOA2 Clubhouse\, Tucson\, Arizona\, 85739
CATEGORIES:Worship
ATTACH;FMTTYPE=image/jpeg:https://www.orovalley.org/wp-content/uploads/2023/08/sb-worship-pic_3.jpg
END:VEVENT
BEGIN:VEVENT
DTSTART;TZID=UTC:20240303T074500
DTEND;TZID=UTC:20240303T084500
DTSTAMP:20260422T203152
CREATED:20240228T195346Z
LAST-MODIFIED:20240228T195832Z
UID:10000014-1709451900-1709455500@www.orovalley.org
SUMMARY:7:45 Worship
DESCRIPTION:Traditional Worship. Music provided by Resurrection’s Chancel Choir \n\n\n\n\nWorship Online Here\n\n\n\n\n \n\n\n\n\nOnline Bulletins Here
URL:https://www.orovalley.org/event/745-worship-5/
LOCATION:Oro Valley Sanctuary
CATEGORIES:Worship
ATTACH;FMTTYPE=image/jpeg:https://www.orovalley.org/wp-content/uploads/2023/12/CopyrightTaylorNoelPhotography2021-158-scaled.jpg
END:VEVENT
BEGIN:VEVENT
DTSTART;TZID=UTC:20240302T170000
DTEND;TZID=UTC:20240302T180000
DTSTAMP:20260422T203152
CREATED:20240130T000623Z
LAST-MODIFIED:20240228T201059Z
UID:10002250-1709398800-1709402400@www.orovalley.org
SUMMARY:5:00 Worship
DESCRIPTION:Join us for worship!  \n\n\n\n\nWorship Online Here\n\n\n\nOnline Bulletins Here
URL:https://www.orovalley.org/event/500-worship-2/2024-03-02/
LOCATION:Oro Valley Sanctuary
CATEGORIES:Worship
ATTACH;FMTTYPE=image/jpeg:https://www.orovalley.org/wp-content/uploads/2023/08/CopyrightTaylorNoelPhotography2021-175-354e5a6-scaled.jpg
END:VEVENT
BEGIN:VEVENT
DTSTART;TZID=UTC:20240302T073000
DTEND;TZID=UTC:20240302T093000
DTSTAMP:20260422T203152
CREATED:20240222T183919Z
LAST-MODIFIED:20240222T184026Z
UID:10002526-1709364600-1709371800@www.orovalley.org
SUMMARY:Men's Breakfast
DESCRIPTION:Coffee is on at 7! Join us each first Saturday of the month to hear a great speaker and enjoy a hot breakfast. $10/person. The speaker for March is David Meslow\, an official for the NFL.
URL:https://www.orovalley.org/event/mens-breakfast-3/
LOCATION:Outreach Center Gymnasium\, 11575 N 1st Ave\, Oro Valley\, AZ\, 85737\, United States
CATEGORIES:Men's Breakfast
ATTACH;FMTTYPE=image/jpeg:https://www.orovalley.org/wp-content/uploads/2023/12/27.jpg
END:VEVENT
BEGIN:VEVENT
DTSTART;TZID=UTC:20240229T190000
DTEND;TZID=UTC:20240229T203000
DTSTAMP:20260422T203152
CREATED:20240212T222150Z
LAST-MODIFIED:20240212T230708Z
UID:10002822-1709233200-1709238600@www.orovalley.org
SUMMARY:Chancel Choir
DESCRIPTION:The Chancel Choir is a small ensemble and rehearses in the Choir Loft on Thursdays from 7-8:30 PM\, and sings in the 7:45 AM service\, September through May.  \n\n\n\n\nLearn More About Chancel Choir Here
URL:https://www.orovalley.org/event/chancel-choir-3/2024-02-29/
LOCATION:Oro Valley Sanctuary
CATEGORIES:Music Ministry
ATTACH;FMTTYPE=image/jpeg:https://www.orovalley.org/wp-content/uploads/2023/12/qtq80-sMxHqZ-scaled.jpeg
END:VEVENT
BEGIN:VEVENT
DTSTART;TZID=UTC:20240228T190000
DTEND;TZID=UTC:20240228T203000
DTSTAMP:20260422T203152
CREATED:20240212T224350Z
LAST-MODIFIED:20240212T225817Z
UID:10002839-1709146800-1709152200@www.orovalley.org
SUMMARY:Spirit Singers
DESCRIPTION:The Spirit Singers choir is a large ensemble and rehearses in the Choir Loft on Wednesdays\, and sings on Sundays at the Sunday\, 9:15 AM service\, September through May. \n\n\n\n\nLearn More about Spirit Singers Here
URL:https://www.orovalley.org/event/spirit-singers/2024-02-28/
LOCATION:Oro Valley Sanctuary
CATEGORIES:Music Ministry
ATTACH;FMTTYPE=image/jpeg:https://www.orovalley.org/wp-content/uploads/2023/12/qtq80-sMxHqZ-scaled.jpeg
END:VEVENT
BEGIN:VEVENT
DTSTART;TZID=UTC:20240228T120000
DTEND;TZID=UTC:20240228T130000
DTSTAMP:20260422T203152
CREATED:20240129T233021Z
LAST-MODIFIED:20240129T233226Z
UID:10001974-1709121600-1709125200@www.orovalley.org
SUMMARY:Lenten Service
DESCRIPTION:The Lenten season is a time of reflection\, of meditation on what it is to be human. Join us as we worship the God who created us from dust\, and contemplate our createdness.
URL:https://www.orovalley.org/event/lenten-service/2024-02-28/
LOCATION:Oro Valley Sanctuary
ATTACH;FMTTYPE=image/jpeg:https://www.orovalley.org/wp-content/uploads/2024/01/56.jpg
END:VEVENT
BEGIN:VEVENT
DTSTART;TZID=UTC:20240226T103000
DTEND;TZID=UTC:20240226T120000
DTSTAMP:20260422T203152
CREATED:20240212T232459Z
LAST-MODIFIED:20240213T001024Z
UID:10002855-1708943400-1708948800@www.orovalley.org
SUMMARY:Bible 101
DESCRIPTION:​Using Making Sense of the Bible by Adam Hamilton this in-person class will explore how the Bible came to be\, work through the inerrant and inspired Word of God\, create a place to seek to understand one another and discuss how we interpret scripture in our lives. This class meets weekly and is about 11 weeks long.   \n\n\n\n\nStream Class Here
URL:https://www.orovalley.org/event/bible-101-2/2024-02-26/
LOCATION:Oro Valley Sanctuary
CATEGORIES:Bible Study,Learn
ATTACH;FMTTYPE=image/jpeg:https://www.orovalley.org/wp-content/uploads/2024/01/Bible-101.jpg
END:VEVENT
BEGIN:VEVENT
DTSTART;TZID=UTC:20240225T104500
DTEND;TZID=UTC:20240225T114500
DTSTAMP:20260422T203152
CREATED:20240106T065411Z
LAST-MODIFIED:20240228T200844Z
UID:10001306-1708857900-1708861500@www.orovalley.org
SUMMARY:10:45 Worship - Contemporary
DESCRIPTION:Sunday School\, Confirmation\, High School Sunday School \n\n\n\nChildcare Available \n\n\n\n\nWorship Online Here
URL:https://www.orovalley.org/event/worship-3/2024-02-25/
LOCATION:Oro Valley Sanctuary
CATEGORIES:Worship
ATTACH;FMTTYPE=image/jpeg:https://www.orovalley.org/wp-content/uploads/2023/11/CopyrightTaylorNoelPhotography2021-200-scaled.jpg
END:VEVENT
BEGIN:VEVENT
DTSTART;TZID=UTC:20240225T090000
DTEND;TZID=UTC:20240225T100000
DTSTAMP:20260422T203152
CREATED:20240106T184634Z
LAST-MODIFIED:20240228T200602Z
UID:10001631-1708851600-1708855200@www.orovalley.org
SUMMARY:Worship at SaddleBrooke
DESCRIPTION:Worship Online Here\n\n\n\nOnline Bulletin Here
URL:https://www.orovalley.org/event/worship-at-saddlebrooke/2024-02-25/
LOCATION:SaddleBrooke\, SaddleBrooke HOA2 Clubhouse\, Tucson\, Arizona\, 85739
CATEGORIES:Worship
ATTACH;FMTTYPE=image/jpeg:https://www.orovalley.org/wp-content/uploads/2023/08/sb-worship-pic_3.jpg
END:VEVENT
BEGIN:VEVENT
DTSTART;TZID=UTC:20240225T074500
DTEND;TZID=UTC:20240225T084500
DTSTAMP:20260422T203152
CREATED:20240131T013709Z
LAST-MODIFIED:20240228T185718Z
UID:10000013-1708847100-1708850700@www.orovalley.org
SUMMARY:7:45 Worship
DESCRIPTION:Traditional Worship. Music provided by Resurrection’s Chancel Choir
URL:https://www.orovalley.org/event/745-worship-traditional/2024-02-25/
LOCATION:Oro Valley Sanctuary
CATEGORIES:Worship
ATTACH;FMTTYPE=image/jpeg:https://www.orovalley.org/wp-content/uploads/2023/12/CopyrightTaylorNoelPhotography2021-158-scaled.jpg
END:VEVENT
BEGIN:VEVENT
DTSTART;TZID=UTC:20240224T170000
DTEND;TZID=UTC:20240224T180000
DTSTAMP:20260422T203152
CREATED:20240130T000623Z
LAST-MODIFIED:20240228T201059Z
UID:10002249-1708794000-1708797600@www.orovalley.org
SUMMARY:5:00 Worship
DESCRIPTION:Join us for worship!  \n\n\n\n\nWorship Online Here\n\n\n\nOnline Bulletins Here
URL:https://www.orovalley.org/event/500-worship-2/2024-02-24/
LOCATION:Oro Valley Sanctuary
CATEGORIES:Worship
ATTACH;FMTTYPE=image/jpeg:https://www.orovalley.org/wp-content/uploads/2023/08/CopyrightTaylorNoelPhotography2021-175-354e5a6-scaled.jpg
END:VEVENT
BEGIN:VEVENT
DTSTART;TZID=UTC:20240222T190000
DTEND;TZID=UTC:20240222T203000
DTSTAMP:20260422T203152
CREATED:20240212T222150Z
LAST-MODIFIED:20240212T230708Z
UID:10002821-1708628400-1708633800@www.orovalley.org
SUMMARY:Chancel Choir
DESCRIPTION:The Chancel Choir is a small ensemble and rehearses in the Choir Loft on Thursdays from 7-8:30 PM\, and sings in the 7:45 AM service\, September through May.  \n\n\n\n\nLearn More About Chancel Choir Here
URL:https://www.orovalley.org/event/chancel-choir-3/2024-02-22/
LOCATION:Oro Valley Sanctuary
CATEGORIES:Music Ministry
ATTACH;FMTTYPE=image/jpeg:https://www.orovalley.org/wp-content/uploads/2023/12/qtq80-sMxHqZ-scaled.jpeg
END:VEVENT
BEGIN:VEVENT
DTSTART;TZID=UTC:20240221T190000
DTEND;TZID=UTC:20240221T203000
DTSTAMP:20260422T203152
CREATED:20240212T224350Z
LAST-MODIFIED:20240212T225817Z
UID:10002838-1708542000-1708547400@www.orovalley.org
SUMMARY:Spirit Singers
DESCRIPTION:The Spirit Singers choir is a large ensemble and rehearses in the Choir Loft on Wednesdays\, and sings on Sundays at the Sunday\, 9:15 AM service\, September through May. \n\n\n\n\nLearn More about Spirit Singers Here
URL:https://www.orovalley.org/event/spirit-singers/2024-02-21/
LOCATION:Oro Valley Sanctuary
CATEGORIES:Music Ministry
ATTACH;FMTTYPE=image/jpeg:https://www.orovalley.org/wp-content/uploads/2023/12/qtq80-sMxHqZ-scaled.jpeg
END:VEVENT
BEGIN:VEVENT
DTSTART;TZID=UTC:20240221T120000
DTEND;TZID=UTC:20240221T130000
DTSTAMP:20260422T203152
CREATED:20240129T233021Z
LAST-MODIFIED:20240129T233226Z
UID:10001973-1708516800-1708520400@www.orovalley.org
SUMMARY:Lenten Service
DESCRIPTION:The Lenten season is a time of reflection\, of meditation on what it is to be human. Join us as we worship the God who created us from dust\, and contemplate our createdness.
URL:https://www.orovalley.org/event/lenten-service/2024-02-21/
LOCATION:Oro Valley Sanctuary
ATTACH;FMTTYPE=image/jpeg:https://www.orovalley.org/wp-content/uploads/2024/01/56.jpg
END:VEVENT
BEGIN:VEVENT
DTSTART;TZID=UTC:20240221T103000
DTEND;TZID=UTC:20240221T120000
DTSTAMP:20260422T203152
CREATED:20240130T000351Z
LAST-MODIFIED:20240131T043115Z
UID:10002507-1708511400-1708516800@www.orovalley.org
SUMMARY:Parkinson's Support Group
DESCRIPTION:This support group provides encouragement from meeting with others who have Parkinson’s disease. The meetings provide an opportunity to discuss experiences and feelings and to share solutions to common problems.  
URL:https://www.orovalley.org/event/parkinsons-support-group/
LOCATION:Youth Room
CATEGORIES:Congregational Care,Serve
ATTACH;FMTTYPE=image/jpeg:https://www.orovalley.org/wp-content/uploads/2023/12/6.jpg
END:VEVENT
BEGIN:VEVENT
DTSTART;TZID=UTC:20240218T104500
DTEND;TZID=UTC:20240218T114500
DTSTAMP:20260422T203152
CREATED:20240106T065411Z
LAST-MODIFIED:20240228T200844Z
UID:10001305-1708253100-1708256700@www.orovalley.org
SUMMARY:10:45 Worship - Contemporary
DESCRIPTION:Sunday School\, Confirmation\, High School Sunday School \n\n\n\nChildcare Available \n\n\n\n\nWorship Online Here
URL:https://www.orovalley.org/event/worship-3/2024-02-18/
LOCATION:Oro Valley Sanctuary
CATEGORIES:Worship
ATTACH;FMTTYPE=image/jpeg:https://www.orovalley.org/wp-content/uploads/2023/11/CopyrightTaylorNoelPhotography2021-200-scaled.jpg
END:VEVENT
BEGIN:VEVENT
DTSTART;TZID=UTC:20240218T090000
DTEND;TZID=UTC:20240218T100000
DTSTAMP:20260422T203152
CREATED:20240106T184634Z
LAST-MODIFIED:20240228T200602Z
UID:10001630-1708246800-1708250400@www.orovalley.org
SUMMARY:Worship at SaddleBrooke
DESCRIPTION:Worship Online Here\n\n\n\nOnline Bulletin Here
URL:https://www.orovalley.org/event/worship-at-saddlebrooke/2024-02-18/
LOCATION:SaddleBrooke\, SaddleBrooke HOA2 Clubhouse\, Tucson\, Arizona\, 85739
CATEGORIES:Worship
ATTACH;FMTTYPE=image/jpeg:https://www.orovalley.org/wp-content/uploads/2023/08/sb-worship-pic_3.jpg
END:VEVENT
BEGIN:VEVENT
DTSTART;TZID=UTC:20240218T074500
DTEND;TZID=UTC:20240218T084500
DTSTAMP:20260422T203152
CREATED:20240131T013709Z
LAST-MODIFIED:20240228T185718Z
UID:10000012-1708242300-1708245900@www.orovalley.org
SUMMARY:7:45 Worship
DESCRIPTION:Traditional Worship. Music provided by Resurrection’s Chancel Choir
URL:https://www.orovalley.org/event/745-worship-traditional/2024-02-18/
LOCATION:Oro Valley Sanctuary
CATEGORIES:Worship
ATTACH;FMTTYPE=image/jpeg:https://www.orovalley.org/wp-content/uploads/2023/12/CopyrightTaylorNoelPhotography2021-158-scaled.jpg
END:VEVENT
BEGIN:VEVENT
DTSTART;TZID=UTC:20240217T170000
DTEND;TZID=UTC:20240217T180000
DTSTAMP:20260422T203152
CREATED:20240130T000623Z
LAST-MODIFIED:20240228T201059Z
UID:10002248-1708189200-1708192800@www.orovalley.org
SUMMARY:5:00 Worship
DESCRIPTION:Join us for worship!  \n\n\n\n\nWorship Online Here\n\n\n\nOnline Bulletins Here
URL:https://www.orovalley.org/event/500-worship-2/2024-02-17/
LOCATION:Oro Valley Sanctuary
CATEGORIES:Worship
ATTACH;FMTTYPE=image/jpeg:https://www.orovalley.org/wp-content/uploads/2023/08/CopyrightTaylorNoelPhotography2021-175-354e5a6-scaled.jpg
END:VEVENT
BEGIN:VEVENT
DTSTART;TZID=UTC:20240215T190000
DTEND;TZID=UTC:20240215T203000
DTSTAMP:20260422T203152
CREATED:20240212T221356Z
LAST-MODIFIED:20240213T221954Z
UID:10002820-1708023600-1708029000@www.orovalley.org
SUMMARY:Chancel Choir
DESCRIPTION:Chancel Choir\n\n\n\n\n\nThe Chancel Choir is a small ensemble that rehearses in the Choir Loft on Thursdays from 7-8:30 p.m. and that sings at the 7:45 AM Service\, September through May.  \n\n\n\n\nLearn More about Chancel Choir Here
URL:https://www.orovalley.org/event/chancel-choir-2/
LOCATION:Oro Valley Sanctuary
CATEGORIES:Music Ministry
ATTACH;FMTTYPE=image/jpeg:https://www.orovalley.org/wp-content/uploads/2023/12/qtq80-sMxHqZ-scaled.jpeg
END:VEVENT
BEGIN:VEVENT
DTSTART;TZID=UTC:20240214T190000
DTEND;TZID=UTC:20240214T203000
DTSTAMP:20260422T203152
CREATED:20240212T224350Z
LAST-MODIFIED:20240212T225817Z
UID:10002837-1707937200-1707942600@www.orovalley.org
SUMMARY:Spirit Singers
DESCRIPTION:The Spirit Singers choir is a large ensemble and rehearses in the Choir Loft on Wednesdays\, and sings on Sundays at the Sunday\, 9:15 AM service\, September through May. \n\n\n\n\nLearn More about Spirit Singers Here
URL:https://www.orovalley.org/event/spirit-singers/2024-02-14/
LOCATION:Oro Valley Sanctuary
CATEGORIES:Music Ministry
ATTACH;FMTTYPE=image/jpeg:https://www.orovalley.org/wp-content/uploads/2023/12/qtq80-sMxHqZ-scaled.jpeg
END:VEVENT
BEGIN:VEVENT
DTSTART;TZID=UTC:20240214T181500
DTEND;TZID=UTC:20240214T191500
DTSTAMP:20260422T203152
CREATED:20240129T234053Z
LAST-MODIFIED:20240131T040703Z
UID:10001979-1707934500-1707938100@www.orovalley.org
SUMMARY:Ash Wednesday Service
DESCRIPTION:The Lenten season is a time of reflection\, of meditation on what it is to be human. Join us as we worship the God who created us from dust\, and contemplate our createdness.
URL:https://www.orovalley.org/event/ash-wednesday-service/
LOCATION:Oro Valley Sanctuary
CATEGORIES:Worship
ATTACH;FMTTYPE=image/jpeg:https://www.orovalley.org/wp-content/uploads/2024/01/57.jpg
END:VEVENT
BEGIN:VEVENT
DTSTART;TZID=UTC:20240214T130000
DTEND;TZID=UTC:20240214T140000
DTSTAMP:20260422T203152
CREATED:20240205T192648Z
LAST-MODIFIED:20240205T193045Z
UID:10002554-1707915600-1707919200@www.orovalley.org
SUMMARY:PrimeTime
DESCRIPTION:Immediately following the Ash Wednesday Service. \nLunch will be served at 1 PMChicken Pot Pie\, salad\, rolls\, and a delicious dessert. \nPrime Time is such a fun event\, there is lots of laughter and good food!  Come and get to know one another better! Lunch is catered at a $10/ticket and entertainment is provided. Prime Time is held on a Wednesday once a month from October through May.
URL:https://www.orovalley.org/event/primetime-2/
LOCATION:Church\, 11575 N 1st Ave.\, Oro Valley\, AZ\, 85737
CATEGORIES:Fellowship Events
ATTACH;FMTTYPE=image/jpeg:https://www.orovalley.org/wp-content/uploads/2024/01/Graphics-5-1.jpg
END:VEVENT
BEGIN:VEVENT
DTSTART;TZID=UTC:20240214T120000
DTEND;TZID=UTC:20240214T130000
DTSTAMP:20260422T203152
CREATED:20240129T233705Z
LAST-MODIFIED:20240131T040419Z
UID:10001972-1707912000-1707915600@www.orovalley.org
SUMMARY:Ash Wednesday Service
DESCRIPTION:The Lenten season is a time of reflection\, of meditation on what it is to be human. Join us as we worship the God who created us from dust\, and contemplate our createdness.
URL:https://www.orovalley.org/event/lenten-service-2/
LOCATION:Oro Valley Sanctuary
CATEGORIES:Worship
ATTACH;FMTTYPE=image/jpeg:https://www.orovalley.org/wp-content/uploads/2024/01/57.jpg
END:VEVENT
BEGIN:VEVENT
DTSTART;TZID=UTC:20240214T083000
DTEND;TZID=UTC:20240214T133000
DTSTAMP:20260422T203152
CREATED:20240129T203828Z
LAST-MODIFIED:20240213T223132Z
UID:10001902-1707899400-1707917400@www.orovalley.org
SUMMARY:American Red Cross Blood Drive
DESCRIPTION:
URL:https://www.orovalley.org/event/american-red-cross-blood-drive-2/
LOCATION:Katie’s Quarters
CATEGORIES:American Red Cross Blood Drive,Community Care,Serve
ATTACH;FMTTYPE=image/jpeg:https://www.orovalley.org/wp-content/uploads/2023/12/2.jpg
END:VEVENT
END:VCALENDAR