BEGIN:VCALENDAR
VERSION:2.0
PRODID:-//Resurrection Lutheran Church - ECPv6.15.20//NONSGML v1.0//EN
CALSCALE:GREGORIAN
METHOD:PUBLISH
X-ORIGINAL-URL:https://www.orovalley.org
X-WR-CALDESC:Events for Resurrection Lutheran Church
REFRESH-INTERVAL;VALUE=DURATION:PT1H
X-Robots-Tag:noindex
X-PUBLISHED-TTL:PT1H
BEGIN:VTIMEZONE
TZID:UTC
BEGIN:STANDARD
TZOFFSETFROM:+0000
TZOFFSETTO:+0000
TZNAME:UTC
DTSTART:20260101T000000
END:STANDARD
END:VTIMEZONE
BEGIN:VEVENT
DTSTART;TZID=UTC:20270506T130000
DTEND;TZID=UTC:20270506T160000
DTSTAMP:20260423T020815
CREATED:20241213T002356Z
LAST-MODIFIED:20241213T002359Z
UID:10004172-1809608400-1809619200@www.orovalley.org
SUMMARY:Matching Dragons Mah Jongg
DESCRIPTION:Do you play the game of (American) Mah Jongg and have been looking for a group to play with? Join us on Thursday afternoons 1:00-4:00 PM in Luther’s Lair in the Outreach Center. These are friendly games. We do NOT play for money but we ALWAYS have a good time. This group is for those who already know how to play the game. However\, anyone is invited to come observe to see if they would like to learn to play the game. Questions? Contact Jackie Verdick at jackieverdick@gmail.com or 612-554-0111.
URL:https://www.orovalley.org/event/matching-dragons-mah-jongg/2027-05-06/
END:VEVENT
BEGIN:VEVENT
DTSTART;TZID=UTC:20270506T130000
DTEND;TZID=UTC:20270506T160000
DTSTAMP:20260423T020815
CREATED:20251107T191455Z
LAST-MODIFIED:20251107T191616Z
UID:10005822-1809608400-1809619200@www.orovalley.org
SUMMARY:Art by Heart Open Studio
DESCRIPTION:
URL:https://www.orovalley.org/event/art-by-heart-open-studio/2027-05-06/
END:VEVENT
BEGIN:VEVENT
DTSTART;TZID=UTC:20270508T170000
DTEND;TZID=UTC:20270508T180000
DTSTAMP:20260423T020815
CREATED:20240130T000623Z
LAST-MODIFIED:20240228T201059Z
UID:10002416-1809795600-1809799200@www.orovalley.org
SUMMARY:5:00 Worship
DESCRIPTION:Join us for worship!  \n\n\n\n\nWorship Online Here\n\n\n\nOnline Bulletins Here
URL:https://www.orovalley.org/event/500-worship-2/2027-05-08/
LOCATION:Oro Valley Sanctuary
CATEGORIES:Worship
ATTACH;FMTTYPE=image/jpeg:https://www.orovalley.org/wp-content/uploads/2023/08/CopyrightTaylorNoelPhotography2021-175-354e5a6-scaled.jpg
END:VEVENT
BEGIN:VEVENT
DTSTART;TZID=UTC:20270509T090000
DTEND;TZID=UTC:20270509T100000
DTSTAMP:20260423T020815
CREATED:20240106T184634Z
LAST-MODIFIED:20240228T200602Z
UID:10001798-1809853200-1809856800@www.orovalley.org
SUMMARY:Worship at SaddleBrooke
DESCRIPTION:Worship Online Here\n\n\n\nOnline Bulletin Here
URL:https://www.orovalley.org/event/worship-at-saddlebrooke/2027-05-09/
LOCATION:SaddleBrooke\, SaddleBrooke HOA2 Clubhouse\, Tucson\, Arizona\, 85739
CATEGORIES:Worship
ATTACH;FMTTYPE=image/jpeg:https://www.orovalley.org/wp-content/uploads/2023/08/sb-worship-pic_3.jpg
END:VEVENT
BEGIN:VEVENT
DTSTART;TZID=UTC:20270511T130000
DTEND;TZID=UTC:20270511T160000
DTSTAMP:20260423T020815
CREATED:20260210T184404Z
LAST-MODIFIED:20260210T202351Z
UID:10006880-1810040400-1810051200@www.orovalley.org
SUMMARY:Art by Heart Glass Classes
DESCRIPTION:Art by Heart Studio
URL:https://www.orovalley.org/event/art-by-heart-glass-classes/2027-05-11/
END:VEVENT
BEGIN:VEVENT
DTSTART;TZID=UTC:20270511T183000
DTEND;TZID=UTC:20270511T203000
DTSTAMP:20260423T020815
CREATED:20251111T170454Z
LAST-MODIFIED:20251111T170509Z
UID:10003798-1810060200-1810067400@www.orovalley.org
SUMMARY:Resurrection Card Players
DESCRIPTION:RLC Card Players meets every second and fourth Tuesday of the month in the Music Room. No reservation necessary. Please bring a snack to share and your own beverage. We play a variety of card games and we’re happy to teach you if you don’t know how to play. Everyone is welcome.
URL:https://www.orovalley.org/event/resurrection-card-players-5/2027-05-11/
END:VEVENT
BEGIN:VEVENT
DTSTART;TZID=UTC:20270512T150000
DTEND;TZID=UTC:20270512T160000
DTSTAMP:20260423T020815
CREATED:20260415T170108Z
LAST-MODIFIED:20260415T170119Z
UID:10004571-1810134000-1810137600@www.orovalley.org
SUMMARY:Scripture & Salsa
DESCRIPTION:You are invited to join Pastor Carol every Wednesday from 3:00 – 4:00 PM at Mi Tierra Mexican Restaurant in Catalina starting January 8th for an informal discussion of the Bible texts for the upcoming weekend’s worship. No registration is required and there is no long-term commitment. Just grab your Bible and drop by.
URL:https://www.orovalley.org/event/scripture-salsa-3/2027-05-12/
END:VEVENT
BEGIN:VEVENT
DTSTART;TZID=UTC:20270513T130000
DTEND;TZID=UTC:20270513T160000
DTSTAMP:20260423T020815
CREATED:20241213T002356Z
LAST-MODIFIED:20241213T002359Z
UID:10004173-1810213200-1810224000@www.orovalley.org
SUMMARY:Matching Dragons Mah Jongg
DESCRIPTION:Do you play the game of (American) Mah Jongg and have been looking for a group to play with? Join us on Thursday afternoons 1:00-4:00 PM in Luther’s Lair in the Outreach Center. These are friendly games. We do NOT play for money but we ALWAYS have a good time. This group is for those who already know how to play the game. However\, anyone is invited to come observe to see if they would like to learn to play the game. Questions? Contact Jackie Verdick at jackieverdick@gmail.com or 612-554-0111.
URL:https://www.orovalley.org/event/matching-dragons-mah-jongg/2027-05-13/
END:VEVENT
BEGIN:VEVENT
DTSTART;TZID=UTC:20270513T130000
DTEND;TZID=UTC:20270513T160000
DTSTAMP:20260423T020815
CREATED:20251107T191455Z
LAST-MODIFIED:20251107T191616Z
UID:10005823-1810213200-1810224000@www.orovalley.org
SUMMARY:Art by Heart Open Studio
DESCRIPTION:
URL:https://www.orovalley.org/event/art-by-heart-open-studio/2027-05-13/
END:VEVENT
BEGIN:VEVENT
DTSTART;TZID=UTC:20270515T090000
DTEND;TZID=UTC:20270515T110000
DTSTAMP:20260423T020815
CREATED:20260210T201725Z
LAST-MODIFIED:20260210T201733Z
UID:10005263-1810371600-1810378800@www.orovalley.org
SUMMARY:Faithful Living Fellowship
DESCRIPTION:Oro Valley \n\n\n\nWe meet for coffee\, snacks and fellowship\, followed by a film and small discussion groups. We will study the book “Embracing Trust” by Joanna Weaver. Sign up on the website under the Learn section.
URL:https://www.orovalley.org/event/faithful-living-fellowship-3/2027-05-15/
END:VEVENT
BEGIN:VEVENT
DTSTART;TZID=UTC:20270515T170000
DTEND;TZID=UTC:20270515T180000
DTSTAMP:20260423T020815
CREATED:20240130T000623Z
LAST-MODIFIED:20240228T201059Z
UID:10002417-1810400400-1810404000@www.orovalley.org
SUMMARY:5:00 Worship
DESCRIPTION:Join us for worship!  \n\n\n\n\nWorship Online Here\n\n\n\nOnline Bulletins Here
URL:https://www.orovalley.org/event/500-worship-2/2027-05-15/
LOCATION:Oro Valley Sanctuary
CATEGORIES:Worship
ATTACH;FMTTYPE=image/jpeg:https://www.orovalley.org/wp-content/uploads/2023/08/CopyrightTaylorNoelPhotography2021-175-354e5a6-scaled.jpg
END:VEVENT
BEGIN:VEVENT
DTSTART;TZID=UTC:20270516T090000
DTEND;TZID=UTC:20270516T100000
DTSTAMP:20260423T020815
CREATED:20240106T184634Z
LAST-MODIFIED:20240228T200602Z
UID:10001799-1810458000-1810461600@www.orovalley.org
SUMMARY:Worship at SaddleBrooke
DESCRIPTION:Worship Online Here\n\n\n\nOnline Bulletin Here
URL:https://www.orovalley.org/event/worship-at-saddlebrooke/2027-05-16/
LOCATION:SaddleBrooke\, SaddleBrooke HOA2 Clubhouse\, Tucson\, Arizona\, 85739
CATEGORIES:Worship
ATTACH;FMTTYPE=image/jpeg:https://www.orovalley.org/wp-content/uploads/2023/08/sb-worship-pic_3.jpg
END:VEVENT
BEGIN:VEVENT
DTSTART;TZID=UTC:20270518T130000
DTEND;TZID=UTC:20270518T160000
DTSTAMP:20260423T020815
CREATED:20260210T184404Z
LAST-MODIFIED:20260210T202351Z
UID:10006881-1810645200-1810656000@www.orovalley.org
SUMMARY:Art by Heart Glass Classes
DESCRIPTION:Art by Heart Studio
URL:https://www.orovalley.org/event/art-by-heart-glass-classes/2027-05-18/
END:VEVENT
BEGIN:VEVENT
DTSTART;TZID=UTC:20270519T103000
DTEND;TZID=UTC:20270519T120000
DTSTAMP:20260423T020815
CREATED:20240617T222009Z
LAST-MODIFIED:20240617T222059Z
UID:10003563-1810722600-1810728000@www.orovalley.org
SUMMARY:Parkinson's Support Group
DESCRIPTION:This support group provides encouragement from meeting with others who have Parkinson’s disease\, and for the care givers of those with Parkinson’s. The meetings provide an opportunity to discuss experiences and feelings and to share solutions to common problems.  Meets every 3rd Wednesday of the month in the High School Youth Room.
URL:https://www.orovalley.org/event/parkinsons-support-group-3/2027-05-19/
LOCATION:Youth Room
CATEGORIES:Congregational Care,Serve
ATTACH;FMTTYPE=image/jpeg:https://www.orovalley.org/wp-content/uploads/2024/06/Graphics-3.jpg
END:VEVENT
BEGIN:VEVENT
DTSTART;TZID=UTC:20270519T150000
DTEND;TZID=UTC:20270519T160000
DTSTAMP:20260423T020815
CREATED:20260415T170108Z
LAST-MODIFIED:20260415T170119Z
UID:10004572-1810738800-1810742400@www.orovalley.org
SUMMARY:Scripture & Salsa
DESCRIPTION:You are invited to join Pastor Carol every Wednesday from 3:00 – 4:00 PM at Mi Tierra Mexican Restaurant in Catalina starting January 8th for an informal discussion of the Bible texts for the upcoming weekend’s worship. No registration is required and there is no long-term commitment. Just grab your Bible and drop by.
URL:https://www.orovalley.org/event/scripture-salsa-3/2027-05-19/
END:VEVENT
BEGIN:VEVENT
DTSTART;TZID=UTC:20270520T130000
DTEND;TZID=UTC:20270520T160000
DTSTAMP:20260423T020815
CREATED:20241213T002356Z
LAST-MODIFIED:20241213T002359Z
UID:10004174-1810818000-1810828800@www.orovalley.org
SUMMARY:Matching Dragons Mah Jongg
DESCRIPTION:Do you play the game of (American) Mah Jongg and have been looking for a group to play with? Join us on Thursday afternoons 1:00-4:00 PM in Luther’s Lair in the Outreach Center. These are friendly games. We do NOT play for money but we ALWAYS have a good time. This group is for those who already know how to play the game. However\, anyone is invited to come observe to see if they would like to learn to play the game. Questions? Contact Jackie Verdick at jackieverdick@gmail.com or 612-554-0111.
URL:https://www.orovalley.org/event/matching-dragons-mah-jongg/2027-05-20/
END:VEVENT
BEGIN:VEVENT
DTSTART;TZID=UTC:20270520T130000
DTEND;TZID=UTC:20270520T160000
DTSTAMP:20260423T020816
CREATED:20251107T191455Z
LAST-MODIFIED:20251107T191616Z
UID:10005824-1810818000-1810828800@www.orovalley.org
SUMMARY:Art by Heart Open Studio
DESCRIPTION:
URL:https://www.orovalley.org/event/art-by-heart-open-studio/2027-05-20/
END:VEVENT
BEGIN:VEVENT
DTSTART;TZID=UTC:20270522T170000
DTEND;TZID=UTC:20270522T180000
DTSTAMP:20260423T020816
CREATED:20240130T000623Z
LAST-MODIFIED:20240228T201059Z
UID:10002418-1811005200-1811008800@www.orovalley.org
SUMMARY:5:00 Worship
DESCRIPTION:Join us for worship!  \n\n\n\n\nWorship Online Here\n\n\n\nOnline Bulletins Here
URL:https://www.orovalley.org/event/500-worship-2/2027-05-22/
LOCATION:Oro Valley Sanctuary
CATEGORIES:Worship
ATTACH;FMTTYPE=image/jpeg:https://www.orovalley.org/wp-content/uploads/2023/08/CopyrightTaylorNoelPhotography2021-175-354e5a6-scaled.jpg
END:VEVENT
BEGIN:VEVENT
DTSTART;TZID=UTC:20270523T090000
DTEND;TZID=UTC:20270523T100000
DTSTAMP:20260423T020816
CREATED:20240106T184634Z
LAST-MODIFIED:20240228T200602Z
UID:10001800-1811062800-1811066400@www.orovalley.org
SUMMARY:Worship at SaddleBrooke
DESCRIPTION:Worship Online Here\n\n\n\nOnline Bulletin Here
URL:https://www.orovalley.org/event/worship-at-saddlebrooke/2027-05-23/
LOCATION:SaddleBrooke\, SaddleBrooke HOA2 Clubhouse\, Tucson\, Arizona\, 85739
CATEGORIES:Worship
ATTACH;FMTTYPE=image/jpeg:https://www.orovalley.org/wp-content/uploads/2023/08/sb-worship-pic_3.jpg
END:VEVENT
BEGIN:VEVENT
DTSTART;TZID=UTC:20270525T130000
DTEND;TZID=UTC:20270525T160000
DTSTAMP:20260423T020816
CREATED:20260210T184404Z
LAST-MODIFIED:20260210T202351Z
UID:10006882-1811250000-1811260800@www.orovalley.org
SUMMARY:Art by Heart Glass Classes
DESCRIPTION:Art by Heart Studio
URL:https://www.orovalley.org/event/art-by-heart-glass-classes/2027-05-25/
END:VEVENT
BEGIN:VEVENT
DTSTART;TZID=UTC:20270525T183000
DTEND;TZID=UTC:20270525T203000
DTSTAMP:20260423T020816
CREATED:20240910T192133Z
LAST-MODIFIED:20240910T192135Z
UID:10003858-1811269800-1811277000@www.orovalley.org
SUMMARY:Resurrection Card Players
DESCRIPTION:RLC Card Players meets every second and fourth Tuesday of the month. No reservation necessary. Please bring a snack to share and your own beverage. We play a variety of card games and we’re happy to teach you if you don’t know how to play. Everyone is welcome.
URL:https://www.orovalley.org/event/resurrection-card-players-2/2027-05-25/
LOCATION:Luther’s Lair
END:VEVENT
BEGIN:VEVENT
DTSTART;TZID=UTC:20270526T150000
DTEND;TZID=UTC:20270526T160000
DTSTAMP:20260423T020816
CREATED:20260415T170108Z
LAST-MODIFIED:20260415T170119Z
UID:10004573-1811343600-1811347200@www.orovalley.org
SUMMARY:Scripture & Salsa
DESCRIPTION:You are invited to join Pastor Carol every Wednesday from 3:00 – 4:00 PM at Mi Tierra Mexican Restaurant in Catalina starting January 8th for an informal discussion of the Bible texts for the upcoming weekend’s worship. No registration is required and there is no long-term commitment. Just grab your Bible and drop by.
URL:https://www.orovalley.org/event/scripture-salsa-3/2027-05-26/
END:VEVENT
BEGIN:VEVENT
DTSTART;TZID=UTC:20270527T130000
DTEND;TZID=UTC:20270527T160000
DTSTAMP:20260423T020816
CREATED:20241213T002356Z
LAST-MODIFIED:20241213T002359Z
UID:10004175-1811422800-1811433600@www.orovalley.org
SUMMARY:Matching Dragons Mah Jongg
DESCRIPTION:Do you play the game of (American) Mah Jongg and have been looking for a group to play with? Join us on Thursday afternoons 1:00-4:00 PM in Luther’s Lair in the Outreach Center. These are friendly games. We do NOT play for money but we ALWAYS have a good time. This group is for those who already know how to play the game. However\, anyone is invited to come observe to see if they would like to learn to play the game. Questions? Contact Jackie Verdick at jackieverdick@gmail.com or 612-554-0111.
URL:https://www.orovalley.org/event/matching-dragons-mah-jongg/2027-05-27/
END:VEVENT
BEGIN:VEVENT
DTSTART;TZID=UTC:20270527T130000
DTEND;TZID=UTC:20270527T160000
DTSTAMP:20260423T020816
CREATED:20251107T191455Z
LAST-MODIFIED:20251107T191616Z
UID:10005825-1811422800-1811433600@www.orovalley.org
SUMMARY:Art by Heart Open Studio
DESCRIPTION:
URL:https://www.orovalley.org/event/art-by-heart-open-studio/2027-05-27/
END:VEVENT
BEGIN:VEVENT
DTSTART;TZID=UTC:20270529T170000
DTEND;TZID=UTC:20270529T180000
DTSTAMP:20260423T020816
CREATED:20240130T000623Z
LAST-MODIFIED:20240228T201059Z
UID:10002419-1811610000-1811613600@www.orovalley.org
SUMMARY:5:00 Worship
DESCRIPTION:Join us for worship!  \n\n\n\n\nWorship Online Here\n\n\n\nOnline Bulletins Here
URL:https://www.orovalley.org/event/500-worship-2/2027-05-29/
LOCATION:Oro Valley Sanctuary
CATEGORIES:Worship
ATTACH;FMTTYPE=image/jpeg:https://www.orovalley.org/wp-content/uploads/2023/08/CopyrightTaylorNoelPhotography2021-175-354e5a6-scaled.jpg
END:VEVENT
BEGIN:VEVENT
DTSTART;TZID=UTC:20270530T090000
DTEND;TZID=UTC:20270530T100000
DTSTAMP:20260423T020816
CREATED:20240106T184634Z
LAST-MODIFIED:20240228T200602Z
UID:10001801-1811667600-1811671200@www.orovalley.org
SUMMARY:Worship at SaddleBrooke
DESCRIPTION:Worship Online Here\n\n\n\nOnline Bulletin Here
URL:https://www.orovalley.org/event/worship-at-saddlebrooke/2027-05-30/
LOCATION:SaddleBrooke\, SaddleBrooke HOA2 Clubhouse\, Tucson\, Arizona\, 85739
CATEGORIES:Worship
ATTACH;FMTTYPE=image/jpeg:https://www.orovalley.org/wp-content/uploads/2023/08/sb-worship-pic_3.jpg
END:VEVENT
BEGIN:VEVENT
DTSTART;TZID=UTC:20270601T130000
DTEND;TZID=UTC:20270601T160000
DTSTAMP:20260423T020816
CREATED:20260210T184404Z
LAST-MODIFIED:20260210T202351Z
UID:10006883-1811854800-1811865600@www.orovalley.org
SUMMARY:Art by Heart Glass Classes
DESCRIPTION:Art by Heart Studio
URL:https://www.orovalley.org/event/art-by-heart-glass-classes/2027-06-01/
END:VEVENT
BEGIN:VEVENT
DTSTART;TZID=UTC:20270602T150000
DTEND;TZID=UTC:20270602T160000
DTSTAMP:20260423T020816
CREATED:20260415T170108Z
LAST-MODIFIED:20260415T170119Z
UID:10004574-1811948400-1811952000@www.orovalley.org
SUMMARY:Scripture & Salsa
DESCRIPTION:You are invited to join Pastor Carol every Wednesday from 3:00 – 4:00 PM at Mi Tierra Mexican Restaurant in Catalina starting January 8th for an informal discussion of the Bible texts for the upcoming weekend’s worship. No registration is required and there is no long-term commitment. Just grab your Bible and drop by.
URL:https://www.orovalley.org/event/scripture-salsa-3/2027-06-02/
END:VEVENT
BEGIN:VEVENT
DTSTART;TZID=UTC:20270603T130000
DTEND;TZID=UTC:20270603T160000
DTSTAMP:20260423T020816
CREATED:20241213T002356Z
LAST-MODIFIED:20241213T002359Z
UID:10004176-1812027600-1812038400@www.orovalley.org
SUMMARY:Matching Dragons Mah Jongg
DESCRIPTION:Do you play the game of (American) Mah Jongg and have been looking for a group to play with? Join us on Thursday afternoons 1:00-4:00 PM in Luther’s Lair in the Outreach Center. These are friendly games. We do NOT play for money but we ALWAYS have a good time. This group is for those who already know how to play the game. However\, anyone is invited to come observe to see if they would like to learn to play the game. Questions? Contact Jackie Verdick at jackieverdick@gmail.com or 612-554-0111.
URL:https://www.orovalley.org/event/matching-dragons-mah-jongg/2027-06-03/
END:VEVENT
BEGIN:VEVENT
DTSTART;TZID=UTC:20270603T130000
DTEND;TZID=UTC:20270603T160000
DTSTAMP:20260423T020816
CREATED:20251107T191455Z
LAST-MODIFIED:20251107T191616Z
UID:10005826-1812027600-1812038400@www.orovalley.org
SUMMARY:Art by Heart Open Studio
DESCRIPTION:
URL:https://www.orovalley.org/event/art-by-heart-open-studio/2027-06-03/
END:VEVENT
END:VCALENDAR