BEGIN:VCALENDAR
VERSION:2.0
PRODID:-//Resurrection Lutheran Church - ECPv6.15.20//NONSGML v1.0//EN
CALSCALE:GREGORIAN
METHOD:PUBLISH
X-ORIGINAL-URL:https://www.orovalley.org
X-WR-CALDESC:Events for Resurrection Lutheran Church
REFRESH-INTERVAL;VALUE=DURATION:PT1H
X-Robots-Tag:noindex
X-PUBLISHED-TTL:PT1H
BEGIN:VTIMEZONE
TZID:UTC
BEGIN:STANDARD
TZOFFSETFROM:+0000
TZOFFSETTO:+0000
TZNAME:UTC
DTSTART:20250101T000000
END:STANDARD
END:VTIMEZONE
BEGIN:VEVENT
DTSTART;TZID=UTC:20260101T130000
DTEND;TZID=UTC:20260101T160000
DTSTAMP:20260422T230001
CREATED:20251107T191455Z
LAST-MODIFIED:20251107T191616Z
UID:10005752-1767272400-1767283200@www.orovalley.org
SUMMARY:Art by Heart Open Studio
DESCRIPTION:
URL:https://www.orovalley.org/event/art-by-heart-open-studio/2026-01-01/
END:VEVENT
BEGIN:VEVENT
DTSTART;TZID=UTC:20260103T080000
DTEND;TZID=UTC:20260103T090000
DTSTAMP:20260422T230001
CREATED:20240808T201836Z
LAST-MODIFIED:20260210T201221Z
UID:10004327-1767427200-1767430800@www.orovalley.org
SUMMARY:Men's Bible Study
DESCRIPTION:Uses the Serendipity Bible\, copies are available. All men of the church are welcome to attend. Meets in Luther’s Lair.
URL:https://www.orovalley.org/event/mens-bible-study/2026-01-03/
END:VEVENT
BEGIN:VEVENT
DTSTART;TZID=UTC:20260103T170000
DTEND;TZID=UTC:20260103T180000
DTSTAMP:20260422T230001
CREATED:20240130T000623Z
LAST-MODIFIED:20240228T201059Z
UID:10002346-1767459600-1767463200@www.orovalley.org
SUMMARY:5:00 Worship
DESCRIPTION:Join us for worship!  \n\n\n\n\nWorship Online Here\n\n\n\nOnline Bulletins Here
URL:https://www.orovalley.org/event/500-worship-2/2026-01-03/
LOCATION:Oro Valley Sanctuary
CATEGORIES:Worship
ATTACH;FMTTYPE=image/jpeg:https://www.orovalley.org/wp-content/uploads/2023/08/CopyrightTaylorNoelPhotography2021-175-354e5a6-scaled.jpg
END:VEVENT
BEGIN:VEVENT
DTSTART;TZID=UTC:20260104T074500
DTEND;TZID=UTC:20260104T084500
DTSTAMP:20260422T230001
CREATED:20250605T233406Z
LAST-MODIFIED:20250605T233413Z
UID:10000110-1767512700-1767516300@www.orovalley.org
SUMMARY:7:45 Worship
DESCRIPTION:Traditional Worship. Music provided by Resurrection’s Chancel Choir \n\n\n\n\nWorship Online Here\n\n\n\n\n \n\n\n\n\nOnline Bulletins Here
URL:https://www.orovalley.org/event/745-worship-9/2026-01-04/
LOCATION:Oro Valley Sanctuary
CATEGORIES:Worship
ATTACH;FMTTYPE=image/jpeg:https://www.orovalley.org/wp-content/uploads/2023/12/CopyrightTaylorNoelPhotography2021-158-scaled.jpg
END:VEVENT
BEGIN:VEVENT
DTSTART;TZID=UTC:20260104T090000
DTEND;TZID=UTC:20260104T100000
DTSTAMP:20260422T230001
CREATED:20240106T184634Z
LAST-MODIFIED:20240228T200602Z
UID:10001728-1767517200-1767520800@www.orovalley.org
SUMMARY:Worship at SaddleBrooke
DESCRIPTION:Worship Online Here\n\n\n\nOnline Bulletin Here
URL:https://www.orovalley.org/event/worship-at-saddlebrooke/2026-01-04/
LOCATION:SaddleBrooke\, SaddleBrooke HOA2 Clubhouse\, Tucson\, Arizona\, 85739
CATEGORIES:Worship
ATTACH;FMTTYPE=image/jpeg:https://www.orovalley.org/wp-content/uploads/2023/08/sb-worship-pic_3.jpg
END:VEVENT
BEGIN:VEVENT
DTSTART;TZID=UTC:20260104T091500
DTEND;TZID=UTC:20260104T101500
DTSTAMP:20260422T230001
CREATED:20250610T165422Z
LAST-MODIFIED:20250610T165427Z
UID:10005105-1767518100-1767521700@www.orovalley.org
SUMMARY:09:15 Worship - Contemporary
DESCRIPTION:Sunday School\, Confirmation\, High School Sunday School \n\n\n\nChildcare Available \n\n\n\n\nWorship Online Here
URL:https://www.orovalley.org/event/0915-worship-contemporary/2026-01-04/
LOCATION:Oro Valley Sanctuary
CATEGORIES:Worship
ATTACH;FMTTYPE=image/jpeg:https://www.orovalley.org/wp-content/uploads/2023/11/CopyrightTaylorNoelPhotography2021-200-scaled.jpg
END:VEVENT
BEGIN:VEVENT
DTSTART;TZID=UTC:20260104T104500
DTEND;TZID=UTC:20260104T114500
DTSTAMP:20260422T230001
CREATED:20250610T165108Z
LAST-MODIFIED:20250610T165111Z
UID:10005017-1767523500-1767527100@www.orovalley.org
SUMMARY:10:45 Worship - Contemporary
DESCRIPTION:Sunday School\, Confirmation\, High School Sunday School \n\n\n\nChildcare Available \n\n\n\n\nWorship Online Here
URL:https://www.orovalley.org/event/1045-worship-contemporary-7/2026-01-04/
LOCATION:Oro Valley Sanctuary
CATEGORIES:Worship
ATTACH;FMTTYPE=image/jpeg:https://www.orovalley.org/wp-content/uploads/2023/11/CopyrightTaylorNoelPhotography2021-200-scaled.jpg
END:VEVENT
BEGIN:VEVENT
DTSTART;TZID=UTC:20260106T080000
DTEND;TZID=UTC:20260106T170000
DTSTAMP:20260422T230001
CREATED:20251008T010640Z
LAST-MODIFIED:20251008T010645Z
UID:10005232-1767686400-1767718800@www.orovalley.org
SUMMARY:Winter Book Discussion
DESCRIPTION:Oro Valley Sanctuary \n\n\n\nJoin us as we discuss Romans 8 through the eyes of N.T. Wright. We will use the book “Into the Heart of Romans.” Books available in the church office.
URL:https://www.orovalley.org/event/winter-book-discussion/2026-01-06/
END:VEVENT
BEGIN:VEVENT
DTSTART;TZID=UTC:20260106T100000
DTEND;TZID=UTC:20260106T113000
DTSTAMP:20260422T230001
CREATED:20251107T191217Z
LAST-MODIFIED:20251107T191224Z
UID:10005736-1767693600-1767699000@www.orovalley.org
SUMMARY:Into the Heart of Romans Book Study
DESCRIPTION:The study will be held in the Sanctuary.
URL:https://www.orovalley.org/event/into-the-heart-of-romans-book-study/2026-01-06/
END:VEVENT
BEGIN:VEVENT
DTSTART;TZID=UTC:20260107T100000
DTEND;TZID=UTC:20260107T113000
DTSTAMP:20260422T230001
CREATED:20250829T192957Z
LAST-MODIFIED:20260106T163516Z
UID:10006067-1767780000-1767785400@www.orovalley.org
SUMMARY:Thriving in the Third Thirty Seminar Series
DESCRIPTION:Oro Valley Sanctuary \n\n\n\nMore information coming.
URL:https://www.orovalley.org/event/thriving-in-the-third-thirty-seminar-series/2026-01-07/
END:VEVENT
BEGIN:VEVENT
DTSTART;TZID=UTC:20260107T150000
DTEND;TZID=UTC:20260107T160000
DTSTAMP:20260422T230002
CREATED:20250701T214646Z
LAST-MODIFIED:20250701T214652Z
UID:10004501-1767798000-1767801600@www.orovalley.org
SUMMARY:Scripture & Salsa
DESCRIPTION:You are invited to join Pastor Carol every Wednesday from 3:00 – 4:00 PM at Mi Tierra Mexican Restaurant in Catalina starting January 8th for an informal discussion of the Bible texts for the upcoming weekend’s worship. No registration is required and there is no long-term commitment. Just grab your Bible and drop by.
URL:https://www.orovalley.org/event/scripture-salsa-2/2026-01-07/
END:VEVENT
BEGIN:VEVENT
DTSTART;TZID=UTC:20260108T130000
DTEND;TZID=UTC:20260108T160000
DTSTAMP:20260422T230002
CREATED:20241213T002356Z
LAST-MODIFIED:20241213T002359Z
UID:10004103-1767877200-1767888000@www.orovalley.org
SUMMARY:Matching Dragons Mah Jongg
DESCRIPTION:Do you play the game of (American) Mah Jongg and have been looking for a group to play with? Join us on Thursday afternoons 1:00-4:00 PM in Luther’s Lair in the Outreach Center. These are friendly games. We do NOT play for money but we ALWAYS have a good time. This group is for those who already know how to play the game. However\, anyone is invited to come observe to see if they would like to learn to play the game. Questions? Contact Jackie Verdick at jackieverdick@gmail.com or 612-554-0111.
URL:https://www.orovalley.org/event/matching-dragons-mah-jongg/2026-01-08/
END:VEVENT
BEGIN:VEVENT
DTSTART;TZID=UTC:20260108T130000
DTEND;TZID=UTC:20260108T160000
DTSTAMP:20260422T230002
CREATED:20251107T191455Z
LAST-MODIFIED:20251107T191616Z
UID:10005753-1767877200-1767888000@www.orovalley.org
SUMMARY:Art by Heart Open Studio
DESCRIPTION:
URL:https://www.orovalley.org/event/art-by-heart-open-studio/2026-01-08/
END:VEVENT
BEGIN:VEVENT
DTSTART;TZID=UTC:20260110T170000
DTEND;TZID=UTC:20260110T180000
DTSTAMP:20260422T230002
CREATED:20240130T000623Z
LAST-MODIFIED:20240228T201059Z
UID:10002347-1768064400-1768068000@www.orovalley.org
SUMMARY:5:00 Worship
DESCRIPTION:Join us for worship!  \n\n\n\n\nWorship Online Here\n\n\n\nOnline Bulletins Here
URL:https://www.orovalley.org/event/500-worship-2/2026-01-10/
LOCATION:Oro Valley Sanctuary
CATEGORIES:Worship
ATTACH;FMTTYPE=image/jpeg:https://www.orovalley.org/wp-content/uploads/2023/08/CopyrightTaylorNoelPhotography2021-175-354e5a6-scaled.jpg
END:VEVENT
BEGIN:VEVENT
DTSTART;TZID=UTC:20260111T074500
DTEND;TZID=UTC:20260111T084500
DTSTAMP:20260422T230002
CREATED:20250605T233406Z
LAST-MODIFIED:20250605T233413Z
UID:10000111-1768117500-1768121100@www.orovalley.org
SUMMARY:7:45 Worship
DESCRIPTION:Traditional Worship. Music provided by Resurrection’s Chancel Choir \n\n\n\n\nWorship Online Here\n\n\n\n\n \n\n\n\n\nOnline Bulletins Here
URL:https://www.orovalley.org/event/745-worship-9/2026-01-11/
LOCATION:Oro Valley Sanctuary
CATEGORIES:Worship
ATTACH;FMTTYPE=image/jpeg:https://www.orovalley.org/wp-content/uploads/2023/12/CopyrightTaylorNoelPhotography2021-158-scaled.jpg
END:VEVENT
BEGIN:VEVENT
DTSTART;TZID=UTC:20260111T090000
DTEND;TZID=UTC:20260111T100000
DTSTAMP:20260422T230002
CREATED:20240106T184634Z
LAST-MODIFIED:20240228T200602Z
UID:10001729-1768122000-1768125600@www.orovalley.org
SUMMARY:Worship at SaddleBrooke
DESCRIPTION:Worship Online Here\n\n\n\nOnline Bulletin Here
URL:https://www.orovalley.org/event/worship-at-saddlebrooke/2026-01-11/
LOCATION:SaddleBrooke\, SaddleBrooke HOA2 Clubhouse\, Tucson\, Arizona\, 85739
CATEGORIES:Worship
ATTACH;FMTTYPE=image/jpeg:https://www.orovalley.org/wp-content/uploads/2023/08/sb-worship-pic_3.jpg
END:VEVENT
BEGIN:VEVENT
DTSTART;TZID=UTC:20260111T091500
DTEND;TZID=UTC:20260111T101500
DTSTAMP:20260422T230002
CREATED:20250610T165422Z
LAST-MODIFIED:20250610T165427Z
UID:10005106-1768122900-1768126500@www.orovalley.org
SUMMARY:09:15 Worship - Contemporary
DESCRIPTION:Sunday School\, Confirmation\, High School Sunday School \n\n\n\nChildcare Available \n\n\n\n\nWorship Online Here
URL:https://www.orovalley.org/event/0915-worship-contemporary/2026-01-11/
LOCATION:Oro Valley Sanctuary
CATEGORIES:Worship
ATTACH;FMTTYPE=image/jpeg:https://www.orovalley.org/wp-content/uploads/2023/11/CopyrightTaylorNoelPhotography2021-200-scaled.jpg
END:VEVENT
BEGIN:VEVENT
DTSTART;TZID=UTC:20260111T104500
DTEND;TZID=UTC:20260111T114500
DTSTAMP:20260422T230002
CREATED:20250610T165108Z
LAST-MODIFIED:20250610T165111Z
UID:10005018-1768128300-1768131900@www.orovalley.org
SUMMARY:10:45 Worship - Contemporary
DESCRIPTION:Sunday School\, Confirmation\, High School Sunday School \n\n\n\nChildcare Available \n\n\n\n\nWorship Online Here
URL:https://www.orovalley.org/event/1045-worship-contemporary-7/2026-01-11/
LOCATION:Oro Valley Sanctuary
CATEGORIES:Worship
ATTACH;FMTTYPE=image/jpeg:https://www.orovalley.org/wp-content/uploads/2023/11/CopyrightTaylorNoelPhotography2021-200-scaled.jpg
END:VEVENT
BEGIN:VEVENT
DTSTART;TZID=UTC:20260112T103000
DTEND;TZID=UTC:20260112T114500
DTSTAMP:20260422T230002
CREATED:20251204T210145Z
LAST-MODIFIED:20251204T210150Z
UID:10006039-1768213800-1768218300@www.orovalley.org
SUMMARY:In Search of God’s Will Book Study
DESCRIPTION:This event will be held in the Sanctuary.
URL:https://www.orovalley.org/event/in-search-of-gods-will-book-study/2026-01-12/
END:VEVENT
BEGIN:VEVENT
DTSTART;TZID=UTC:20260112T183000
DTEND;TZID=UTC:20260112T200000
DTSTAMP:20260422T230002
CREATED:20251107T183956Z
LAST-MODIFIED:20260408T223906Z
UID:10005602-1768242600-1768248000@www.orovalley.org
SUMMARY:Half Truths Book Study
DESCRIPTION:The book study will be held in Katie’s Quarters.
URL:https://www.orovalley.org/event/half-truths-book-study/2026-01-12/
END:VEVENT
BEGIN:VEVENT
DTSTART;TZID=UTC:20260113T080000
DTEND;TZID=UTC:20260113T170000
DTSTAMP:20260422T230002
CREATED:20251008T010640Z
LAST-MODIFIED:20251008T010645Z
UID:10005233-1768291200-1768323600@www.orovalley.org
SUMMARY:Winter Book Discussion
DESCRIPTION:Oro Valley Sanctuary \n\n\n\nJoin us as we discuss Romans 8 through the eyes of N.T. Wright. We will use the book “Into the Heart of Romans.” Books available in the church office.
URL:https://www.orovalley.org/event/winter-book-discussion/2026-01-13/
END:VEVENT
BEGIN:VEVENT
DTSTART;TZID=UTC:20260113T100000
DTEND;TZID=UTC:20260113T113000
DTSTAMP:20260422T230002
CREATED:20251107T191217Z
LAST-MODIFIED:20251107T191224Z
UID:10005737-1768298400-1768303800@www.orovalley.org
SUMMARY:Into the Heart of Romans Book Study
DESCRIPTION:The study will be held in the Sanctuary.
URL:https://www.orovalley.org/event/into-the-heart-of-romans-book-study/2026-01-13/
END:VEVENT
BEGIN:VEVENT
DTSTART;TZID=UTC:20260113T183000
DTEND;TZID=UTC:20260113T203000
DTSTAMP:20260422T230002
CREATED:20251111T170454Z
LAST-MODIFIED:20251111T170509Z
UID:10003782-1768329000-1768336200@www.orovalley.org
SUMMARY:Resurrection Card Players
DESCRIPTION:RLC Card Players meets every second and fourth Tuesday of the month in the Music Room. No reservation necessary. Please bring a snack to share and your own beverage. We play a variety of card games and we’re happy to teach you if you don’t know how to play. Everyone is welcome.
URL:https://www.orovalley.org/event/resurrection-card-players-5/2026-01-13/
END:VEVENT
BEGIN:VEVENT
DTSTART;TZID=UTC:20260114T100000
DTEND;TZID=UTC:20260114T113000
DTSTAMP:20260422T230002
CREATED:20250829T192957Z
LAST-MODIFIED:20260106T163516Z
UID:10006068-1768384800-1768390200@www.orovalley.org
SUMMARY:Thriving in the Third Thirty Seminar Series
DESCRIPTION:Oro Valley Sanctuary \n\n\n\nMore information coming.
URL:https://www.orovalley.org/event/thriving-in-the-third-thirty-seminar-series/2026-01-14/
END:VEVENT
BEGIN:VEVENT
DTSTART;TZID=UTC:20260114T100000
DTEND;TZID=UTC:20260114T113000
DTSTAMP:20260422T230002
CREATED:20251209T181906Z
LAST-MODIFIED:20251209T181911Z
UID:10006057-1768384800-1768390200@www.orovalley.org
SUMMARY:Coping With Grief
DESCRIPTION:This event will be held in the Prayer Room.
URL:https://www.orovalley.org/event/coping-with-grief-2/2026-01-14/
END:VEVENT
BEGIN:VEVENT
DTSTART;TZID=UTC:20260114T150000
DTEND;TZID=UTC:20260114T160000
DTSTAMP:20260422T230002
CREATED:20250701T214646Z
LAST-MODIFIED:20250701T214652Z
UID:10004502-1768402800-1768406400@www.orovalley.org
SUMMARY:Scripture & Salsa
DESCRIPTION:You are invited to join Pastor Carol every Wednesday from 3:00 – 4:00 PM at Mi Tierra Mexican Restaurant in Catalina starting January 8th for an informal discussion of the Bible texts for the upcoming weekend’s worship. No registration is required and there is no long-term commitment. Just grab your Bible and drop by.
URL:https://www.orovalley.org/event/scripture-salsa-2/2026-01-14/
END:VEVENT
BEGIN:VEVENT
DTSTART;TZID=UTC:20260115T120000
DTEND;TZID=UTC:20260115T140000
DTSTAMP:20260422T230002
CREATED:20260115T185951Z
LAST-MODIFIED:20260115T185957Z
UID:10006072-1768478400-1768485600@www.orovalley.org
SUMMARY:New Members Class
DESCRIPTION:This event will be held at Katie’s Quarters
URL:https://www.orovalley.org/event/new-members-class-7/
LOCATION:Katie’s Quarters
END:VEVENT
BEGIN:VEVENT
DTSTART;TZID=UTC:20260115T130000
DTEND;TZID=UTC:20260115T160000
DTSTAMP:20260422T230002
CREATED:20241213T002356Z
LAST-MODIFIED:20241213T002359Z
UID:10004104-1768482000-1768492800@www.orovalley.org
SUMMARY:Matching Dragons Mah Jongg
DESCRIPTION:Do you play the game of (American) Mah Jongg and have been looking for a group to play with? Join us on Thursday afternoons 1:00-4:00 PM in Luther’s Lair in the Outreach Center. These are friendly games. We do NOT play for money but we ALWAYS have a good time. This group is for those who already know how to play the game. However\, anyone is invited to come observe to see if they would like to learn to play the game. Questions? Contact Jackie Verdick at jackieverdick@gmail.com or 612-554-0111.
URL:https://www.orovalley.org/event/matching-dragons-mah-jongg/2026-01-15/
END:VEVENT
BEGIN:VEVENT
DTSTART;TZID=UTC:20260115T130000
DTEND;TZID=UTC:20260115T160000
DTSTAMP:20260422T230002
CREATED:20251107T191455Z
LAST-MODIFIED:20251107T191616Z
UID:10005754-1768482000-1768492800@www.orovalley.org
SUMMARY:Art by Heart Open Studio
DESCRIPTION:
URL:https://www.orovalley.org/event/art-by-heart-open-studio/2026-01-15/
END:VEVENT
BEGIN:VEVENT
DTSTART;TZID=UTC:20260117T080000
DTEND;TZID=UTC:20260117T090000
DTSTAMP:20260422T230002
CREATED:20240808T201836Z
LAST-MODIFIED:20260210T201221Z
UID:10004328-1768636800-1768640400@www.orovalley.org
SUMMARY:Men's Bible Study
DESCRIPTION:Uses the Serendipity Bible\, copies are available. All men of the church are welcome to attend. Meets in Luther’s Lair.
URL:https://www.orovalley.org/event/mens-bible-study/2026-01-17/
END:VEVENT
END:VCALENDAR