BEGIN:VCALENDAR
VERSION:2.0
PRODID:-//Resurrection Lutheran Church - ECPv6.15.20//NONSGML v1.0//EN
CALSCALE:GREGORIAN
METHOD:PUBLISH
X-WR-CALNAME:Resurrection Lutheran Church
X-ORIGINAL-URL:https://www.orovalley.org
X-WR-CALDESC:Events for Resurrection Lutheran Church
REFRESH-INTERVAL;VALUE=DURATION:PT1H
X-Robots-Tag:noindex
X-PUBLISHED-TTL:PT1H
BEGIN:VTIMEZONE
TZID:UTC
BEGIN:STANDARD
TZOFFSETFROM:+0000
TZOFFSETTO:+0000
TZNAME:UTC
DTSTART:20250101T000000
END:STANDARD
END:VTIMEZONE
BEGIN:VEVENT
DTSTART;TZID=UTC:20260121T100000
DTEND;TZID=UTC:20260121T113000
DTSTAMP:20260423T014254
CREATED:20251209T181906Z
LAST-MODIFIED:20251209T181911Z
UID:10006058-1768989600-1768995000@www.orovalley.org
SUMMARY:Coping With Grief
DESCRIPTION:This event will be held in the Prayer Room.
URL:https://www.orovalley.org/event/coping-with-grief-2/2026-01-21/
END:VEVENT
BEGIN:VEVENT
DTSTART;TZID=UTC:20260121T103000
DTEND;TZID=UTC:20260121T120000
DTSTAMP:20260423T014255
CREATED:20240617T222009Z
LAST-MODIFIED:20240617T222059Z
UID:10003547-1768991400-1768996800@www.orovalley.org
SUMMARY:Parkinson's Support Group
DESCRIPTION:This support group provides encouragement from meeting with others who have Parkinson’s disease\, and for the care givers of those with Parkinson’s. The meetings provide an opportunity to discuss experiences and feelings and to share solutions to common problems.  Meets every 3rd Wednesday of the month in the High School Youth Room.
URL:https://www.orovalley.org/event/parkinsons-support-group-3/2026-01-21/
LOCATION:Youth Room
CATEGORIES:Congregational Care,Serve
ATTACH;FMTTYPE=image/jpeg:https://www.orovalley.org/wp-content/uploads/2024/06/Graphics-3.jpg
END:VEVENT
BEGIN:VEVENT
DTSTART;TZID=UTC:20260121T150000
DTEND;TZID=UTC:20260121T160000
DTSTAMP:20260423T014255
CREATED:20250701T214646Z
LAST-MODIFIED:20250701T214652Z
UID:10004503-1769007600-1769011200@www.orovalley.org
SUMMARY:Scripture & Salsa
DESCRIPTION:You are invited to join Pastor Carol every Wednesday from 3:00 – 4:00 PM at Mi Tierra Mexican Restaurant in Catalina starting January 8th for an informal discussion of the Bible texts for the upcoming weekend’s worship. No registration is required and there is no long-term commitment. Just grab your Bible and drop by.
URL:https://www.orovalley.org/event/scripture-salsa-2/2026-01-21/
END:VEVENT
BEGIN:VEVENT
DTSTART;TZID=UTC:20260122T130000
DTEND;TZID=UTC:20260122T160000
DTSTAMP:20260423T014255
CREATED:20241213T002356Z
LAST-MODIFIED:20241213T002359Z
UID:10004105-1769086800-1769097600@www.orovalley.org
SUMMARY:Matching Dragons Mah Jongg
DESCRIPTION:Do you play the game of (American) Mah Jongg and have been looking for a group to play with? Join us on Thursday afternoons 1:00-4:00 PM in Luther’s Lair in the Outreach Center. These are friendly games. We do NOT play for money but we ALWAYS have a good time. This group is for those who already know how to play the game. However\, anyone is invited to come observe to see if they would like to learn to play the game. Questions? Contact Jackie Verdick at jackieverdick@gmail.com or 612-554-0111.
URL:https://www.orovalley.org/event/matching-dragons-mah-jongg/2026-01-22/
END:VEVENT
BEGIN:VEVENT
DTSTART;TZID=UTC:20260122T130000
DTEND;TZID=UTC:20260122T160000
DTSTAMP:20260423T014255
CREATED:20251107T191455Z
LAST-MODIFIED:20251107T191616Z
UID:10005755-1769086800-1769097600@www.orovalley.org
SUMMARY:Art by Heart Open Studio
DESCRIPTION:
URL:https://www.orovalley.org/event/art-by-heart-open-studio/2026-01-22/
END:VEVENT
BEGIN:VEVENT
DTSTART;TZID=UTC:20260124T170000
DTEND;TZID=UTC:20260124T180000
DTSTAMP:20260423T014255
CREATED:20240130T000623Z
LAST-MODIFIED:20240228T201059Z
UID:10002349-1769274000-1769277600@www.orovalley.org
SUMMARY:5:00 Worship
DESCRIPTION:Join us for worship!  \n\n\n\n\nWorship Online Here\n\n\n\nOnline Bulletins Here
URL:https://www.orovalley.org/event/500-worship-2/2026-01-24/
LOCATION:Oro Valley Sanctuary
CATEGORIES:Worship
ATTACH;FMTTYPE=image/jpeg:https://www.orovalley.org/wp-content/uploads/2023/08/CopyrightTaylorNoelPhotography2021-175-354e5a6-scaled.jpg
END:VEVENT
BEGIN:VEVENT
DTSTART;TZID=UTC:20260125T074500
DTEND;TZID=UTC:20260125T084500
DTSTAMP:20260423T014255
CREATED:20250605T233406Z
LAST-MODIFIED:20250605T233413Z
UID:10000113-1769327100-1769330700@www.orovalley.org
SUMMARY:7:45 Worship
DESCRIPTION:Traditional Worship. Music provided by Resurrection’s Chancel Choir \n\n\n\n\nWorship Online Here\n\n\n\n\n \n\n\n\n\nOnline Bulletins Here
URL:https://www.orovalley.org/event/745-worship-9/2026-01-25/
LOCATION:Oro Valley Sanctuary
CATEGORIES:Worship
ATTACH;FMTTYPE=image/jpeg:https://www.orovalley.org/wp-content/uploads/2023/12/CopyrightTaylorNoelPhotography2021-158-scaled.jpg
END:VEVENT
BEGIN:VEVENT
DTSTART;TZID=UTC:20260125T090000
DTEND;TZID=UTC:20260125T100000
DTSTAMP:20260423T014255
CREATED:20240106T184634Z
LAST-MODIFIED:20240228T200602Z
UID:10001731-1769331600-1769335200@www.orovalley.org
SUMMARY:Worship at SaddleBrooke
DESCRIPTION:Worship Online Here\n\n\n\nOnline Bulletin Here
URL:https://www.orovalley.org/event/worship-at-saddlebrooke/2026-01-25/
LOCATION:SaddleBrooke\, SaddleBrooke HOA2 Clubhouse\, Tucson\, Arizona\, 85739
CATEGORIES:Worship
ATTACH;FMTTYPE=image/jpeg:https://www.orovalley.org/wp-content/uploads/2023/08/sb-worship-pic_3.jpg
END:VEVENT
BEGIN:VEVENT
DTSTART;TZID=UTC:20260125T091500
DTEND;TZID=UTC:20260125T101500
DTSTAMP:20260423T014255
CREATED:20250610T165422Z
LAST-MODIFIED:20250610T165427Z
UID:10005108-1769332500-1769336100@www.orovalley.org
SUMMARY:09:15 Worship - Contemporary
DESCRIPTION:Sunday School\, Confirmation\, High School Sunday School \n\n\n\nChildcare Available \n\n\n\n\nWorship Online Here
URL:https://www.orovalley.org/event/0915-worship-contemporary/2026-01-25/
LOCATION:Oro Valley Sanctuary
CATEGORIES:Worship
ATTACH;FMTTYPE=image/jpeg:https://www.orovalley.org/wp-content/uploads/2023/11/CopyrightTaylorNoelPhotography2021-200-scaled.jpg
END:VEVENT
BEGIN:VEVENT
DTSTART;TZID=UTC:20260125T104500
DTEND;TZID=UTC:20260125T114500
DTSTAMP:20260423T014255
CREATED:20250610T165108Z
LAST-MODIFIED:20250610T165111Z
UID:10005020-1769337900-1769341500@www.orovalley.org
SUMMARY:10:45 Worship - Contemporary
DESCRIPTION:Sunday School\, Confirmation\, High School Sunday School \n\n\n\nChildcare Available \n\n\n\n\nWorship Online Here
URL:https://www.orovalley.org/event/1045-worship-contemporary-7/2026-01-25/
LOCATION:Oro Valley Sanctuary
CATEGORIES:Worship
ATTACH;FMTTYPE=image/jpeg:https://www.orovalley.org/wp-content/uploads/2023/11/CopyrightTaylorNoelPhotography2021-200-scaled.jpg
END:VEVENT
BEGIN:VEVENT
DTSTART;TZID=UTC:20260126T103000
DTEND;TZID=UTC:20260126T114500
DTSTAMP:20260423T014255
CREATED:20251204T210145Z
LAST-MODIFIED:20251204T210150Z
UID:10006041-1769423400-1769427900@www.orovalley.org
SUMMARY:In Search of God’s Will Book Study
DESCRIPTION:This event will be held in the Sanctuary.
URL:https://www.orovalley.org/event/in-search-of-gods-will-book-study/2026-01-26/
END:VEVENT
BEGIN:VEVENT
DTSTART;TZID=UTC:20260126T183000
DTEND;TZID=UTC:20260126T200000
DTSTAMP:20260423T014255
CREATED:20251107T183956Z
LAST-MODIFIED:20260408T223906Z
UID:10005603-1769452200-1769457600@www.orovalley.org
SUMMARY:Half Truths Book Study
DESCRIPTION:The book study will be held in Katie’s Quarters.
URL:https://www.orovalley.org/event/half-truths-book-study/2026-01-26/
END:VEVENT
BEGIN:VEVENT
DTSTART;TZID=UTC:20260127T080000
DTEND;TZID=UTC:20260127T170000
DTSTAMP:20260423T014255
CREATED:20251008T010640Z
LAST-MODIFIED:20251008T010645Z
UID:10005235-1769500800-1769533200@www.orovalley.org
SUMMARY:Winter Book Discussion
DESCRIPTION:Oro Valley Sanctuary \n\n\n\nJoin us as we discuss Romans 8 through the eyes of N.T. Wright. We will use the book “Into the Heart of Romans.” Books available in the church office.
URL:https://www.orovalley.org/event/winter-book-discussion/2026-01-27/
END:VEVENT
BEGIN:VEVENT
DTSTART;TZID=UTC:20260127T100000
DTEND;TZID=UTC:20260127T113000
DTSTAMP:20260423T014255
CREATED:20251107T191217Z
LAST-MODIFIED:20251107T191224Z
UID:10005739-1769508000-1769513400@www.orovalley.org
SUMMARY:Into the Heart of Romans Book Study
DESCRIPTION:The study will be held in the Sanctuary.
URL:https://www.orovalley.org/event/into-the-heart-of-romans-book-study/2026-01-27/
END:VEVENT
BEGIN:VEVENT
DTSTART;TZID=UTC:20260127T183000
DTEND;TZID=UTC:20260127T203000
DTSTAMP:20260423T014255
CREATED:20240910T192133Z
LAST-MODIFIED:20240910T192135Z
UID:10003842-1769538600-1769545800@www.orovalley.org
SUMMARY:Resurrection Card Players
DESCRIPTION:RLC Card Players meets every second and fourth Tuesday of the month. No reservation necessary. Please bring a snack to share and your own beverage. We play a variety of card games and we’re happy to teach you if you don’t know how to play. Everyone is welcome.
URL:https://www.orovalley.org/event/resurrection-card-players-2/2026-01-27/
LOCATION:Luther’s Lair
END:VEVENT
BEGIN:VEVENT
DTSTART;TZID=UTC:20260128T100000
DTEND;TZID=UTC:20260128T113000
DTSTAMP:20260423T014255
CREATED:20250829T192957Z
LAST-MODIFIED:20260106T163516Z
UID:10006070-1769594400-1769599800@www.orovalley.org
SUMMARY:Thriving in the Third Thirty Seminar Series
DESCRIPTION:Oro Valley Sanctuary \n\n\n\nMore information coming.
URL:https://www.orovalley.org/event/thriving-in-the-third-thirty-seminar-series/2026-01-28/
END:VEVENT
BEGIN:VEVENT
DTSTART;TZID=UTC:20260128T100000
DTEND;TZID=UTC:20260128T113000
DTSTAMP:20260423T014255
CREATED:20251209T181906Z
LAST-MODIFIED:20251209T181911Z
UID:10006059-1769594400-1769599800@www.orovalley.org
SUMMARY:Coping With Grief
DESCRIPTION:This event will be held in the Prayer Room.
URL:https://www.orovalley.org/event/coping-with-grief-2/2026-01-28/
END:VEVENT
BEGIN:VEVENT
DTSTART;TZID=UTC:20260128T150000
DTEND;TZID=UTC:20260128T160000
DTSTAMP:20260423T014255
CREATED:20250701T214646Z
LAST-MODIFIED:20250701T214652Z
UID:10004504-1769612400-1769616000@www.orovalley.org
SUMMARY:Scripture & Salsa
DESCRIPTION:You are invited to join Pastor Carol every Wednesday from 3:00 – 4:00 PM at Mi Tierra Mexican Restaurant in Catalina starting January 8th for an informal discussion of the Bible texts for the upcoming weekend’s worship. No registration is required and there is no long-term commitment. Just grab your Bible and drop by.
URL:https://www.orovalley.org/event/scripture-salsa-2/2026-01-28/
END:VEVENT
BEGIN:VEVENT
DTSTART;TZID=UTC:20260129T130000
DTEND;TZID=UTC:20260129T160000
DTSTAMP:20260423T014255
CREATED:20241213T002356Z
LAST-MODIFIED:20241213T002359Z
UID:10004106-1769691600-1769702400@www.orovalley.org
SUMMARY:Matching Dragons Mah Jongg
DESCRIPTION:Do you play the game of (American) Mah Jongg and have been looking for a group to play with? Join us on Thursday afternoons 1:00-4:00 PM in Luther’s Lair in the Outreach Center. These are friendly games. We do NOT play for money but we ALWAYS have a good time. This group is for those who already know how to play the game. However\, anyone is invited to come observe to see if they would like to learn to play the game. Questions? Contact Jackie Verdick at jackieverdick@gmail.com or 612-554-0111.
URL:https://www.orovalley.org/event/matching-dragons-mah-jongg/2026-01-29/
END:VEVENT
BEGIN:VEVENT
DTSTART;TZID=UTC:20260129T130000
DTEND;TZID=UTC:20260129T160000
DTSTAMP:20260423T014255
CREATED:20251107T191455Z
LAST-MODIFIED:20251107T191616Z
UID:10005756-1769691600-1769702400@www.orovalley.org
SUMMARY:Art by Heart Open Studio
DESCRIPTION:
URL:https://www.orovalley.org/event/art-by-heart-open-studio/2026-01-29/
END:VEVENT
BEGIN:VEVENT
DTSTART;TZID=UTC:20260131T170000
DTEND;TZID=UTC:20260131T180000
DTSTAMP:20260423T014255
CREATED:20240130T000623Z
LAST-MODIFIED:20240228T201059Z
UID:10002350-1769878800-1769882400@www.orovalley.org
SUMMARY:5:00 Worship
DESCRIPTION:Join us for worship!  \n\n\n\n\nWorship Online Here\n\n\n\nOnline Bulletins Here
URL:https://www.orovalley.org/event/500-worship-2/2026-01-31/
LOCATION:Oro Valley Sanctuary
CATEGORIES:Worship
ATTACH;FMTTYPE=image/jpeg:https://www.orovalley.org/wp-content/uploads/2023/08/CopyrightTaylorNoelPhotography2021-175-354e5a6-scaled.jpg
END:VEVENT
BEGIN:VEVENT
DTSTART;TZID=UTC:20260201T074500
DTEND;TZID=UTC:20260201T084500
DTSTAMP:20260423T014255
CREATED:20250605T233406Z
LAST-MODIFIED:20250605T233413Z
UID:10000114-1769931900-1769935500@www.orovalley.org
SUMMARY:7:45 Worship
DESCRIPTION:Traditional Worship. Music provided by Resurrection’s Chancel Choir \n\n\n\n\nWorship Online Here\n\n\n\n\n \n\n\n\n\nOnline Bulletins Here
URL:https://www.orovalley.org/event/745-worship-9/2026-02-01/
LOCATION:Oro Valley Sanctuary
CATEGORIES:Worship
ATTACH;FMTTYPE=image/jpeg:https://www.orovalley.org/wp-content/uploads/2023/12/CopyrightTaylorNoelPhotography2021-158-scaled.jpg
END:VEVENT
BEGIN:VEVENT
DTSTART;TZID=UTC:20260201T090000
DTEND;TZID=UTC:20260201T100000
DTSTAMP:20260423T014255
CREATED:20240106T184634Z
LAST-MODIFIED:20240228T200602Z
UID:10001732-1769936400-1769940000@www.orovalley.org
SUMMARY:Worship at SaddleBrooke
DESCRIPTION:Worship Online Here\n\n\n\nOnline Bulletin Here
URL:https://www.orovalley.org/event/worship-at-saddlebrooke/2026-02-01/
LOCATION:SaddleBrooke\, SaddleBrooke HOA2 Clubhouse\, Tucson\, Arizona\, 85739
CATEGORIES:Worship
ATTACH;FMTTYPE=image/jpeg:https://www.orovalley.org/wp-content/uploads/2023/08/sb-worship-pic_3.jpg
END:VEVENT
BEGIN:VEVENT
DTSTART;TZID=UTC:20260201T091500
DTEND;TZID=UTC:20260201T101500
DTSTAMP:20260423T014255
CREATED:20250610T165422Z
LAST-MODIFIED:20250610T165427Z
UID:10005109-1769937300-1769940900@www.orovalley.org
SUMMARY:09:15 Worship - Contemporary
DESCRIPTION:Sunday School\, Confirmation\, High School Sunday School \n\n\n\nChildcare Available \n\n\n\n\nWorship Online Here
URL:https://www.orovalley.org/event/0915-worship-contemporary/2026-02-01/
LOCATION:Oro Valley Sanctuary
CATEGORIES:Worship
ATTACH;FMTTYPE=image/jpeg:https://www.orovalley.org/wp-content/uploads/2023/11/CopyrightTaylorNoelPhotography2021-200-scaled.jpg
END:VEVENT
BEGIN:VEVENT
DTSTART;TZID=UTC:20260201T104500
DTEND;TZID=UTC:20260201T114500
DTSTAMP:20260423T014255
CREATED:20250610T165108Z
LAST-MODIFIED:20250610T165111Z
UID:10005021-1769942700-1769946300@www.orovalley.org
SUMMARY:10:45 Worship - Contemporary
DESCRIPTION:Sunday School\, Confirmation\, High School Sunday School \n\n\n\nChildcare Available \n\n\n\n\nWorship Online Here
URL:https://www.orovalley.org/event/1045-worship-contemporary-7/2026-02-01/
LOCATION:Oro Valley Sanctuary
CATEGORIES:Worship
ATTACH;FMTTYPE=image/jpeg:https://www.orovalley.org/wp-content/uploads/2023/11/CopyrightTaylorNoelPhotography2021-200-scaled.jpg
END:VEVENT
BEGIN:VEVENT
DTSTART;TZID=UTC:20260202T103000
DTEND;TZID=UTC:20260202T114500
DTSTAMP:20260423T014255
CREATED:20251204T210145Z
LAST-MODIFIED:20251204T210150Z
UID:10006042-1770028200-1770032700@www.orovalley.org
SUMMARY:In Search of God’s Will Book Study
DESCRIPTION:This event will be held in the Sanctuary.
URL:https://www.orovalley.org/event/in-search-of-gods-will-book-study/2026-02-02/
END:VEVENT
BEGIN:VEVENT
DTSTART;TZID=UTC:20260203T080000
DTEND;TZID=UTC:20260203T170000
DTSTAMP:20260423T014255
CREATED:20251008T010640Z
LAST-MODIFIED:20251008T010645Z
UID:10005236-1770105600-1770138000@www.orovalley.org
SUMMARY:Winter Book Discussion
DESCRIPTION:Oro Valley Sanctuary \n\n\n\nJoin us as we discuss Romans 8 through the eyes of N.T. Wright. We will use the book “Into the Heart of Romans.” Books available in the church office.
URL:https://www.orovalley.org/event/winter-book-discussion/2026-02-03/
END:VEVENT
BEGIN:VEVENT
DTSTART;TZID=UTC:20260203T100000
DTEND;TZID=UTC:20260203T113000
DTSTAMP:20260423T014255
CREATED:20251107T191217Z
LAST-MODIFIED:20251107T191224Z
UID:10005740-1770112800-1770118200@www.orovalley.org
SUMMARY:Into the Heart of Romans Book Study
DESCRIPTION:The study will be held in the Sanctuary.
URL:https://www.orovalley.org/event/into-the-heart-of-romans-book-study/2026-02-03/
END:VEVENT
BEGIN:VEVENT
DTSTART;TZID=UTC:20260203T130000
DTEND;TZID=UTC:20260203T160000
DTSTAMP:20260423T014255
CREATED:20260210T184404Z
LAST-MODIFIED:20260210T202351Z
UID:10006091-1770123600-1770134400@www.orovalley.org
SUMMARY:Art by Heart Glass Classes
DESCRIPTION:Art by Heart Studio
URL:https://www.orovalley.org/event/art-by-heart-glass-classes/2026-02-03/
END:VEVENT
BEGIN:VEVENT
DTSTART;TZID=UTC:20260204T100000
DTEND;TZID=UTC:20260204T113000
DTSTAMP:20260423T014255
CREATED:20250829T192957Z
LAST-MODIFIED:20260106T163516Z
UID:10006071-1770199200-1770204600@www.orovalley.org
SUMMARY:Thriving in the Third Thirty Seminar Series
DESCRIPTION:Oro Valley Sanctuary \n\n\n\nMore information coming.
URL:https://www.orovalley.org/event/thriving-in-the-third-thirty-seminar-series/2026-02-04/
END:VEVENT
END:VCALENDAR