BEGIN:VCALENDAR
VERSION:2.0
PRODID:-//Resurrection Lutheran Church - ECPv6.15.17//NONSGML v1.0//EN
CALSCALE:GREGORIAN
METHOD:PUBLISH
X-ORIGINAL-URL:https://www.orovalley.org
X-WR-CALDESC:Events for Resurrection Lutheran Church
REFRESH-INTERVAL;VALUE=DURATION:PT1H
X-Robots-Tag:noindex
X-PUBLISHED-TTL:PT1H
BEGIN:VTIMEZONE
TZID:UTC
BEGIN:STANDARD
TZOFFSETFROM:+0000
TZOFFSETTO:+0000
TZNAME:UTC
DTSTART:20240101T000000
END:STANDARD
END:VTIMEZONE
BEGIN:VEVENT
DTSTART;TZID=UTC:20250323T090000
DTEND;TZID=UTC:20250323T100000
DTSTAMP:20260419T182447
CREATED:20240106T184634Z
LAST-MODIFIED:20240228T200602Z
UID:10001687-1742720400-1742724000@www.orovalley.org
SUMMARY:Worship at SaddleBrooke
DESCRIPTION:Worship Online Here\n\n\n\nOnline Bulletin Here
URL:https://www.orovalley.org/event/worship-at-saddlebrooke/2025-03-23/
LOCATION:SaddleBrooke\, SaddleBrooke HOA2 Clubhouse\, Tucson\, Arizona\, 85739
CATEGORIES:Worship
ATTACH;FMTTYPE=image/jpeg:https://www.orovalley.org/wp-content/uploads/2023/08/sb-worship-pic_3.jpg
END:VEVENT
BEGIN:VEVENT
DTSTART;TZID=UTC:20250323T104500
DTEND;TZID=UTC:20250323T114500
DTSTAMP:20260419T182447
CREATED:20240513T203112Z
LAST-MODIFIED:20240513T203139Z
UID:10001362-1742726700-1742730300@www.orovalley.org
SUMMARY:10:45 Worship - Contemporary
DESCRIPTION:Sunday School\, Confirmation\, High School Sunday School \n\n\n\nChildcare Available \n\n\n\n\nWorship Online Here
URL:https://www.orovalley.org/event/1045-worship-contemporary-4/2025-03-23/
LOCATION:Oro Valley Sanctuary
CATEGORIES:Worship
ATTACH;FMTTYPE=image/jpeg:https://www.orovalley.org/wp-content/uploads/2023/11/CopyrightTaylorNoelPhotography2021-200-scaled.jpg
END:VEVENT
BEGIN:VEVENT
DTSTART;TZID=UTC:20250325T080000
DTEND;TZID=UTC:20250325T133000
DTSTAMP:20260419T182447
CREATED:20250303T194747Z
LAST-MODIFIED:20250303T194752Z
UID:10004759-1742889600-1742909400@www.orovalley.org
SUMMARY:American Red Cross Blood Drive
DESCRIPTION:Give the gift of life\, donate blood! Sign up today! \n\n\n\nhttps://www.redcrossblood.org/give.html/drive-results?zipSponsor=RESURRECTION
URL:https://www.orovalley.org/event/american-red-cross-blood-drive-5/
LOCATION:Katie’s Quarters
END:VEVENT
BEGIN:VEVENT
DTSTART;TZID=UTC:20250325T103000
DTEND;TZID=UTC:20250325T120000
DTSTAMP:20260419T182447
CREATED:20250303T193828Z
LAST-MODIFIED:20250303T193906Z
UID:10004753-1742898600-1742904000@www.orovalley.org
SUMMARY:Book Study: Gift of Being Yourself
DESCRIPTION:
URL:https://www.orovalley.org/event/book-study-gift-of-being-yourself/2025-03-25/
LOCATION:Katie’s Quarters
END:VEVENT
BEGIN:VEVENT
DTSTART;TZID=UTC:20250325T183000
DTEND;TZID=UTC:20250325T203000
DTSTAMP:20260419T182447
CREATED:20240910T192133Z
LAST-MODIFIED:20240910T192135Z
UID:10003832-1742927400-1742934600@www.orovalley.org
SUMMARY:Resurrection Card Players
DESCRIPTION:RLC Card Players meets every second and fourth Tuesday of the month. No reservation necessary. Please bring a snack to share and your own beverage. We play a variety of card games and we’re happy to teach you if you don’t know how to play. Everyone is welcome.
URL:https://www.orovalley.org/event/resurrection-card-players-2/2025-03-25/
LOCATION:Luther’s Lair
END:VEVENT
BEGIN:VEVENT
DTSTART;TZID=UTC:20250326T120000
DTEND;TZID=UTC:20250326T130000
DTSTAMP:20260419T182447
CREATED:20250303T191917Z
LAST-MODIFIED:20250303T192022Z
UID:10004740-1742990400-1742994000@www.orovalley.org
SUMMARY:Mid-Week Lenten Worship Service
DESCRIPTION:
URL:https://www.orovalley.org/event/mid-week-lenten-worship-service/2025-03-26/
LOCATION:Oro Valley Sanctuary
END:VEVENT
BEGIN:VEVENT
DTSTART;TZID=UTC:20250326T150000
DTEND;TZID=UTC:20250326T160000
DTSTAMP:20260419T182447
CREATED:20250114T073956Z
LAST-MODIFIED:20250114T073958Z
UID:10004460-1743001200-1743004800@www.orovalley.org
SUMMARY:Scripture & Salsa
DESCRIPTION:You are invited to join Pastor Carol every Wednesday from 3:00 – 4:00 PM at Mi Tierra Mexican Restaurant in Catalina starting January 8th for an informal discussion of the Bible texts for the upcoming weekend’s worship. No registration is required and there is no long-term commitment. Just grab your Bible and drop by.
URL:https://www.orovalley.org/event/scripture-salsa/2025-03-26/
END:VEVENT
BEGIN:VEVENT
DTSTART;TZID=UTC:20250327T130000
DTEND;TZID=UTC:20250327T160000
DTSTAMP:20260419T182447
CREATED:20241213T002356Z
LAST-MODIFIED:20241213T002359Z
UID:10004062-1743080400-1743091200@www.orovalley.org
SUMMARY:Matching Dragons Mah Jongg
DESCRIPTION:Do you play the game of (American) Mah Jongg and have been looking for a group to play with? Join us on Thursday afternoons 1:00-4:00 PM in Luther’s Lair in the Outreach Center. These are friendly games. We do NOT play for money but we ALWAYS have a good time. This group is for those who already know how to play the game. However\, anyone is invited to come observe to see if they would like to learn to play the game. Questions? Contact Jackie Verdick at jackieverdick@gmail.com or 612-554-0111.
URL:https://www.orovalley.org/event/matching-dragons-mah-jongg/2025-03-27/
END:VEVENT
BEGIN:VEVENT
DTSTART;TZID=UTC:20250328T000000
DTEND;TZID=UTC:20250330T235959
DTSTAMP:20260419T182447
CREATED:20250114T072613Z
LAST-MODIFIED:20250114T072616Z
UID:10004445-1743120000-1743379199@www.orovalley.org
SUMMARY:Resurrection Women’s Retreat 2025
DESCRIPTION:Redemptorist Retreat Center in MaranaWe are so excited to offer our 3rd annual Women’s Retreat at the Redemptorist Center in Marana. The dates for our retreat are March 28th-30th. Each lovely lady will have their own room and bathroom. All of your food is included in the cost which is $290. We are delighted to have Pastor Carol George as our Retreat Speaker. The theme will be “You Are God’s Masterpiece\,” based on Ephesians 2:10. We will be exploring the gifts of creativity God has given us for the good works he has prepared for us to do. We hope you can join us to renew Christian friendships\, make new Christian friends\, and grow in your faith. Please sign up on the RLC website and make your payment there as well. Sign-up coming soon! We know it will be a very special weekend and we hope you can join us. Space is limited and we ask that you sign up by March 14th. If you have any questions please call Melinda Wetherby at 619-228-4571\, Susanne Hustek at 520-784-4181\, or Patti Thompson at 847-651-8682.
URL:https://www.orovalley.org/event/resurrection-womens-retreat-2025/
END:VEVENT
BEGIN:VEVENT
DTSTART;TZID=UTC:20250329T080000
DTEND;TZID=UTC:20250329T090000
DTSTAMP:20260419T182447
CREATED:20240808T201836Z
LAST-MODIFIED:20260210T201221Z
UID:10003641-1743235200-1743238800@www.orovalley.org
SUMMARY:Men's Bible Study
DESCRIPTION:Uses the Serendipity Bible\, copies are available. All men of the church are welcome to attend. Meets in Luther’s Lair.
URL:https://www.orovalley.org/event/mens-bible-study/2025-03-29/
END:VEVENT
BEGIN:VEVENT
DTSTART;TZID=UTC:20250329T170000
DTEND;TZID=UTC:20250329T180000
DTSTAMP:20260419T182447
CREATED:20240130T000623Z
LAST-MODIFIED:20240228T201059Z
UID:10002306-1743267600-1743271200@www.orovalley.org
SUMMARY:5:00 Worship
DESCRIPTION:Join us for worship!  \n\n\n\n\nWorship Online Here\n\n\n\nOnline Bulletins Here
URL:https://www.orovalley.org/event/500-worship-2/2025-03-29/
LOCATION:Oro Valley Sanctuary
CATEGORIES:Worship
ATTACH;FMTTYPE=image/jpeg:https://www.orovalley.org/wp-content/uploads/2023/08/CopyrightTaylorNoelPhotography2021-175-354e5a6-scaled.jpg
END:VEVENT
BEGIN:VEVENT
DTSTART;TZID=UTC:20250330T074500
DTEND;TZID=UTC:20250330T084500
DTSTAMP:20260419T182447
CREATED:20240513T202737Z
LAST-MODIFIED:20240513T202749Z
UID:10000070-1743320700-1743324300@www.orovalley.org
SUMMARY:7:45 Worship
DESCRIPTION:Traditional Worship. Music provided by Resurrection’s Chancel Choir \n\n\n\n\nWorship Online Here\n\n\n\n\n \n\n\n\n\nOnline Bulletins Here
URL:https://www.orovalley.org/event/745-worship-7/2025-03-30/
LOCATION:Oro Valley Sanctuary
CATEGORIES:Worship
ATTACH;FMTTYPE=image/jpeg:https://www.orovalley.org/wp-content/uploads/2023/12/CopyrightTaylorNoelPhotography2021-158-scaled.jpg
END:VEVENT
BEGIN:VEVENT
DTSTART;TZID=UTC:20250330T090000
DTEND;TZID=UTC:20250330T100000
DTSTAMP:20260419T182447
CREATED:20240106T184634Z
LAST-MODIFIED:20240228T200602Z
UID:10001688-1743325200-1743328800@www.orovalley.org
SUMMARY:Worship at SaddleBrooke
DESCRIPTION:Worship Online Here\n\n\n\nOnline Bulletin Here
URL:https://www.orovalley.org/event/worship-at-saddlebrooke/2025-03-30/
LOCATION:SaddleBrooke\, SaddleBrooke HOA2 Clubhouse\, Tucson\, Arizona\, 85739
CATEGORIES:Worship
ATTACH;FMTTYPE=image/jpeg:https://www.orovalley.org/wp-content/uploads/2023/08/sb-worship-pic_3.jpg
END:VEVENT
BEGIN:VEVENT
DTSTART;TZID=UTC:20250330T104500
DTEND;TZID=UTC:20250330T114500
DTSTAMP:20260419T182447
CREATED:20240513T203112Z
LAST-MODIFIED:20240513T203139Z
UID:10001363-1743331500-1743335100@www.orovalley.org
SUMMARY:10:45 Worship - Contemporary
DESCRIPTION:Sunday School\, Confirmation\, High School Sunday School \n\n\n\nChildcare Available \n\n\n\n\nWorship Online Here
URL:https://www.orovalley.org/event/1045-worship-contemporary-4/2025-03-30/
LOCATION:Oro Valley Sanctuary
CATEGORIES:Worship
ATTACH;FMTTYPE=image/jpeg:https://www.orovalley.org/wp-content/uploads/2023/11/CopyrightTaylorNoelPhotography2021-200-scaled.jpg
END:VEVENT
BEGIN:VEVENT
DTSTART;TZID=UTC:20250401T103000
DTEND;TZID=UTC:20250401T120000
DTSTAMP:20260419T182447
CREATED:20250303T193828Z
LAST-MODIFIED:20250303T193906Z
UID:10004754-1743503400-1743508800@www.orovalley.org
SUMMARY:Book Study: Gift of Being Yourself
DESCRIPTION:
URL:https://www.orovalley.org/event/book-study-gift-of-being-yourself/2025-04-01/
LOCATION:Katie’s Quarters
END:VEVENT
BEGIN:VEVENT
DTSTART;TZID=UTC:20250402T120000
DTEND;TZID=UTC:20250402T130000
DTSTAMP:20260419T182447
CREATED:20250303T191917Z
LAST-MODIFIED:20250303T192022Z
UID:10004741-1743595200-1743598800@www.orovalley.org
SUMMARY:Mid-Week Lenten Worship Service
DESCRIPTION:
URL:https://www.orovalley.org/event/mid-week-lenten-worship-service/2025-04-02/
LOCATION:Oro Valley Sanctuary
END:VEVENT
BEGIN:VEVENT
DTSTART;TZID=UTC:20250402T150000
DTEND;TZID=UTC:20250402T160000
DTSTAMP:20260419T182447
CREATED:20250114T073956Z
LAST-MODIFIED:20250114T073958Z
UID:10004461-1743606000-1743609600@www.orovalley.org
SUMMARY:Scripture & Salsa
DESCRIPTION:You are invited to join Pastor Carol every Wednesday from 3:00 – 4:00 PM at Mi Tierra Mexican Restaurant in Catalina starting January 8th for an informal discussion of the Bible texts for the upcoming weekend’s worship. No registration is required and there is no long-term commitment. Just grab your Bible and drop by.
URL:https://www.orovalley.org/event/scripture-salsa/2025-04-02/
END:VEVENT
BEGIN:VEVENT
DTSTART;TZID=UTC:20250403T130000
DTEND;TZID=UTC:20250403T160000
DTSTAMP:20260419T182447
CREATED:20241213T002356Z
LAST-MODIFIED:20241213T002359Z
UID:10004063-1743685200-1743696000@www.orovalley.org
SUMMARY:Matching Dragons Mah Jongg
DESCRIPTION:Do you play the game of (American) Mah Jongg and have been looking for a group to play with? Join us on Thursday afternoons 1:00-4:00 PM in Luther’s Lair in the Outreach Center. These are friendly games. We do NOT play for money but we ALWAYS have a good time. This group is for those who already know how to play the game. However\, anyone is invited to come observe to see if they would like to learn to play the game. Questions? Contact Jackie Verdick at jackieverdick@gmail.com or 612-554-0111.
URL:https://www.orovalley.org/event/matching-dragons-mah-jongg/2025-04-03/
END:VEVENT
BEGIN:VEVENT
DTSTART;TZID=UTC:20250405T073000
DTEND;TZID=UTC:20250405T093000
DTSTAMP:20260419T182447
CREATED:20250315T205546Z
LAST-MODIFIED:20250315T205550Z
UID:10002539-1743838200-1743845400@www.orovalley.org
SUMMARY:Men's Breakfast
DESCRIPTION:Saturday\, April 5th 7:30 AM – 9:30 AM\, Oro Valley Gym \n\n\n\nJoin us for a hot catered breakfast from Flaming Heart BBQ\, with guest speaker and RLC \n\n\n\nmember\, Bob Wells. Bob’s presentation\, “Tales from the Deep Blue Sea.” \n\n\n\n$15.00 per person.  \n\n\n\nKindly make your reservations here: https://rsvp.church/r/ztKN2dJ9
URL:https://www.orovalley.org/event/mens-breakfast-7/
LOCATION:Outreach Center Gymnasium\, 11575 N 1st Ave\, Oro Valley\, AZ\, 85737\, United States
CATEGORIES:Men's Breakfast
ATTACH;FMTTYPE=image/jpeg:https://www.orovalley.org/wp-content/uploads/2023/12/27.jpg
END:VEVENT
BEGIN:VEVENT
DTSTART;TZID=UTC:20250405T170000
DTEND;TZID=UTC:20250405T180000
DTSTAMP:20260419T182447
CREATED:20240130T000623Z
LAST-MODIFIED:20240228T201059Z
UID:10002307-1743872400-1743876000@www.orovalley.org
SUMMARY:5:00 Worship
DESCRIPTION:Join us for worship!  \n\n\n\n\nWorship Online Here\n\n\n\nOnline Bulletins Here
URL:https://www.orovalley.org/event/500-worship-2/2025-04-05/
LOCATION:Oro Valley Sanctuary
CATEGORIES:Worship
ATTACH;FMTTYPE=image/jpeg:https://www.orovalley.org/wp-content/uploads/2023/08/CopyrightTaylorNoelPhotography2021-175-354e5a6-scaled.jpg
END:VEVENT
BEGIN:VEVENT
DTSTART;TZID=UTC:20250406T074500
DTEND;TZID=UTC:20250406T084500
DTSTAMP:20260419T182447
CREATED:20240513T202737Z
LAST-MODIFIED:20240513T202749Z
UID:10000071-1743925500-1743929100@www.orovalley.org
SUMMARY:7:45 Worship
DESCRIPTION:Traditional Worship. Music provided by Resurrection’s Chancel Choir \n\n\n\n\nWorship Online Here\n\n\n\n\n \n\n\n\n\nOnline Bulletins Here
URL:https://www.orovalley.org/event/745-worship-7/2025-04-06/
LOCATION:Oro Valley Sanctuary
CATEGORIES:Worship
ATTACH;FMTTYPE=image/jpeg:https://www.orovalley.org/wp-content/uploads/2023/12/CopyrightTaylorNoelPhotography2021-158-scaled.jpg
END:VEVENT
BEGIN:VEVENT
DTSTART;TZID=UTC:20250406T090000
DTEND;TZID=UTC:20250406T100000
DTSTAMP:20260419T182448
CREATED:20240106T184634Z
LAST-MODIFIED:20240228T200602Z
UID:10001689-1743930000-1743933600@www.orovalley.org
SUMMARY:Worship at SaddleBrooke
DESCRIPTION:Worship Online Here\n\n\n\nOnline Bulletin Here
URL:https://www.orovalley.org/event/worship-at-saddlebrooke/2025-04-06/
LOCATION:SaddleBrooke\, SaddleBrooke HOA2 Clubhouse\, Tucson\, Arizona\, 85739
CATEGORIES:Worship
ATTACH;FMTTYPE=image/jpeg:https://www.orovalley.org/wp-content/uploads/2023/08/sb-worship-pic_3.jpg
END:VEVENT
BEGIN:VEVENT
DTSTART;TZID=UTC:20250406T104500
DTEND;TZID=UTC:20250406T114500
DTSTAMP:20260419T182448
CREATED:20240513T203112Z
LAST-MODIFIED:20240513T203139Z
UID:10001364-1743936300-1743939900@www.orovalley.org
SUMMARY:10:45 Worship - Contemporary
DESCRIPTION:Sunday School\, Confirmation\, High School Sunday School \n\n\n\nChildcare Available \n\n\n\n\nWorship Online Here
URL:https://www.orovalley.org/event/1045-worship-contemporary-4/2025-04-06/
LOCATION:Oro Valley Sanctuary
CATEGORIES:Worship
ATTACH;FMTTYPE=image/jpeg:https://www.orovalley.org/wp-content/uploads/2023/11/CopyrightTaylorNoelPhotography2021-200-scaled.jpg
END:VEVENT
BEGIN:VEVENT
DTSTART;TZID=UTC:20250406T120000
DTEND;TZID=UTC:20250406T140000
DTSTAMP:20260419T182448
CREATED:20250303T192516Z
LAST-MODIFIED:20250303T192522Z
UID:10004743-1743940800-1743948000@www.orovalley.org
SUMMARY:New Member Class
DESCRIPTION:Please join us for our next New Member Class. This class is an excellent opportunity to learn more about who we are\, our beliefs\, our vision and our mission. You will meet our Pastors\, Council Members\, staff and other new faces who seek to get plugged in to the community and ministry of Resurrection! \n\n\n\nLunch is provided\, and childcare is available. \n\n\n\nPlease sign up after worship in Oro Valley or SaddleBrooke at the Welcome Table\, or contact Kristina Randolph for more information at 520-575-9901 or Krandolph@orovalley.org. \n\n\n\nLooking forward to welcoming you HOME!
URL:https://www.orovalley.org/event/new-member-class-3/
LOCATION:Katie’s Quarters
END:VEVENT
BEGIN:VEVENT
DTSTART;TZID=UTC:20250407T183000
DTEND;TZID=UTC:20250407T200000
DTSTAMP:20260419T182448
CREATED:20241204T233634Z
LAST-MODIFIED:20241204T234546Z
UID:10003949-1744050600-1744056000@www.orovalley.org
SUMMARY:Book Discussion Group: "Simon Peter" by Adam Hamilton First
DESCRIPTION:Katie’s Quarters \n\n\n\nInterested in learning more about Simon Peter\, please join me as we walk through Adam Hamilton’s book\, “Simon Peter” together\, beginning in February\, 2025. We will meet on the first and third Mondays of February (2/3 and 2/17)\, March (3/3 and 3/17)\, and April (4/7 and 4/21) from 6:30 to 8:00 PM for this six-session study. If you are interested\, please contact Rob Hartmann (520-548-8564) or send me an email at rjhartmann70@msn.com
URL:https://www.orovalley.org/event/book-discussion-group-simon-peter-by-adam-hamilton-first/2025-04-07/
END:VEVENT
BEGIN:VEVENT
DTSTART;TZID=UTC:20250408T103000
DTEND;TZID=UTC:20250408T120000
DTSTAMP:20260419T182448
CREATED:20250303T193828Z
LAST-MODIFIED:20250303T193906Z
UID:10004755-1744108200-1744113600@www.orovalley.org
SUMMARY:Book Study: Gift of Being Yourself
DESCRIPTION:
URL:https://www.orovalley.org/event/book-study-gift-of-being-yourself/2025-04-08/
LOCATION:Katie’s Quarters
END:VEVENT
BEGIN:VEVENT
DTSTART;TZID=UTC:20250408T183000
DTEND;TZID=UTC:20250408T203000
DTSTAMP:20260419T182448
CREATED:20240910T191442Z
LAST-MODIFIED:20240910T191955Z
UID:10003773-1744137000-1744144200@www.orovalley.org
SUMMARY:Resurrection Card Players
DESCRIPTION:RLC Card Players meets every second and fourth Tuesday of the month. No reservation necessary. Please bring a snack to share and your own beverage. We play a variety of card games and we’re happy to teach you if you don’t know how to play. Everyone is welcome.
URL:https://www.orovalley.org/event/resurrection-card-players/2025-04-08/
LOCATION:Luther’s Lair
END:VEVENT
BEGIN:VEVENT
DTSTART;TZID=UTC:20250409T110000
DTEND;TZID=UTC:20250409T120000
DTSTAMP:20260419T182448
CREATED:20250407T172945Z
LAST-MODIFIED:20250407T172948Z
UID:10004772-1744196400-1744200000@www.orovalley.org
SUMMARY:PrimeTime Brunch
DESCRIPTION:Note earlier time for this month only. Please join us for a delightful brunch\, of homemade ham and turkey sliders\, macaroni salad\, baked beans and a delicious dessert! \n\n\n\nCome for brunch and stay for the 12:00 Noon Mid-Week Lent Service. \n\n\n\n$10.00 per person. Kindly Make your reservations here \n\n\n\nhttps://rsvp.church/r/ztKN2dJ9
URL:https://www.orovalley.org/event/primetime-brunch/
LOCATION:Oro Valley Outreach Center
END:VEVENT
BEGIN:VEVENT
DTSTART;TZID=UTC:20250409T120000
DTEND;TZID=UTC:20250409T130000
DTSTAMP:20260419T182448
CREATED:20250303T191917Z
LAST-MODIFIED:20250303T192022Z
UID:10004742-1744200000-1744203600@www.orovalley.org
SUMMARY:Mid-Week Lenten Worship Service
DESCRIPTION:
URL:https://www.orovalley.org/event/mid-week-lenten-worship-service/2025-04-09/
LOCATION:Oro Valley Sanctuary
END:VEVENT
BEGIN:VEVENT
DTSTART;TZID=UTC:20250409T150000
DTEND;TZID=UTC:20250409T160000
DTSTAMP:20260419T182448
CREATED:20250114T073956Z
LAST-MODIFIED:20250114T073958Z
UID:10004462-1744210800-1744214400@www.orovalley.org
SUMMARY:Scripture & Salsa
DESCRIPTION:You are invited to join Pastor Carol every Wednesday from 3:00 – 4:00 PM at Mi Tierra Mexican Restaurant in Catalina starting January 8th for an informal discussion of the Bible texts for the upcoming weekend’s worship. No registration is required and there is no long-term commitment. Just grab your Bible and drop by.
URL:https://www.orovalley.org/event/scripture-salsa/2025-04-09/
END:VEVENT
END:VCALENDAR