BEGIN:VCALENDAR
VERSION:2.0
PRODID:-//Resurrection Lutheran Church - ECPv6.15.20//NONSGML v1.0//EN
CALSCALE:GREGORIAN
METHOD:PUBLISH
X-ORIGINAL-URL:https://www.orovalley.org
X-WR-CALDESC:Events for Resurrection Lutheran Church
REFRESH-INTERVAL;VALUE=DURATION:PT1H
X-Robots-Tag:noindex
X-PUBLISHED-TTL:PT1H
BEGIN:VTIMEZONE
TZID:UTC
BEGIN:STANDARD
TZOFFSETFROM:+0000
TZOFFSETTO:+0000
TZNAME:UTC
DTSTART:20270101T000000
END:STANDARD
END:VTIMEZONE
BEGIN:VEVENT
DTSTART;TZID=UTC:20280930T170000
DTEND;TZID=UTC:20280930T180000
DTSTAMP:20260424T112217
CREATED:20240130T000623Z
LAST-MODIFIED:20240228T201059Z
UID:10002489-1853946000-1853949600@www.orovalley.org
SUMMARY:5:00 Worship
DESCRIPTION:Join us for worship!  \n\n\n\n\nWorship Online Here\n\n\n\nOnline Bulletins Here
URL:https://www.orovalley.org/event/500-worship-2/2028-09-30/
LOCATION:Oro Valley Sanctuary
CATEGORIES:Worship
ATTACH;FMTTYPE=image/jpeg:https://www.orovalley.org/wp-content/uploads/2023/08/CopyrightTaylorNoelPhotography2021-175-354e5a6-scaled.jpg
END:VEVENT
BEGIN:VEVENT
DTSTART;TZID=UTC:20281001T090000
DTEND;TZID=UTC:20281001T100000
DTSTAMP:20260424T112217
CREATED:20240106T184634Z
LAST-MODIFIED:20240228T200602Z
UID:10001871-1854003600-1854007200@www.orovalley.org
SUMMARY:Worship at SaddleBrooke
DESCRIPTION:Worship Online Here\n\n\n\nOnline Bulletin Here
URL:https://www.orovalley.org/event/worship-at-saddlebrooke/2028-10-01/
LOCATION:SaddleBrooke\, SaddleBrooke HOA2 Clubhouse\, Tucson\, Arizona\, 85739
CATEGORIES:Worship
ATTACH;FMTTYPE=image/jpeg:https://www.orovalley.org/wp-content/uploads/2023/08/sb-worship-pic_3.jpg
END:VEVENT
BEGIN:VEVENT
DTSTART;TZID=UTC:20281003T130000
DTEND;TZID=UTC:20281003T160000
DTSTAMP:20260424T112217
CREATED:20260210T184404Z
LAST-MODIFIED:20260210T202351Z
UID:10006953-1854190800-1854201600@www.orovalley.org
SUMMARY:Art by Heart Glass Classes
DESCRIPTION:Art by Heart Studio
URL:https://www.orovalley.org/event/art-by-heart-glass-classes/2028-10-03/
END:VEVENT
BEGIN:VEVENT
DTSTART;TZID=UTC:20281004T150000
DTEND;TZID=UTC:20281004T160000
DTSTAMP:20260424T112217
CREATED:20260415T170108Z
LAST-MODIFIED:20260415T170119Z
UID:10004644-1854284400-1854288000@www.orovalley.org
SUMMARY:Scripture & Salsa
DESCRIPTION:You are invited to join Pastor Carol every Wednesday from 3:00 – 4:00 PM at Mi Tierra Mexican Restaurant in Catalina starting January 8th for an informal discussion of the Bible texts for the upcoming weekend’s worship. No registration is required and there is no long-term commitment. Just grab your Bible and drop by.
URL:https://www.orovalley.org/event/scripture-salsa-3/2028-10-04/
END:VEVENT
BEGIN:VEVENT
DTSTART;TZID=UTC:20281005T130000
DTEND;TZID=UTC:20281005T160000
DTSTAMP:20260424T112217
CREATED:20241213T002356Z
LAST-MODIFIED:20241213T002359Z
UID:10004246-1854363600-1854374400@www.orovalley.org
SUMMARY:Matching Dragons Mah Jongg
DESCRIPTION:Do you play the game of (American) Mah Jongg and have been looking for a group to play with? Join us on Thursday afternoons 1:00-4:00 PM in Luther’s Lair in the Outreach Center. These are friendly games. We do NOT play for money but we ALWAYS have a good time. This group is for those who already know how to play the game. However\, anyone is invited to come observe to see if they would like to learn to play the game. Questions? Contact Jackie Verdick at jackieverdick@gmail.com or 612-554-0111.
URL:https://www.orovalley.org/event/matching-dragons-mah-jongg/2028-10-05/
END:VEVENT
BEGIN:VEVENT
DTSTART;TZID=UTC:20281005T130000
DTEND;TZID=UTC:20281005T160000
DTSTAMP:20260424T112217
CREATED:20251107T191455Z
LAST-MODIFIED:20251107T191616Z
UID:10005896-1854363600-1854374400@www.orovalley.org
SUMMARY:Art by Heart Open Studio
DESCRIPTION:
URL:https://www.orovalley.org/event/art-by-heart-open-studio/2028-10-05/
END:VEVENT
BEGIN:VEVENT
DTSTART;TZID=UTC:20281007T170000
DTEND;TZID=UTC:20281007T180000
DTSTAMP:20260424T112217
CREATED:20240130T000623Z
LAST-MODIFIED:20240228T201059Z
UID:10002490-1854550800-1854554400@www.orovalley.org
SUMMARY:5:00 Worship
DESCRIPTION:Join us for worship!  \n\n\n\n\nWorship Online Here\n\n\n\nOnline Bulletins Here
URL:https://www.orovalley.org/event/500-worship-2/2028-10-07/
LOCATION:Oro Valley Sanctuary
CATEGORIES:Worship
ATTACH;FMTTYPE=image/jpeg:https://www.orovalley.org/wp-content/uploads/2023/08/CopyrightTaylorNoelPhotography2021-175-354e5a6-scaled.jpg
END:VEVENT
BEGIN:VEVENT
DTSTART;TZID=UTC:20281008T090000
DTEND;TZID=UTC:20281008T100000
DTSTAMP:20260424T112217
CREATED:20240106T184634Z
LAST-MODIFIED:20240228T200602Z
UID:10001872-1854608400-1854612000@www.orovalley.org
SUMMARY:Worship at SaddleBrooke
DESCRIPTION:Worship Online Here\n\n\n\nOnline Bulletin Here
URL:https://www.orovalley.org/event/worship-at-saddlebrooke/2028-10-08/
LOCATION:SaddleBrooke\, SaddleBrooke HOA2 Clubhouse\, Tucson\, Arizona\, 85739
CATEGORIES:Worship
ATTACH;FMTTYPE=image/jpeg:https://www.orovalley.org/wp-content/uploads/2023/08/sb-worship-pic_3.jpg
END:VEVENT
BEGIN:VEVENT
DTSTART;TZID=UTC:20281010T130000
DTEND;TZID=UTC:20281010T160000
DTSTAMP:20260424T112217
CREATED:20260210T184404Z
LAST-MODIFIED:20260210T202351Z
UID:10006954-1854795600-1854806400@www.orovalley.org
SUMMARY:Art by Heart Glass Classes
DESCRIPTION:Art by Heart Studio
URL:https://www.orovalley.org/event/art-by-heart-glass-classes/2028-10-10/
END:VEVENT
BEGIN:VEVENT
DTSTART;TZID=UTC:20281010T183000
DTEND;TZID=UTC:20281010T203000
DTSTAMP:20260424T112217
CREATED:20251111T170454Z
LAST-MODIFIED:20251111T170509Z
UID:10003815-1854815400-1854822600@www.orovalley.org
SUMMARY:Resurrection Card Players
DESCRIPTION:RLC Card Players meets every second and fourth Tuesday of the month in the Music Room. No reservation necessary. Please bring a snack to share and your own beverage. We play a variety of card games and we’re happy to teach you if you don’t know how to play. Everyone is welcome.
URL:https://www.orovalley.org/event/resurrection-card-players-5/2028-10-10/
END:VEVENT
BEGIN:VEVENT
DTSTART;TZID=UTC:20281011T150000
DTEND;TZID=UTC:20281011T160000
DTSTAMP:20260424T112217
CREATED:20260415T170108Z
LAST-MODIFIED:20260415T170119Z
UID:10004645-1854889200-1854892800@www.orovalley.org
SUMMARY:Scripture & Salsa
DESCRIPTION:You are invited to join Pastor Carol every Wednesday from 3:00 – 4:00 PM at Mi Tierra Mexican Restaurant in Catalina starting January 8th for an informal discussion of the Bible texts for the upcoming weekend’s worship. No registration is required and there is no long-term commitment. Just grab your Bible and drop by.
URL:https://www.orovalley.org/event/scripture-salsa-3/2028-10-11/
END:VEVENT
BEGIN:VEVENT
DTSTART;TZID=UTC:20281012T130000
DTEND;TZID=UTC:20281012T160000
DTSTAMP:20260424T112217
CREATED:20241213T002356Z
LAST-MODIFIED:20241213T002359Z
UID:10004247-1854968400-1854979200@www.orovalley.org
SUMMARY:Matching Dragons Mah Jongg
DESCRIPTION:Do you play the game of (American) Mah Jongg and have been looking for a group to play with? Join us on Thursday afternoons 1:00-4:00 PM in Luther’s Lair in the Outreach Center. These are friendly games. We do NOT play for money but we ALWAYS have a good time. This group is for those who already know how to play the game. However\, anyone is invited to come observe to see if they would like to learn to play the game. Questions? Contact Jackie Verdick at jackieverdick@gmail.com or 612-554-0111.
URL:https://www.orovalley.org/event/matching-dragons-mah-jongg/2028-10-12/
END:VEVENT
BEGIN:VEVENT
DTSTART;TZID=UTC:20281012T130000
DTEND;TZID=UTC:20281012T160000
DTSTAMP:20260424T112217
CREATED:20251107T191455Z
LAST-MODIFIED:20251107T191616Z
UID:10005897-1854968400-1854979200@www.orovalley.org
SUMMARY:Art by Heart Open Studio
DESCRIPTION:
URL:https://www.orovalley.org/event/art-by-heart-open-studio/2028-10-12/
END:VEVENT
BEGIN:VEVENT
DTSTART;TZID=UTC:20281014T080000
DTEND;TZID=UTC:20281014T100000
DTSTAMP:20260424T112217
CREATED:20260409T172217Z
LAST-MODIFIED:20260409T172226Z
UID:10008311-1855123200-1855130400@www.orovalley.org
SUMMARY:Men's Bible Study
DESCRIPTION:Uses the Serendipity Bible\, copies are available. All men of the church are welcome to attend. Meets in Luther’s Lair.
URL:https://www.orovalley.org/event/mens-bible-study-13/2028-10-14/
END:VEVENT
BEGIN:VEVENT
DTSTART;TZID=UTC:20281014T170000
DTEND;TZID=UTC:20281014T180000
DTSTAMP:20260424T112217
CREATED:20240130T000623Z
LAST-MODIFIED:20240228T201059Z
UID:10002491-1855155600-1855159200@www.orovalley.org
SUMMARY:5:00 Worship
DESCRIPTION:Join us for worship!  \n\n\n\n\nWorship Online Here\n\n\n\nOnline Bulletins Here
URL:https://www.orovalley.org/event/500-worship-2/2028-10-14/
LOCATION:Oro Valley Sanctuary
CATEGORIES:Worship
ATTACH;FMTTYPE=image/jpeg:https://www.orovalley.org/wp-content/uploads/2023/08/CopyrightTaylorNoelPhotography2021-175-354e5a6-scaled.jpg
END:VEVENT
BEGIN:VEVENT
DTSTART;TZID=UTC:20281015T090000
DTEND;TZID=UTC:20281015T100000
DTSTAMP:20260424T112217
CREATED:20240106T184634Z
LAST-MODIFIED:20240228T200602Z
UID:10001873-1855213200-1855216800@www.orovalley.org
SUMMARY:Worship at SaddleBrooke
DESCRIPTION:Worship Online Here\n\n\n\nOnline Bulletin Here
URL:https://www.orovalley.org/event/worship-at-saddlebrooke/2028-10-15/
LOCATION:SaddleBrooke\, SaddleBrooke HOA2 Clubhouse\, Tucson\, Arizona\, 85739
CATEGORIES:Worship
ATTACH;FMTTYPE=image/jpeg:https://www.orovalley.org/wp-content/uploads/2023/08/sb-worship-pic_3.jpg
END:VEVENT
BEGIN:VEVENT
DTSTART;TZID=UTC:20281017T130000
DTEND;TZID=UTC:20281017T160000
DTSTAMP:20260424T112217
CREATED:20260210T184404Z
LAST-MODIFIED:20260210T202351Z
UID:10006955-1855400400-1855411200@www.orovalley.org
SUMMARY:Art by Heart Glass Classes
DESCRIPTION:Art by Heart Studio
URL:https://www.orovalley.org/event/art-by-heart-glass-classes/2028-10-17/
END:VEVENT
BEGIN:VEVENT
DTSTART;TZID=UTC:20281018T103000
DTEND;TZID=UTC:20281018T120000
DTSTAMP:20260424T112217
CREATED:20240617T222009Z
LAST-MODIFIED:20240617T222059Z
UID:10003580-1855477800-1855483200@www.orovalley.org
SUMMARY:Parkinson's Support Group
DESCRIPTION:This support group provides encouragement from meeting with others who have Parkinson’s disease\, and for the care givers of those with Parkinson’s. The meetings provide an opportunity to discuss experiences and feelings and to share solutions to common problems.  Meets every 3rd Wednesday of the month in the High School Youth Room.
URL:https://www.orovalley.org/event/parkinsons-support-group-3/2028-10-18/
LOCATION:Youth Room
CATEGORIES:Congregational Care,Serve
ATTACH;FMTTYPE=image/jpeg:https://www.orovalley.org/wp-content/uploads/2024/06/Graphics-3.jpg
END:VEVENT
BEGIN:VEVENT
DTSTART;TZID=UTC:20281018T150000
DTEND;TZID=UTC:20281018T160000
DTSTAMP:20260424T112217
CREATED:20260415T170108Z
LAST-MODIFIED:20260415T170119Z
UID:10004646-1855494000-1855497600@www.orovalley.org
SUMMARY:Scripture & Salsa
DESCRIPTION:You are invited to join Pastor Carol every Wednesday from 3:00 – 4:00 PM at Mi Tierra Mexican Restaurant in Catalina starting January 8th for an informal discussion of the Bible texts for the upcoming weekend’s worship. No registration is required and there is no long-term commitment. Just grab your Bible and drop by.
URL:https://www.orovalley.org/event/scripture-salsa-3/2028-10-18/
END:VEVENT
BEGIN:VEVENT
DTSTART;TZID=UTC:20281019T130000
DTEND;TZID=UTC:20281019T160000
DTSTAMP:20260424T112217
CREATED:20241213T002356Z
LAST-MODIFIED:20241213T002359Z
UID:10004248-1855573200-1855584000@www.orovalley.org
SUMMARY:Matching Dragons Mah Jongg
DESCRIPTION:Do you play the game of (American) Mah Jongg and have been looking for a group to play with? Join us on Thursday afternoons 1:00-4:00 PM in Luther’s Lair in the Outreach Center. These are friendly games. We do NOT play for money but we ALWAYS have a good time. This group is for those who already know how to play the game. However\, anyone is invited to come observe to see if they would like to learn to play the game. Questions? Contact Jackie Verdick at jackieverdick@gmail.com or 612-554-0111.
URL:https://www.orovalley.org/event/matching-dragons-mah-jongg/2028-10-19/
END:VEVENT
BEGIN:VEVENT
DTSTART;TZID=UTC:20281019T130000
DTEND;TZID=UTC:20281019T160000
DTSTAMP:20260424T112217
CREATED:20251107T191455Z
LAST-MODIFIED:20251107T191616Z
UID:10005898-1855573200-1855584000@www.orovalley.org
SUMMARY:Art by Heart Open Studio
DESCRIPTION:
URL:https://www.orovalley.org/event/art-by-heart-open-studio/2028-10-19/
END:VEVENT
BEGIN:VEVENT
DTSTART;TZID=UTC:20281021T090000
DTEND;TZID=UTC:20281021T110000
DTSTAMP:20260424T112217
CREATED:20260210T201725Z
LAST-MODIFIED:20260210T201733Z
UID:10005288-1855731600-1855738800@www.orovalley.org
SUMMARY:Faithful Living Fellowship
DESCRIPTION:Oro Valley \n\n\n\nWe meet for coffee\, snacks and fellowship\, followed by a film and small discussion groups. We will study the book “Embracing Trust” by Joanna Weaver. Sign up on the website under the Learn section.
URL:https://www.orovalley.org/event/faithful-living-fellowship-3/2028-10-21/
END:VEVENT
BEGIN:VEVENT
DTSTART;TZID=UTC:20281021T170000
DTEND;TZID=UTC:20281021T180000
DTSTAMP:20260424T112217
CREATED:20240130T000623Z
LAST-MODIFIED:20240228T201059Z
UID:10002492-1855760400-1855764000@www.orovalley.org
SUMMARY:5:00 Worship
DESCRIPTION:Join us for worship!  \n\n\n\n\nWorship Online Here\n\n\n\nOnline Bulletins Here
URL:https://www.orovalley.org/event/500-worship-2/2028-10-21/
LOCATION:Oro Valley Sanctuary
CATEGORIES:Worship
ATTACH;FMTTYPE=image/jpeg:https://www.orovalley.org/wp-content/uploads/2023/08/CopyrightTaylorNoelPhotography2021-175-354e5a6-scaled.jpg
END:VEVENT
BEGIN:VEVENT
DTSTART;TZID=UTC:20281022T090000
DTEND;TZID=UTC:20281022T100000
DTSTAMP:20260424T112217
CREATED:20240106T184634Z
LAST-MODIFIED:20240228T200602Z
UID:10001874-1855818000-1855821600@www.orovalley.org
SUMMARY:Worship at SaddleBrooke
DESCRIPTION:Worship Online Here\n\n\n\nOnline Bulletin Here
URL:https://www.orovalley.org/event/worship-at-saddlebrooke/2028-10-22/
LOCATION:SaddleBrooke\, SaddleBrooke HOA2 Clubhouse\, Tucson\, Arizona\, 85739
CATEGORIES:Worship
ATTACH;FMTTYPE=image/jpeg:https://www.orovalley.org/wp-content/uploads/2023/08/sb-worship-pic_3.jpg
END:VEVENT
BEGIN:VEVENT
DTSTART;TZID=UTC:20281024T130000
DTEND;TZID=UTC:20281024T160000
DTSTAMP:20260424T112217
CREATED:20260210T184404Z
LAST-MODIFIED:20260210T202351Z
UID:10006956-1856005200-1856016000@www.orovalley.org
SUMMARY:Art by Heart Glass Classes
DESCRIPTION:Art by Heart Studio
URL:https://www.orovalley.org/event/art-by-heart-glass-classes/2028-10-24/
END:VEVENT
BEGIN:VEVENT
DTSTART;TZID=UTC:20281024T183000
DTEND;TZID=UTC:20281024T203000
DTSTAMP:20260424T112217
CREATED:20240910T192133Z
LAST-MODIFIED:20240910T192135Z
UID:10003875-1856025000-1856032200@www.orovalley.org
SUMMARY:Resurrection Card Players
DESCRIPTION:RLC Card Players meets every second and fourth Tuesday of the month. No reservation necessary. Please bring a snack to share and your own beverage. We play a variety of card games and we’re happy to teach you if you don’t know how to play. Everyone is welcome.
URL:https://www.orovalley.org/event/resurrection-card-players-2/2028-10-24/
LOCATION:Luther’s Lair
END:VEVENT
BEGIN:VEVENT
DTSTART;TZID=UTC:20281025T150000
DTEND;TZID=UTC:20281025T160000
DTSTAMP:20260424T112217
CREATED:20260415T170108Z
LAST-MODIFIED:20260415T170119Z
UID:10004647-1856098800-1856102400@www.orovalley.org
SUMMARY:Scripture & Salsa
DESCRIPTION:You are invited to join Pastor Carol every Wednesday from 3:00 – 4:00 PM at Mi Tierra Mexican Restaurant in Catalina starting January 8th for an informal discussion of the Bible texts for the upcoming weekend’s worship. No registration is required and there is no long-term commitment. Just grab your Bible and drop by.
URL:https://www.orovalley.org/event/scripture-salsa-3/2028-10-25/
END:VEVENT
BEGIN:VEVENT
DTSTART;TZID=UTC:20281026T130000
DTEND;TZID=UTC:20281026T160000
DTSTAMP:20260424T112217
CREATED:20241213T002356Z
LAST-MODIFIED:20241213T002359Z
UID:10004249-1856178000-1856188800@www.orovalley.org
SUMMARY:Matching Dragons Mah Jongg
DESCRIPTION:Do you play the game of (American) Mah Jongg and have been looking for a group to play with? Join us on Thursday afternoons 1:00-4:00 PM in Luther’s Lair in the Outreach Center. These are friendly games. We do NOT play for money but we ALWAYS have a good time. This group is for those who already know how to play the game. However\, anyone is invited to come observe to see if they would like to learn to play the game. Questions? Contact Jackie Verdick at jackieverdick@gmail.com or 612-554-0111.
URL:https://www.orovalley.org/event/matching-dragons-mah-jongg/2028-10-26/
END:VEVENT
BEGIN:VEVENT
DTSTART;TZID=UTC:20281026T130000
DTEND;TZID=UTC:20281026T160000
DTSTAMP:20260424T112217
CREATED:20251107T191455Z
LAST-MODIFIED:20251107T191616Z
UID:10005899-1856178000-1856188800@www.orovalley.org
SUMMARY:Art by Heart Open Studio
DESCRIPTION:
URL:https://www.orovalley.org/event/art-by-heart-open-studio/2028-10-26/
END:VEVENT
BEGIN:VEVENT
DTSTART;TZID=UTC:20281028T170000
DTEND;TZID=UTC:20281028T180000
DTSTAMP:20260424T112217
CREATED:20240130T000623Z
LAST-MODIFIED:20240228T201059Z
UID:10002493-1856365200-1856368800@www.orovalley.org
SUMMARY:5:00 Worship
DESCRIPTION:Join us for worship!  \n\n\n\n\nWorship Online Here\n\n\n\nOnline Bulletins Here
URL:https://www.orovalley.org/event/500-worship-2/2028-10-28/
LOCATION:Oro Valley Sanctuary
CATEGORIES:Worship
ATTACH;FMTTYPE=image/jpeg:https://www.orovalley.org/wp-content/uploads/2023/08/CopyrightTaylorNoelPhotography2021-175-354e5a6-scaled.jpg
END:VEVENT
END:VCALENDAR