BEGIN:VCALENDAR
VERSION:2.0
PRODID:-//Resurrection Lutheran Church - ECPv6.15.20//NONSGML v1.0//EN
CALSCALE:GREGORIAN
METHOD:PUBLISH
X-WR-CALNAME:Resurrection Lutheran Church
X-ORIGINAL-URL:https://www.orovalley.org
X-WR-CALDESC:Events for Resurrection Lutheran Church
REFRESH-INTERVAL;VALUE=DURATION:PT1H
X-Robots-Tag:noindex
X-PUBLISHED-TTL:PT1H
BEGIN:VTIMEZONE
TZID:UTC
BEGIN:STANDARD
TZOFFSETFROM:+0000
TZOFFSETTO:+0000
TZNAME:UTC
DTSTART:20240101T000000
END:STANDARD
END:VTIMEZONE
BEGIN:VEVENT
DTSTART;TZID=UTC:20251224T170000
DTEND;TZID=UTC:20251224T180000
DTSTAMP:20260422T225655
CREATED:20251204T202823Z
LAST-MODIFIED:20251204T202830Z
UID:10006028-1766595600-1766599200@www.orovalley.org
SUMMARY:Christmas Eve Worship Services
DESCRIPTION:
URL:https://www.orovalley.org/event/christmas-eve-worship-services/2025-12-24/3/
END:VEVENT
BEGIN:VEVENT
DTSTART;TZID=UTC:20251224T190000
DTEND;TZID=UTC:20251224T200000
DTSTAMP:20260422T225655
CREATED:20251204T202823Z
LAST-MODIFIED:20251204T202830Z
UID:10006029-1766602800-1766606400@www.orovalley.org
SUMMARY:Christmas Eve Worship Services
DESCRIPTION:
URL:https://www.orovalley.org/event/christmas-eve-worship-services/2025-12-24/4/
END:VEVENT
BEGIN:VEVENT
DTSTART;TZID=UTC:20251224T210000
DTEND;TZID=UTC:20251224T220000
DTSTAMP:20260422T225655
CREATED:20251204T202823Z
LAST-MODIFIED:20251204T202830Z
UID:10006030-1766610000-1766613600@www.orovalley.org
SUMMARY:Christmas Eve Worship Services
DESCRIPTION:
URL:https://www.orovalley.org/event/christmas-eve-worship-services/2025-12-24/5/
END:VEVENT
BEGIN:VEVENT
DTSTART;TZID=UTC:20251225T080000
DTEND;TZID=UTC:20251226T170000
DTSTAMP:20260422T225655
CREATED:20251204T210753Z
LAST-MODIFIED:20251204T210756Z
UID:10006046-1766649600-1766768400@www.orovalley.org
SUMMARY:Offices Closed
DESCRIPTION:
URL:https://www.orovalley.org/event/offices-closed-2/2025-12-25/
END:VEVENT
BEGIN:VEVENT
DTSTART;TZID=UTC:20251225T130000
DTEND;TZID=UTC:20251225T160000
DTSTAMP:20260422T225655
CREATED:20241213T002356Z
LAST-MODIFIED:20241213T002359Z
UID:10004101-1766667600-1766678400@www.orovalley.org
SUMMARY:Matching Dragons Mah Jongg
DESCRIPTION:Do you play the game of (American) Mah Jongg and have been looking for a group to play with? Join us on Thursday afternoons 1:00-4:00 PM in Luther’s Lair in the Outreach Center. These are friendly games. We do NOT play for money but we ALWAYS have a good time. This group is for those who already know how to play the game. However\, anyone is invited to come observe to see if they would like to learn to play the game. Questions? Contact Jackie Verdick at jackieverdick@gmail.com or 612-554-0111.
URL:https://www.orovalley.org/event/matching-dragons-mah-jongg/2025-12-25/
END:VEVENT
BEGIN:VEVENT
DTSTART;TZID=UTC:20251225T130000
DTEND;TZID=UTC:20251225T160000
DTSTAMP:20260422T225655
CREATED:20251107T191455Z
LAST-MODIFIED:20251107T191616Z
UID:10005751-1766667600-1766678400@www.orovalley.org
SUMMARY:Art by Heart Open Studio
DESCRIPTION:
URL:https://www.orovalley.org/event/art-by-heart-open-studio/2025-12-25/
END:VEVENT
BEGIN:VEVENT
DTSTART;TZID=UTC:20251227T170000
DTEND;TZID=UTC:20251227T180000
DTSTAMP:20260422T225655
CREATED:20240130T000623Z
LAST-MODIFIED:20240228T201059Z
UID:10002345-1766854800-1766858400@www.orovalley.org
SUMMARY:5:00 Worship
DESCRIPTION:Join us for worship!  \n\n\n\n\nWorship Online Here\n\n\n\nOnline Bulletins Here
URL:https://www.orovalley.org/event/500-worship-2/2025-12-27/
LOCATION:Oro Valley Sanctuary
CATEGORIES:Worship
ATTACH;FMTTYPE=image/jpeg:https://www.orovalley.org/wp-content/uploads/2023/08/CopyrightTaylorNoelPhotography2021-175-354e5a6-scaled.jpg
END:VEVENT
BEGIN:VEVENT
DTSTART;TZID=UTC:20251227T170000
DTEND;TZID=UTC:20251227T180000
DTSTAMP:20260422T225655
CREATED:20251204T204303Z
LAST-MODIFIED:20251204T204308Z
UID:10006034-1766854800-1766858400@www.orovalley.org
SUMMARY:Lessons & Carols Service
DESCRIPTION:
URL:https://www.orovalley.org/event/lessons-carols-service/
END:VEVENT
BEGIN:VEVENT
DTSTART;TZID=UTC:20251228T074500
DTEND;TZID=UTC:20251228T084500
DTSTAMP:20260422T225655
CREATED:20250605T233406Z
LAST-MODIFIED:20250605T233413Z
UID:10000109-1766907900-1766911500@www.orovalley.org
SUMMARY:7:45 Worship
DESCRIPTION:Traditional Worship. Music provided by Resurrection’s Chancel Choir \n\n\n\n\nWorship Online Here\n\n\n\n\n \n\n\n\n\nOnline Bulletins Here
URL:https://www.orovalley.org/event/745-worship-9/2025-12-28/
LOCATION:Oro Valley Sanctuary
CATEGORIES:Worship
ATTACH;FMTTYPE=image/jpeg:https://www.orovalley.org/wp-content/uploads/2023/12/CopyrightTaylorNoelPhotography2021-158-scaled.jpg
END:VEVENT
BEGIN:VEVENT
DTSTART;TZID=UTC:20251228T090000
DTEND;TZID=UTC:20251228T100000
DTSTAMP:20260422T225655
CREATED:20240106T184634Z
LAST-MODIFIED:20240228T200602Z
UID:10001727-1766912400-1766916000@www.orovalley.org
SUMMARY:Worship at SaddleBrooke
DESCRIPTION:Worship Online Here\n\n\n\nOnline Bulletin Here
URL:https://www.orovalley.org/event/worship-at-saddlebrooke/2025-12-28/
LOCATION:SaddleBrooke\, SaddleBrooke HOA2 Clubhouse\, Tucson\, Arizona\, 85739
CATEGORIES:Worship
ATTACH;FMTTYPE=image/jpeg:https://www.orovalley.org/wp-content/uploads/2023/08/sb-worship-pic_3.jpg
END:VEVENT
BEGIN:VEVENT
DTSTART;TZID=UTC:20251228T090000
DTEND;TZID=UTC:20251228T100000
DTSTAMP:20260422T225655
CREATED:20251209T181250Z
LAST-MODIFIED:20251209T181443Z
UID:10006056-1766912400-1766916000@www.orovalley.org
SUMMARY:Lessons & Carols Service - Saddlebrooke
DESCRIPTION:
URL:https://www.orovalley.org/event/lessons-carols-saddlebrooke/
END:VEVENT
BEGIN:VEVENT
DTSTART;TZID=UTC:20251228T091500
DTEND;TZID=UTC:20251228T101500
DTSTAMP:20260422T225655
CREATED:20250610T165422Z
LAST-MODIFIED:20250610T165427Z
UID:10005104-1766913300-1766916900@www.orovalley.org
SUMMARY:09:15 Worship - Contemporary
DESCRIPTION:Sunday School\, Confirmation\, High School Sunday School \n\n\n\nChildcare Available \n\n\n\n\nWorship Online Here
URL:https://www.orovalley.org/event/0915-worship-contemporary/2025-12-28/
LOCATION:Oro Valley Sanctuary
CATEGORIES:Worship
ATTACH;FMTTYPE=image/jpeg:https://www.orovalley.org/wp-content/uploads/2023/11/CopyrightTaylorNoelPhotography2021-200-scaled.jpg
END:VEVENT
BEGIN:VEVENT
DTSTART;TZID=UTC:20251228T091500
DTEND;TZID=UTC:20251228T101500
DTSTAMP:20260422T225655
CREATED:20251209T173544Z
LAST-MODIFIED:20251209T173549Z
UID:10006054-1766913300-1766916900@www.orovalley.org
SUMMARY:Lessons & Carols Service - Oro Valley
DESCRIPTION:
URL:https://www.orovalley.org/event/lessons-carols-service-oro-valley/
END:VEVENT
BEGIN:VEVENT
DTSTART;TZID=UTC:20251228T104500
DTEND;TZID=UTC:20251228T114500
DTSTAMP:20260422T225655
CREATED:20250610T165108Z
LAST-MODIFIED:20250610T165111Z
UID:10005016-1766918700-1766922300@www.orovalley.org
SUMMARY:10:45 Worship - Contemporary
DESCRIPTION:Sunday School\, Confirmation\, High School Sunday School \n\n\n\nChildcare Available \n\n\n\n\nWorship Online Here
URL:https://www.orovalley.org/event/1045-worship-contemporary-7/2025-12-28/
LOCATION:Oro Valley Sanctuary
CATEGORIES:Worship
ATTACH;FMTTYPE=image/jpeg:https://www.orovalley.org/wp-content/uploads/2023/11/CopyrightTaylorNoelPhotography2021-200-scaled.jpg
END:VEVENT
BEGIN:VEVENT
DTSTART;TZID=UTC:20251229T080000
DTEND;TZID=UTC:20251229T170000
DTSTAMP:20260422T225655
CREATED:20251204T210753Z
LAST-MODIFIED:20251204T210756Z
UID:10006047-1766995200-1767027600@www.orovalley.org
SUMMARY:Offices Closed
DESCRIPTION:
URL:https://www.orovalley.org/event/offices-closed-2/2025-12-29/
END:VEVENT
BEGIN:VEVENT
DTSTART;TZID=UTC:20251230T131500
DTEND;TZID=UTC:20251230T141500
DTSTAMP:20260422T225655
CREATED:20251204T212049Z
LAST-MODIFIED:20251204T212101Z
UID:10006052-1767100500-1767104100@www.orovalley.org
SUMMARY:Primavera Dinner Prep
DESCRIPTION:
URL:https://www.orovalley.org/event/primavera-dinner-prep/
END:VEVENT
BEGIN:VEVENT
DTSTART;TZID=UTC:20251231T120000
DTEND;TZID=UTC:20251231T170000
DTSTAMP:20260422T225655
CREATED:20251204T210753Z
LAST-MODIFIED:20251204T210756Z
UID:10006048-1767182400-1767200400@www.orovalley.org
SUMMARY:Offices Closed
DESCRIPTION:
URL:https://www.orovalley.org/event/offices-closed-2/2025-12-31/
END:VEVENT
BEGIN:VEVENT
DTSTART;TZID=UTC:20251231T150000
DTEND;TZID=UTC:20251231T160000
DTSTAMP:20260422T225655
CREATED:20250701T214646Z
LAST-MODIFIED:20250701T214652Z
UID:10004500-1767193200-1767196800@www.orovalley.org
SUMMARY:Scripture & Salsa
DESCRIPTION:You are invited to join Pastor Carol every Wednesday from 3:00 – 4:00 PM at Mi Tierra Mexican Restaurant in Catalina starting January 8th for an informal discussion of the Bible texts for the upcoming weekend’s worship. No registration is required and there is no long-term commitment. Just grab your Bible and drop by.
URL:https://www.orovalley.org/event/scripture-salsa-2/2025-12-31/
END:VEVENT
BEGIN:VEVENT
DTSTART;TZID=UTC:20260101T080000
DTEND;TZID=UTC:20260101T170000
DTSTAMP:20260422T225655
CREATED:20251204T210753Z
LAST-MODIFIED:20251204T210756Z
UID:10006049-1767254400-1767286800@www.orovalley.org
SUMMARY:Offices Closed
DESCRIPTION:
URL:https://www.orovalley.org/event/offices-closed-2/2026-01-01/
END:VEVENT
BEGIN:VEVENT
DTSTART;TZID=UTC:20260101T130000
DTEND;TZID=UTC:20260101T160000
DTSTAMP:20260422T225655
CREATED:20241213T002356Z
LAST-MODIFIED:20241213T002359Z
UID:10004102-1767272400-1767283200@www.orovalley.org
SUMMARY:Matching Dragons Mah Jongg
DESCRIPTION:Do you play the game of (American) Mah Jongg and have been looking for a group to play with? Join us on Thursday afternoons 1:00-4:00 PM in Luther’s Lair in the Outreach Center. These are friendly games. We do NOT play for money but we ALWAYS have a good time. This group is for those who already know how to play the game. However\, anyone is invited to come observe to see if they would like to learn to play the game. Questions? Contact Jackie Verdick at jackieverdick@gmail.com or 612-554-0111.
URL:https://www.orovalley.org/event/matching-dragons-mah-jongg/2026-01-01/
END:VEVENT
BEGIN:VEVENT
DTSTART;TZID=UTC:20260101T130000
DTEND;TZID=UTC:20260101T160000
DTSTAMP:20260422T225655
CREATED:20251107T191455Z
LAST-MODIFIED:20251107T191616Z
UID:10005752-1767272400-1767283200@www.orovalley.org
SUMMARY:Art by Heart Open Studio
DESCRIPTION:
URL:https://www.orovalley.org/event/art-by-heart-open-studio/2026-01-01/
END:VEVENT
BEGIN:VEVENT
DTSTART;TZID=UTC:20260103T080000
DTEND;TZID=UTC:20260103T090000
DTSTAMP:20260422T225655
CREATED:20240808T201836Z
LAST-MODIFIED:20260210T201221Z
UID:10004327-1767427200-1767430800@www.orovalley.org
SUMMARY:Men's Bible Study
DESCRIPTION:Uses the Serendipity Bible\, copies are available. All men of the church are welcome to attend. Meets in Luther’s Lair.
URL:https://www.orovalley.org/event/mens-bible-study/2026-01-03/
END:VEVENT
BEGIN:VEVENT
DTSTART;TZID=UTC:20260103T170000
DTEND;TZID=UTC:20260103T180000
DTSTAMP:20260422T225655
CREATED:20240130T000623Z
LAST-MODIFIED:20240228T201059Z
UID:10002346-1767459600-1767463200@www.orovalley.org
SUMMARY:5:00 Worship
DESCRIPTION:Join us for worship!  \n\n\n\n\nWorship Online Here\n\n\n\nOnline Bulletins Here
URL:https://www.orovalley.org/event/500-worship-2/2026-01-03/
LOCATION:Oro Valley Sanctuary
CATEGORIES:Worship
ATTACH;FMTTYPE=image/jpeg:https://www.orovalley.org/wp-content/uploads/2023/08/CopyrightTaylorNoelPhotography2021-175-354e5a6-scaled.jpg
END:VEVENT
BEGIN:VEVENT
DTSTART;TZID=UTC:20260104T074500
DTEND;TZID=UTC:20260104T084500
DTSTAMP:20260422T225655
CREATED:20250605T233406Z
LAST-MODIFIED:20250605T233413Z
UID:10000110-1767512700-1767516300@www.orovalley.org
SUMMARY:7:45 Worship
DESCRIPTION:Traditional Worship. Music provided by Resurrection’s Chancel Choir \n\n\n\n\nWorship Online Here\n\n\n\n\n \n\n\n\n\nOnline Bulletins Here
URL:https://www.orovalley.org/event/745-worship-9/2026-01-04/
LOCATION:Oro Valley Sanctuary
CATEGORIES:Worship
ATTACH;FMTTYPE=image/jpeg:https://www.orovalley.org/wp-content/uploads/2023/12/CopyrightTaylorNoelPhotography2021-158-scaled.jpg
END:VEVENT
BEGIN:VEVENT
DTSTART;TZID=UTC:20260104T090000
DTEND;TZID=UTC:20260104T100000
DTSTAMP:20260422T225655
CREATED:20240106T184634Z
LAST-MODIFIED:20240228T200602Z
UID:10001728-1767517200-1767520800@www.orovalley.org
SUMMARY:Worship at SaddleBrooke
DESCRIPTION:Worship Online Here\n\n\n\nOnline Bulletin Here
URL:https://www.orovalley.org/event/worship-at-saddlebrooke/2026-01-04/
LOCATION:SaddleBrooke\, SaddleBrooke HOA2 Clubhouse\, Tucson\, Arizona\, 85739
CATEGORIES:Worship
ATTACH;FMTTYPE=image/jpeg:https://www.orovalley.org/wp-content/uploads/2023/08/sb-worship-pic_3.jpg
END:VEVENT
BEGIN:VEVENT
DTSTART;TZID=UTC:20260104T091500
DTEND;TZID=UTC:20260104T101500
DTSTAMP:20260422T225655
CREATED:20250610T165422Z
LAST-MODIFIED:20250610T165427Z
UID:10005105-1767518100-1767521700@www.orovalley.org
SUMMARY:09:15 Worship - Contemporary
DESCRIPTION:Sunday School\, Confirmation\, High School Sunday School \n\n\n\nChildcare Available \n\n\n\n\nWorship Online Here
URL:https://www.orovalley.org/event/0915-worship-contemporary/2026-01-04/
LOCATION:Oro Valley Sanctuary
CATEGORIES:Worship
ATTACH;FMTTYPE=image/jpeg:https://www.orovalley.org/wp-content/uploads/2023/11/CopyrightTaylorNoelPhotography2021-200-scaled.jpg
END:VEVENT
BEGIN:VEVENT
DTSTART;TZID=UTC:20260104T104500
DTEND;TZID=UTC:20260104T114500
DTSTAMP:20260422T225655
CREATED:20250610T165108Z
LAST-MODIFIED:20250610T165111Z
UID:10005017-1767523500-1767527100@www.orovalley.org
SUMMARY:10:45 Worship - Contemporary
DESCRIPTION:Sunday School\, Confirmation\, High School Sunday School \n\n\n\nChildcare Available \n\n\n\n\nWorship Online Here
URL:https://www.orovalley.org/event/1045-worship-contemporary-7/2026-01-04/
LOCATION:Oro Valley Sanctuary
CATEGORIES:Worship
ATTACH;FMTTYPE=image/jpeg:https://www.orovalley.org/wp-content/uploads/2023/11/CopyrightTaylorNoelPhotography2021-200-scaled.jpg
END:VEVENT
BEGIN:VEVENT
DTSTART;TZID=UTC:20260106T080000
DTEND;TZID=UTC:20260106T170000
DTSTAMP:20260422T225655
CREATED:20251008T010640Z
LAST-MODIFIED:20251008T010645Z
UID:10005232-1767686400-1767718800@www.orovalley.org
SUMMARY:Winter Book Discussion
DESCRIPTION:Oro Valley Sanctuary \n\n\n\nJoin us as we discuss Romans 8 through the eyes of N.T. Wright. We will use the book “Into the Heart of Romans.” Books available in the church office.
URL:https://www.orovalley.org/event/winter-book-discussion/2026-01-06/
END:VEVENT
BEGIN:VEVENT
DTSTART;TZID=UTC:20260106T100000
DTEND;TZID=UTC:20260106T113000
DTSTAMP:20260422T225655
CREATED:20251107T191217Z
LAST-MODIFIED:20251107T191224Z
UID:10005736-1767693600-1767699000@www.orovalley.org
SUMMARY:Into the Heart of Romans Book Study
DESCRIPTION:The study will be held in the Sanctuary.
URL:https://www.orovalley.org/event/into-the-heart-of-romans-book-study/2026-01-06/
END:VEVENT
BEGIN:VEVENT
DTSTART;TZID=UTC:20260107T100000
DTEND;TZID=UTC:20260107T113000
DTSTAMP:20260422T225655
CREATED:20250829T192957Z
LAST-MODIFIED:20260106T163516Z
UID:10006067-1767780000-1767785400@www.orovalley.org
SUMMARY:Thriving in the Third Thirty Seminar Series
DESCRIPTION:Oro Valley Sanctuary \n\n\n\nMore information coming.
URL:https://www.orovalley.org/event/thriving-in-the-third-thirty-seminar-series/2026-01-07/
END:VEVENT
END:VCALENDAR