BEGIN:VCALENDAR
VERSION:2.0
PRODID:-//Resurrection Lutheran Church - ECPv6.15.20//NONSGML v1.0//EN
CALSCALE:GREGORIAN
METHOD:PUBLISH
X-WR-CALNAME:Resurrection Lutheran Church
X-ORIGINAL-URL:https://www.orovalley.org
X-WR-CALDESC:Events for Resurrection Lutheran Church
REFRESH-INTERVAL;VALUE=DURATION:PT1H
X-Robots-Tag:noindex
X-PUBLISHED-TTL:PT1H
BEGIN:VTIMEZONE
TZID:UTC
BEGIN:STANDARD
TZOFFSETFROM:+0000
TZOFFSETTO:+0000
TZNAME:UTC
DTSTART:20250101T000000
END:STANDARD
END:VTIMEZONE
BEGIN:VEVENT
DTSTART;TZID=UTC:20260209T103000
DTEND;TZID=UTC:20260209T114500
DTSTAMP:20260423T063815
CREATED:20251204T210145Z
LAST-MODIFIED:20251204T210150Z
UID:10006043-1770633000-1770637500@www.orovalley.org
SUMMARY:In Search of God’s Will Book Study
DESCRIPTION:This event will be held in the Sanctuary.
URL:https://www.orovalley.org/event/in-search-of-gods-will-book-study/2026-02-09/
END:VEVENT
BEGIN:VEVENT
DTSTART;TZID=UTC:20260209T183000
DTEND;TZID=UTC:20260209T200000
DTSTAMP:20260423T063815
CREATED:20251107T183956Z
LAST-MODIFIED:20260408T223906Z
UID:10005604-1770661800-1770667200@www.orovalley.org
SUMMARY:Half Truths Book Study
DESCRIPTION:The book study will be held in Katie’s Quarters.
URL:https://www.orovalley.org/event/half-truths-book-study/2026-02-09/
END:VEVENT
BEGIN:VEVENT
DTSTART;TZID=UTC:20260210T080000
DTEND;TZID=UTC:20260210T170000
DTSTAMP:20260423T063815
CREATED:20251008T010640Z
LAST-MODIFIED:20251008T010645Z
UID:10005237-1770710400-1770742800@www.orovalley.org
SUMMARY:Winter Book Discussion
DESCRIPTION:Oro Valley Sanctuary \n\n\n\nJoin us as we discuss Romans 8 through the eyes of N.T. Wright. We will use the book “Into the Heart of Romans.” Books available in the church office.
URL:https://www.orovalley.org/event/winter-book-discussion/2026-02-10/
END:VEVENT
BEGIN:VEVENT
DTSTART;TZID=UTC:20260210T100000
DTEND;TZID=UTC:20260210T113000
DTSTAMP:20260423T063815
CREATED:20251107T191217Z
LAST-MODIFIED:20251107T191224Z
UID:10005741-1770717600-1770723000@www.orovalley.org
SUMMARY:Into the Heart of Romans Book Study
DESCRIPTION:The study will be held in the Sanctuary.
URL:https://www.orovalley.org/event/into-the-heart-of-romans-book-study/2026-02-10/
END:VEVENT
BEGIN:VEVENT
DTSTART;TZID=UTC:20260210T130000
DTEND;TZID=UTC:20260210T160000
DTSTAMP:20260423T063815
CREATED:20260210T184404Z
LAST-MODIFIED:20260210T202351Z
UID:10006815-1770728400-1770739200@www.orovalley.org
SUMMARY:Art by Heart Glass Classes
DESCRIPTION:Art by Heart Studio
URL:https://www.orovalley.org/event/art-by-heart-glass-classes/2026-02-10/
END:VEVENT
BEGIN:VEVENT
DTSTART;TZID=UTC:20260210T183000
DTEND;TZID=UTC:20260210T203000
DTSTAMP:20260423T063815
CREATED:20251111T170454Z
LAST-MODIFIED:20251111T170509Z
UID:10003783-1770748200-1770755400@www.orovalley.org
SUMMARY:Resurrection Card Players
DESCRIPTION:RLC Card Players meets every second and fourth Tuesday of the month in the Music Room. No reservation necessary. Please bring a snack to share and your own beverage. We play a variety of card games and we’re happy to teach you if you don’t know how to play. Everyone is welcome.
URL:https://www.orovalley.org/event/resurrection-card-players-5/2026-02-10/
END:VEVENT
BEGIN:VEVENT
DTSTART;TZID=UTC:20260211T100000
DTEND;TZID=UTC:20260211T113000
DTSTAMP:20260423T063815
CREATED:20251209T181906Z
LAST-MODIFIED:20251209T181911Z
UID:10006061-1770804000-1770809400@www.orovalley.org
SUMMARY:Coping With Grief
DESCRIPTION:This event will be held in the Prayer Room.
URL:https://www.orovalley.org/event/coping-with-grief-2/2026-02-11/
END:VEVENT
BEGIN:VEVENT
DTSTART;TZID=UTC:20260211T113000
DTEND;TZID=UTC:20260211T123000
DTSTAMP:20260423T063815
CREATED:20260210T183908Z
LAST-MODIFIED:20260210T183913Z
UID:10006088-1770809400-1770813000@www.orovalley.org
SUMMARY:PrimeTime Lunch
DESCRIPTION:Outreach Center Gym
URL:https://www.orovalley.org/event/primetime-lunch-2/
END:VEVENT
BEGIN:VEVENT
DTSTART;TZID=UTC:20260211T150000
DTEND;TZID=UTC:20260211T160000
DTSTAMP:20260423T063815
CREATED:20250701T214646Z
LAST-MODIFIED:20250701T214652Z
UID:10004506-1770822000-1770825600@www.orovalley.org
SUMMARY:Scripture & Salsa
DESCRIPTION:You are invited to join Pastor Carol every Wednesday from 3:00 – 4:00 PM at Mi Tierra Mexican Restaurant in Catalina starting January 8th for an informal discussion of the Bible texts for the upcoming weekend’s worship. No registration is required and there is no long-term commitment. Just grab your Bible and drop by.
URL:https://www.orovalley.org/event/scripture-salsa-2/2026-02-11/
END:VEVENT
BEGIN:VEVENT
DTSTART;TZID=UTC:20260212T130000
DTEND;TZID=UTC:20260212T160000
DTSTAMP:20260423T063815
CREATED:20241213T002356Z
LAST-MODIFIED:20241213T002359Z
UID:10004108-1770901200-1770912000@www.orovalley.org
SUMMARY:Matching Dragons Mah Jongg
DESCRIPTION:Do you play the game of (American) Mah Jongg and have been looking for a group to play with? Join us on Thursday afternoons 1:00-4:00 PM in Luther’s Lair in the Outreach Center. These are friendly games. We do NOT play for money but we ALWAYS have a good time. This group is for those who already know how to play the game. However\, anyone is invited to come observe to see if they would like to learn to play the game. Questions? Contact Jackie Verdick at jackieverdick@gmail.com or 612-554-0111.
URL:https://www.orovalley.org/event/matching-dragons-mah-jongg/2026-02-12/
END:VEVENT
BEGIN:VEVENT
DTSTART;TZID=UTC:20260212T130000
DTEND;TZID=UTC:20260212T160000
DTSTAMP:20260423T063815
CREATED:20251107T191455Z
LAST-MODIFIED:20251107T191616Z
UID:10005758-1770901200-1770912000@www.orovalley.org
SUMMARY:Art by Heart Open Studio
DESCRIPTION:
URL:https://www.orovalley.org/event/art-by-heart-open-studio/2026-02-12/
END:VEVENT
BEGIN:VEVENT
DTSTART;TZID=UTC:20260213T123000
DTEND;TZID=UTC:20260213T143000
DTSTAMP:20260423T063815
CREATED:20260210T183324Z
LAST-MODIFIED:20260210T183329Z
UID:10006083-1770985800-1770993000@www.orovalley.org
SUMMARY:Ladies Luncheon
DESCRIPTION:Ranch House Grill & Brewery
URL:https://www.orovalley.org/event/ladies-luncheon-17/
END:VEVENT
BEGIN:VEVENT
DTSTART;TZID=UTC:20260214T080000
DTEND;TZID=UTC:20260214T100000
DTSTAMP:20260423T063815
CREATED:20260210T200101Z
LAST-MODIFIED:20260210T200110Z
UID:10004330-1771056000-1771063200@www.orovalley.org
SUMMARY:Men's Bible Study
DESCRIPTION:Uses the Serendipity Bible\, copies are available. All men of the church are welcome to attend. Meets in Luther’s Lair.
URL:https://www.orovalley.org/event/mens-bible-study-3/2026-02-14/
END:VEVENT
BEGIN:VEVENT
DTSTART;TZID=UTC:20260214T170000
DTEND;TZID=UTC:20260214T180000
DTSTAMP:20260423T063815
CREATED:20240130T000623Z
LAST-MODIFIED:20240228T201059Z
UID:10002352-1771088400-1771092000@www.orovalley.org
SUMMARY:5:00 Worship
DESCRIPTION:Join us for worship!  \n\n\n\n\nWorship Online Here\n\n\n\nOnline Bulletins Here
URL:https://www.orovalley.org/event/500-worship-2/2026-02-14/
LOCATION:Oro Valley Sanctuary
CATEGORIES:Worship
ATTACH;FMTTYPE=image/jpeg:https://www.orovalley.org/wp-content/uploads/2023/08/CopyrightTaylorNoelPhotography2021-175-354e5a6-scaled.jpg
END:VEVENT
BEGIN:VEVENT
DTSTART;TZID=UTC:20260215T074500
DTEND;TZID=UTC:20260215T084500
DTSTAMP:20260423T063815
CREATED:20250605T233406Z
LAST-MODIFIED:20250605T233413Z
UID:10000116-1771141500-1771145100@www.orovalley.org
SUMMARY:7:45 Worship
DESCRIPTION:Traditional Worship. Music provided by Resurrection’s Chancel Choir \n\n\n\n\nWorship Online Here\n\n\n\n\n \n\n\n\n\nOnline Bulletins Here
URL:https://www.orovalley.org/event/745-worship-9/2026-02-15/
LOCATION:Oro Valley Sanctuary
CATEGORIES:Worship
ATTACH;FMTTYPE=image/jpeg:https://www.orovalley.org/wp-content/uploads/2023/12/CopyrightTaylorNoelPhotography2021-158-scaled.jpg
END:VEVENT
BEGIN:VEVENT
DTSTART;TZID=UTC:20260215T090000
DTEND;TZID=UTC:20260215T100000
DTSTAMP:20260423T063815
CREATED:20240106T184634Z
LAST-MODIFIED:20240228T200602Z
UID:10001734-1771146000-1771149600@www.orovalley.org
SUMMARY:Worship at SaddleBrooke
DESCRIPTION:Worship Online Here\n\n\n\nOnline Bulletin Here
URL:https://www.orovalley.org/event/worship-at-saddlebrooke/2026-02-15/
LOCATION:SaddleBrooke\, SaddleBrooke HOA2 Clubhouse\, Tucson\, Arizona\, 85739
CATEGORIES:Worship
ATTACH;FMTTYPE=image/jpeg:https://www.orovalley.org/wp-content/uploads/2023/08/sb-worship-pic_3.jpg
END:VEVENT
BEGIN:VEVENT
DTSTART;TZID=UTC:20260215T091500
DTEND;TZID=UTC:20260215T101500
DTSTAMP:20260423T063815
CREATED:20250610T165422Z
LAST-MODIFIED:20250610T165427Z
UID:10005111-1771146900-1771150500@www.orovalley.org
SUMMARY:09:15 Worship - Contemporary
DESCRIPTION:Sunday School\, Confirmation\, High School Sunday School \n\n\n\nChildcare Available \n\n\n\n\nWorship Online Here
URL:https://www.orovalley.org/event/0915-worship-contemporary/2026-02-15/
LOCATION:Oro Valley Sanctuary
CATEGORIES:Worship
ATTACH;FMTTYPE=image/jpeg:https://www.orovalley.org/wp-content/uploads/2023/11/CopyrightTaylorNoelPhotography2021-200-scaled.jpg
END:VEVENT
BEGIN:VEVENT
DTSTART;TZID=UTC:20260215T104500
DTEND;TZID=UTC:20260215T114500
DTSTAMP:20260423T063815
CREATED:20250610T165108Z
LAST-MODIFIED:20250610T165111Z
UID:10005023-1771152300-1771155900@www.orovalley.org
SUMMARY:10:45 Worship - Contemporary
DESCRIPTION:Sunday School\, Confirmation\, High School Sunday School \n\n\n\nChildcare Available \n\n\n\n\nWorship Online Here
URL:https://www.orovalley.org/event/1045-worship-contemporary-7/2026-02-15/
LOCATION:Oro Valley Sanctuary
CATEGORIES:Worship
ATTACH;FMTTYPE=image/jpeg:https://www.orovalley.org/wp-content/uploads/2023/11/CopyrightTaylorNoelPhotography2021-200-scaled.jpg
END:VEVENT
BEGIN:VEVENT
DTSTART;TZID=UTC:20260215T120000
DTEND;TZID=UTC:20260215T150000
DTSTAMP:20260423T063815
CREATED:20260210T184621Z
LAST-MODIFIED:20260210T184625Z
UID:10006100-1771156800-1771167600@www.orovalley.org
SUMMARY:Family Lent Event
DESCRIPTION:Outreach Center Gym
URL:https://www.orovalley.org/event/family-lent-event/
END:VEVENT
BEGIN:VEVENT
DTSTART;TZID=UTC:20260216T103000
DTEND;TZID=UTC:20260216T114500
DTSTAMP:20260423T063815
CREATED:20251204T210145Z
LAST-MODIFIED:20251204T210150Z
UID:10006044-1771237800-1771242300@www.orovalley.org
SUMMARY:In Search of God’s Will Book Study
DESCRIPTION:This event will be held in the Sanctuary.
URL:https://www.orovalley.org/event/in-search-of-gods-will-book-study/2026-02-16/
END:VEVENT
BEGIN:VEVENT
DTSTART;TZID=UTC:20260217T080000
DTEND;TZID=UTC:20260217T133000
DTSTAMP:20260423T063815
CREATED:20260210T185903Z
LAST-MODIFIED:20260210T185909Z
UID:10006103-1771315200-1771335000@www.orovalley.org
SUMMARY:Blood Drive
DESCRIPTION:Katie’s Quarters
URL:https://www.orovalley.org/event/blood-drive-4/
END:VEVENT
BEGIN:VEVENT
DTSTART;TZID=UTC:20260217T080000
DTEND;TZID=UTC:20260217T170000
DTSTAMP:20260423T063815
CREATED:20251008T010640Z
LAST-MODIFIED:20251008T010645Z
UID:10005238-1771315200-1771347600@www.orovalley.org
SUMMARY:Winter Book Discussion
DESCRIPTION:Oro Valley Sanctuary \n\n\n\nJoin us as we discuss Romans 8 through the eyes of N.T. Wright. We will use the book “Into the Heart of Romans.” Books available in the church office.
URL:https://www.orovalley.org/event/winter-book-discussion/2026-02-17/
END:VEVENT
BEGIN:VEVENT
DTSTART;TZID=UTC:20260217T100000
DTEND;TZID=UTC:20260217T113000
DTSTAMP:20260423T063815
CREATED:20251107T191217Z
LAST-MODIFIED:20251107T191224Z
UID:10005742-1771322400-1771327800@www.orovalley.org
SUMMARY:Into the Heart of Romans Book Study
DESCRIPTION:The study will be held in the Sanctuary.
URL:https://www.orovalley.org/event/into-the-heart-of-romans-book-study/2026-02-17/
END:VEVENT
BEGIN:VEVENT
DTSTART;TZID=UTC:20260217T130000
DTEND;TZID=UTC:20260217T160000
DTSTAMP:20260423T063815
CREATED:20260210T184404Z
LAST-MODIFIED:20260210T202351Z
UID:10006816-1771333200-1771344000@www.orovalley.org
SUMMARY:Art by Heart Glass Classes
DESCRIPTION:Art by Heart Studio
URL:https://www.orovalley.org/event/art-by-heart-glass-classes/2026-02-17/
END:VEVENT
BEGIN:VEVENT
DTSTART;TZID=UTC:20260218T100000
DTEND;TZID=UTC:20260218T113000
DTSTAMP:20260423T063815
CREATED:20251209T181906Z
LAST-MODIFIED:20251209T181911Z
UID:10006062-1771408800-1771414200@www.orovalley.org
SUMMARY:Coping With Grief
DESCRIPTION:This event will be held in the Prayer Room.
URL:https://www.orovalley.org/event/coping-with-grief-2/2026-02-18/
END:VEVENT
BEGIN:VEVENT
DTSTART;TZID=UTC:20260218T103000
DTEND;TZID=UTC:20260218T120000
DTSTAMP:20260423T063815
CREATED:20240617T222009Z
LAST-MODIFIED:20240617T222059Z
UID:10003548-1771410600-1771416000@www.orovalley.org
SUMMARY:Parkinson's Support Group
DESCRIPTION:This support group provides encouragement from meeting with others who have Parkinson’s disease\, and for the care givers of those with Parkinson’s. The meetings provide an opportunity to discuss experiences and feelings and to share solutions to common problems.  Meets every 3rd Wednesday of the month in the High School Youth Room.
URL:https://www.orovalley.org/event/parkinsons-support-group-3/2026-02-18/
LOCATION:Youth Room
CATEGORIES:Congregational Care,Serve
ATTACH;FMTTYPE=image/jpeg:https://www.orovalley.org/wp-content/uploads/2024/06/Graphics-3.jpg
END:VEVENT
BEGIN:VEVENT
DTSTART;TZID=UTC:20260218T120000
DTEND;TZID=UTC:20260218T130000
DTSTAMP:20260423T063815
CREATED:20260210T181426Z
LAST-MODIFIED:20260210T214144Z
UID:10006073-1771416000-1771419600@www.orovalley.org
SUMMARY:Ash Wednesday Services
DESCRIPTION:Oro Valley Sanctuary
URL:https://www.orovalley.org/event/ash-wednesday-services/
END:VEVENT
BEGIN:VEVENT
DTSTART;TZID=UTC:20260218T150000
DTEND;TZID=UTC:20260218T160000
DTSTAMP:20260423T063815
CREATED:20250701T214646Z
LAST-MODIFIED:20250701T214652Z
UID:10004507-1771426800-1771430400@www.orovalley.org
SUMMARY:Scripture & Salsa
DESCRIPTION:You are invited to join Pastor Carol every Wednesday from 3:00 – 4:00 PM at Mi Tierra Mexican Restaurant in Catalina starting January 8th for an informal discussion of the Bible texts for the upcoming weekend’s worship. No registration is required and there is no long-term commitment. Just grab your Bible and drop by.
URL:https://www.orovalley.org/event/scripture-salsa-2/2026-02-18/
END:VEVENT
BEGIN:VEVENT
DTSTART;TZID=UTC:20260218T181500
DTEND;TZID=UTC:20260218T191500
DTSTAMP:20260423T063815
CREATED:20260210T215429Z
LAST-MODIFIED:20260210T215518Z
UID:10007076-1771438500-1771442100@www.orovalley.org
SUMMARY:Ash Wednesday Services
DESCRIPTION:Oro Valley Sanctuary
URL:https://www.orovalley.org/event/ash-wednesday-services-2/
END:VEVENT
BEGIN:VEVENT
DTSTART;TZID=UTC:20260219T130000
DTEND;TZID=UTC:20260219T160000
DTSTAMP:20260423T063815
CREATED:20241213T002356Z
LAST-MODIFIED:20241213T002359Z
UID:10004109-1771506000-1771516800@www.orovalley.org
SUMMARY:Matching Dragons Mah Jongg
DESCRIPTION:Do you play the game of (American) Mah Jongg and have been looking for a group to play with? Join us on Thursday afternoons 1:00-4:00 PM in Luther’s Lair in the Outreach Center. These are friendly games. We do NOT play for money but we ALWAYS have a good time. This group is for those who already know how to play the game. However\, anyone is invited to come observe to see if they would like to learn to play the game. Questions? Contact Jackie Verdick at jackieverdick@gmail.com or 612-554-0111.
URL:https://www.orovalley.org/event/matching-dragons-mah-jongg/2026-02-19/
END:VEVENT
END:VCALENDAR