BEGIN:VCALENDAR
VERSION:2.0
PRODID:-//Resurrection Lutheran Church - ECPv6.15.20//NONSGML v1.0//EN
CALSCALE:GREGORIAN
METHOD:PUBLISH
X-WR-CALNAME:Resurrection Lutheran Church
X-ORIGINAL-URL:https://www.orovalley.org
X-WR-CALDESC:Events for Resurrection Lutheran Church
REFRESH-INTERVAL;VALUE=DURATION:PT1H
X-Robots-Tag:noindex
X-PUBLISHED-TTL:PT1H
BEGIN:VTIMEZONE
TZID:UTC
BEGIN:STANDARD
TZOFFSETFROM:+0000
TZOFFSETTO:+0000
TZNAME:UTC
DTSTART:20260101T000000
END:STANDARD
END:VTIMEZONE
BEGIN:VEVENT
DTSTART;TZID=UTC:20270616T103000
DTEND;TZID=UTC:20270616T120000
DTSTAMP:20260423T021601
CREATED:20240617T222009Z
LAST-MODIFIED:20240617T222059Z
UID:10003564-1813141800-1813147200@www.orovalley.org
SUMMARY:Parkinson's Support Group
DESCRIPTION:This support group provides encouragement from meeting with others who have Parkinson’s disease\, and for the care givers of those with Parkinson’s. The meetings provide an opportunity to discuss experiences and feelings and to share solutions to common problems.  Meets every 3rd Wednesday of the month in the High School Youth Room.
URL:https://www.orovalley.org/event/parkinsons-support-group-3/2027-06-16/
LOCATION:Youth Room
CATEGORIES:Congregational Care,Serve
ATTACH;FMTTYPE=image/jpeg:https://www.orovalley.org/wp-content/uploads/2024/06/Graphics-3.jpg
END:VEVENT
BEGIN:VEVENT
DTSTART;TZID=UTC:20270616T150000
DTEND;TZID=UTC:20270616T160000
DTSTAMP:20260423T021601
CREATED:20260415T170108Z
LAST-MODIFIED:20260415T170119Z
UID:10004576-1813158000-1813161600@www.orovalley.org
SUMMARY:Scripture & Salsa
DESCRIPTION:You are invited to join Pastor Carol every Wednesday from 3:00 – 4:00 PM at Mi Tierra Mexican Restaurant in Catalina starting January 8th for an informal discussion of the Bible texts for the upcoming weekend’s worship. No registration is required and there is no long-term commitment. Just grab your Bible and drop by.
URL:https://www.orovalley.org/event/scripture-salsa-3/2027-06-16/
END:VEVENT
BEGIN:VEVENT
DTSTART;TZID=UTC:20270617T130000
DTEND;TZID=UTC:20270617T160000
DTSTAMP:20260423T021601
CREATED:20241213T002356Z
LAST-MODIFIED:20241213T002359Z
UID:10004178-1813237200-1813248000@www.orovalley.org
SUMMARY:Matching Dragons Mah Jongg
DESCRIPTION:Do you play the game of (American) Mah Jongg and have been looking for a group to play with? Join us on Thursday afternoons 1:00-4:00 PM in Luther’s Lair in the Outreach Center. These are friendly games. We do NOT play for money but we ALWAYS have a good time. This group is for those who already know how to play the game. However\, anyone is invited to come observe to see if they would like to learn to play the game. Questions? Contact Jackie Verdick at jackieverdick@gmail.com or 612-554-0111.
URL:https://www.orovalley.org/event/matching-dragons-mah-jongg/2027-06-17/
END:VEVENT
BEGIN:VEVENT
DTSTART;TZID=UTC:20270617T130000
DTEND;TZID=UTC:20270617T160000
DTSTAMP:20260423T021601
CREATED:20251107T191455Z
LAST-MODIFIED:20251107T191616Z
UID:10005828-1813237200-1813248000@www.orovalley.org
SUMMARY:Art by Heart Open Studio
DESCRIPTION:
URL:https://www.orovalley.org/event/art-by-heart-open-studio/2027-06-17/
END:VEVENT
BEGIN:VEVENT
DTSTART;TZID=UTC:20270619T090000
DTEND;TZID=UTC:20270619T110000
DTSTAMP:20260423T021601
CREATED:20260210T201725Z
LAST-MODIFIED:20260210T201733Z
UID:10006784-1813395600-1813402800@www.orovalley.org
SUMMARY:Faithful Living Fellowship
DESCRIPTION:Oro Valley \n\n\n\nWe meet for coffee\, snacks and fellowship\, followed by a film and small discussion groups. We will study the book “Embracing Trust” by Joanna Weaver. Sign up on the website under the Learn section.
URL:https://www.orovalley.org/event/faithful-living-fellowship-3/2027-06-19/
END:VEVENT
BEGIN:VEVENT
DTSTART;TZID=UTC:20270619T170000
DTEND;TZID=UTC:20270619T180000
DTSTAMP:20260423T021601
CREATED:20240130T000623Z
LAST-MODIFIED:20240228T201059Z
UID:10002422-1813424400-1813428000@www.orovalley.org
SUMMARY:5:00 Worship
DESCRIPTION:Join us for worship!  \n\n\n\n\nWorship Online Here\n\n\n\nOnline Bulletins Here
URL:https://www.orovalley.org/event/500-worship-2/2027-06-19/
LOCATION:Oro Valley Sanctuary
CATEGORIES:Worship
ATTACH;FMTTYPE=image/jpeg:https://www.orovalley.org/wp-content/uploads/2023/08/CopyrightTaylorNoelPhotography2021-175-354e5a6-scaled.jpg
END:VEVENT
BEGIN:VEVENT
DTSTART;TZID=UTC:20270620T090000
DTEND;TZID=UTC:20270620T100000
DTSTAMP:20260423T021601
CREATED:20240106T184634Z
LAST-MODIFIED:20240228T200602Z
UID:10001804-1813482000-1813485600@www.orovalley.org
SUMMARY:Worship at SaddleBrooke
DESCRIPTION:Worship Online Here\n\n\n\nOnline Bulletin Here
URL:https://www.orovalley.org/event/worship-at-saddlebrooke/2027-06-20/
LOCATION:SaddleBrooke\, SaddleBrooke HOA2 Clubhouse\, Tucson\, Arizona\, 85739
CATEGORIES:Worship
ATTACH;FMTTYPE=image/jpeg:https://www.orovalley.org/wp-content/uploads/2023/08/sb-worship-pic_3.jpg
END:VEVENT
BEGIN:VEVENT
DTSTART;TZID=UTC:20270622T130000
DTEND;TZID=UTC:20270622T160000
DTSTAMP:20260423T021601
CREATED:20260210T184404Z
LAST-MODIFIED:20260210T202351Z
UID:10006886-1813669200-1813680000@www.orovalley.org
SUMMARY:Art by Heart Glass Classes
DESCRIPTION:Art by Heart Studio
URL:https://www.orovalley.org/event/art-by-heart-glass-classes/2027-06-22/
END:VEVENT
BEGIN:VEVENT
DTSTART;TZID=UTC:20270622T183000
DTEND;TZID=UTC:20270622T203000
DTSTAMP:20260423T021601
CREATED:20240910T192133Z
LAST-MODIFIED:20240910T192135Z
UID:10003859-1813689000-1813696200@www.orovalley.org
SUMMARY:Resurrection Card Players
DESCRIPTION:RLC Card Players meets every second and fourth Tuesday of the month. No reservation necessary. Please bring a snack to share and your own beverage. We play a variety of card games and we’re happy to teach you if you don’t know how to play. Everyone is welcome.
URL:https://www.orovalley.org/event/resurrection-card-players-2/2027-06-22/
LOCATION:Luther’s Lair
END:VEVENT
BEGIN:VEVENT
DTSTART;TZID=UTC:20270623T150000
DTEND;TZID=UTC:20270623T160000
DTSTAMP:20260423T021601
CREATED:20260415T170108Z
LAST-MODIFIED:20260415T170119Z
UID:10004577-1813762800-1813766400@www.orovalley.org
SUMMARY:Scripture & Salsa
DESCRIPTION:You are invited to join Pastor Carol every Wednesday from 3:00 – 4:00 PM at Mi Tierra Mexican Restaurant in Catalina starting January 8th for an informal discussion of the Bible texts for the upcoming weekend’s worship. No registration is required and there is no long-term commitment. Just grab your Bible and drop by.
URL:https://www.orovalley.org/event/scripture-salsa-3/2027-06-23/
END:VEVENT
BEGIN:VEVENT
DTSTART;TZID=UTC:20270624T130000
DTEND;TZID=UTC:20270624T160000
DTSTAMP:20260423T021601
CREATED:20241213T002356Z
LAST-MODIFIED:20241213T002359Z
UID:10004179-1813842000-1813852800@www.orovalley.org
SUMMARY:Matching Dragons Mah Jongg
DESCRIPTION:Do you play the game of (American) Mah Jongg and have been looking for a group to play with? Join us on Thursday afternoons 1:00-4:00 PM in Luther’s Lair in the Outreach Center. These are friendly games. We do NOT play for money but we ALWAYS have a good time. This group is for those who already know how to play the game. However\, anyone is invited to come observe to see if they would like to learn to play the game. Questions? Contact Jackie Verdick at jackieverdick@gmail.com or 612-554-0111.
URL:https://www.orovalley.org/event/matching-dragons-mah-jongg/2027-06-24/
END:VEVENT
BEGIN:VEVENT
DTSTART;TZID=UTC:20270624T130000
DTEND;TZID=UTC:20270624T160000
DTSTAMP:20260423T021601
CREATED:20251107T191455Z
LAST-MODIFIED:20251107T191616Z
UID:10005829-1813842000-1813852800@www.orovalley.org
SUMMARY:Art by Heart Open Studio
DESCRIPTION:
URL:https://www.orovalley.org/event/art-by-heart-open-studio/2027-06-24/
END:VEVENT
BEGIN:VEVENT
DTSTART;TZID=UTC:20270626T170000
DTEND;TZID=UTC:20270626T180000
DTSTAMP:20260423T021601
CREATED:20240130T000623Z
LAST-MODIFIED:20240228T201059Z
UID:10002423-1814029200-1814032800@www.orovalley.org
SUMMARY:5:00 Worship
DESCRIPTION:Join us for worship!  \n\n\n\n\nWorship Online Here\n\n\n\nOnline Bulletins Here
URL:https://www.orovalley.org/event/500-worship-2/2027-06-26/
LOCATION:Oro Valley Sanctuary
CATEGORIES:Worship
ATTACH;FMTTYPE=image/jpeg:https://www.orovalley.org/wp-content/uploads/2023/08/CopyrightTaylorNoelPhotography2021-175-354e5a6-scaled.jpg
END:VEVENT
BEGIN:VEVENT
DTSTART;TZID=UTC:20270627T090000
DTEND;TZID=UTC:20270627T100000
DTSTAMP:20260423T021601
CREATED:20240106T184634Z
LAST-MODIFIED:20240228T200602Z
UID:10001805-1814086800-1814090400@www.orovalley.org
SUMMARY:Worship at SaddleBrooke
DESCRIPTION:Worship Online Here\n\n\n\nOnline Bulletin Here
URL:https://www.orovalley.org/event/worship-at-saddlebrooke/2027-06-27/
LOCATION:SaddleBrooke\, SaddleBrooke HOA2 Clubhouse\, Tucson\, Arizona\, 85739
CATEGORIES:Worship
ATTACH;FMTTYPE=image/jpeg:https://www.orovalley.org/wp-content/uploads/2023/08/sb-worship-pic_3.jpg
END:VEVENT
BEGIN:VEVENT
DTSTART;TZID=UTC:20270629T130000
DTEND;TZID=UTC:20270629T160000
DTSTAMP:20260423T021601
CREATED:20260210T184404Z
LAST-MODIFIED:20260210T202351Z
UID:10006887-1814274000-1814284800@www.orovalley.org
SUMMARY:Art by Heart Glass Classes
DESCRIPTION:Art by Heart Studio
URL:https://www.orovalley.org/event/art-by-heart-glass-classes/2027-06-29/
END:VEVENT
BEGIN:VEVENT
DTSTART;TZID=UTC:20270630T150000
DTEND;TZID=UTC:20270630T160000
DTSTAMP:20260423T021601
CREATED:20260415T170108Z
LAST-MODIFIED:20260415T170119Z
UID:10004578-1814367600-1814371200@www.orovalley.org
SUMMARY:Scripture & Salsa
DESCRIPTION:You are invited to join Pastor Carol every Wednesday from 3:00 – 4:00 PM at Mi Tierra Mexican Restaurant in Catalina starting January 8th for an informal discussion of the Bible texts for the upcoming weekend’s worship. No registration is required and there is no long-term commitment. Just grab your Bible and drop by.
URL:https://www.orovalley.org/event/scripture-salsa-3/2027-06-30/
END:VEVENT
BEGIN:VEVENT
DTSTART;TZID=UTC:20270701T130000
DTEND;TZID=UTC:20270701T160000
DTSTAMP:20260423T021601
CREATED:20241213T002356Z
LAST-MODIFIED:20241213T002359Z
UID:10004180-1814446800-1814457600@www.orovalley.org
SUMMARY:Matching Dragons Mah Jongg
DESCRIPTION:Do you play the game of (American) Mah Jongg and have been looking for a group to play with? Join us on Thursday afternoons 1:00-4:00 PM in Luther’s Lair in the Outreach Center. These are friendly games. We do NOT play for money but we ALWAYS have a good time. This group is for those who already know how to play the game. However\, anyone is invited to come observe to see if they would like to learn to play the game. Questions? Contact Jackie Verdick at jackieverdick@gmail.com or 612-554-0111.
URL:https://www.orovalley.org/event/matching-dragons-mah-jongg/2027-07-01/
END:VEVENT
BEGIN:VEVENT
DTSTART;TZID=UTC:20270701T130000
DTEND;TZID=UTC:20270701T160000
DTSTAMP:20260423T021601
CREATED:20251107T191455Z
LAST-MODIFIED:20251107T191616Z
UID:10005830-1814446800-1814457600@www.orovalley.org
SUMMARY:Art by Heart Open Studio
DESCRIPTION:
URL:https://www.orovalley.org/event/art-by-heart-open-studio/2027-07-01/
END:VEVENT
BEGIN:VEVENT
DTSTART;TZID=UTC:20270703T170000
DTEND;TZID=UTC:20270703T180000
DTSTAMP:20260423T021601
CREATED:20240130T000623Z
LAST-MODIFIED:20240228T201059Z
UID:10002424-1814634000-1814637600@www.orovalley.org
SUMMARY:5:00 Worship
DESCRIPTION:Join us for worship!  \n\n\n\n\nWorship Online Here\n\n\n\nOnline Bulletins Here
URL:https://www.orovalley.org/event/500-worship-2/2027-07-03/
LOCATION:Oro Valley Sanctuary
CATEGORIES:Worship
ATTACH;FMTTYPE=image/jpeg:https://www.orovalley.org/wp-content/uploads/2023/08/CopyrightTaylorNoelPhotography2021-175-354e5a6-scaled.jpg
END:VEVENT
BEGIN:VEVENT
DTSTART;TZID=UTC:20270704T090000
DTEND;TZID=UTC:20270704T100000
DTSTAMP:20260423T021601
CREATED:20240106T184634Z
LAST-MODIFIED:20240228T200602Z
UID:10001806-1814691600-1814695200@www.orovalley.org
SUMMARY:Worship at SaddleBrooke
DESCRIPTION:Worship Online Here\n\n\n\nOnline Bulletin Here
URL:https://www.orovalley.org/event/worship-at-saddlebrooke/2027-07-04/
LOCATION:SaddleBrooke\, SaddleBrooke HOA2 Clubhouse\, Tucson\, Arizona\, 85739
CATEGORIES:Worship
ATTACH;FMTTYPE=image/jpeg:https://www.orovalley.org/wp-content/uploads/2023/08/sb-worship-pic_3.jpg
END:VEVENT
BEGIN:VEVENT
DTSTART;TZID=UTC:20270706T130000
DTEND;TZID=UTC:20270706T160000
DTSTAMP:20260423T021601
CREATED:20260210T184404Z
LAST-MODIFIED:20260210T202351Z
UID:10006888-1814878800-1814889600@www.orovalley.org
SUMMARY:Art by Heart Glass Classes
DESCRIPTION:Art by Heart Studio
URL:https://www.orovalley.org/event/art-by-heart-glass-classes/2027-07-06/
END:VEVENT
BEGIN:VEVENT
DTSTART;TZID=UTC:20270707T150000
DTEND;TZID=UTC:20270707T160000
DTSTAMP:20260423T021601
CREATED:20260415T170108Z
LAST-MODIFIED:20260415T170119Z
UID:10004579-1814972400-1814976000@www.orovalley.org
SUMMARY:Scripture & Salsa
DESCRIPTION:You are invited to join Pastor Carol every Wednesday from 3:00 – 4:00 PM at Mi Tierra Mexican Restaurant in Catalina starting January 8th for an informal discussion of the Bible texts for the upcoming weekend’s worship. No registration is required and there is no long-term commitment. Just grab your Bible and drop by.
URL:https://www.orovalley.org/event/scripture-salsa-3/2027-07-07/
END:VEVENT
BEGIN:VEVENT
DTSTART;TZID=UTC:20270708T130000
DTEND;TZID=UTC:20270708T160000
DTSTAMP:20260423T021601
CREATED:20241213T002356Z
LAST-MODIFIED:20241213T002359Z
UID:10004181-1815051600-1815062400@www.orovalley.org
SUMMARY:Matching Dragons Mah Jongg
DESCRIPTION:Do you play the game of (American) Mah Jongg and have been looking for a group to play with? Join us on Thursday afternoons 1:00-4:00 PM in Luther’s Lair in the Outreach Center. These are friendly games. We do NOT play for money but we ALWAYS have a good time. This group is for those who already know how to play the game. However\, anyone is invited to come observe to see if they would like to learn to play the game. Questions? Contact Jackie Verdick at jackieverdick@gmail.com or 612-554-0111.
URL:https://www.orovalley.org/event/matching-dragons-mah-jongg/2027-07-08/
END:VEVENT
BEGIN:VEVENT
DTSTART;TZID=UTC:20270708T130000
DTEND;TZID=UTC:20270708T160000
DTSTAMP:20260423T021601
CREATED:20251107T191455Z
LAST-MODIFIED:20251107T191616Z
UID:10005831-1815051600-1815062400@www.orovalley.org
SUMMARY:Art by Heart Open Studio
DESCRIPTION:
URL:https://www.orovalley.org/event/art-by-heart-open-studio/2027-07-08/
END:VEVENT
BEGIN:VEVENT
DTSTART;TZID=UTC:20270710T170000
DTEND;TZID=UTC:20270710T180000
DTSTAMP:20260423T021601
CREATED:20240130T000623Z
LAST-MODIFIED:20240228T201059Z
UID:10002425-1815238800-1815242400@www.orovalley.org
SUMMARY:5:00 Worship
DESCRIPTION:Join us for worship!  \n\n\n\n\nWorship Online Here\n\n\n\nOnline Bulletins Here
URL:https://www.orovalley.org/event/500-worship-2/2027-07-10/
LOCATION:Oro Valley Sanctuary
CATEGORIES:Worship
ATTACH;FMTTYPE=image/jpeg:https://www.orovalley.org/wp-content/uploads/2023/08/CopyrightTaylorNoelPhotography2021-175-354e5a6-scaled.jpg
END:VEVENT
BEGIN:VEVENT
DTSTART;TZID=UTC:20270711T090000
DTEND;TZID=UTC:20270711T100000
DTSTAMP:20260423T021601
CREATED:20240106T184634Z
LAST-MODIFIED:20240228T200602Z
UID:10001807-1815296400-1815300000@www.orovalley.org
SUMMARY:Worship at SaddleBrooke
DESCRIPTION:Worship Online Here\n\n\n\nOnline Bulletin Here
URL:https://www.orovalley.org/event/worship-at-saddlebrooke/2027-07-11/
LOCATION:SaddleBrooke\, SaddleBrooke HOA2 Clubhouse\, Tucson\, Arizona\, 85739
CATEGORIES:Worship
ATTACH;FMTTYPE=image/jpeg:https://www.orovalley.org/wp-content/uploads/2023/08/sb-worship-pic_3.jpg
END:VEVENT
BEGIN:VEVENT
DTSTART;TZID=UTC:20270713T130000
DTEND;TZID=UTC:20270713T160000
DTSTAMP:20260423T021601
CREATED:20260210T184404Z
LAST-MODIFIED:20260210T202351Z
UID:10006889-1815483600-1815494400@www.orovalley.org
SUMMARY:Art by Heart Glass Classes
DESCRIPTION:Art by Heart Studio
URL:https://www.orovalley.org/event/art-by-heart-glass-classes/2027-07-13/
END:VEVENT
BEGIN:VEVENT
DTSTART;TZID=UTC:20270713T183000
DTEND;TZID=UTC:20270713T203000
DTSTAMP:20260423T021601
CREATED:20251111T170454Z
LAST-MODIFIED:20251111T170509Z
UID:10003800-1815503400-1815510600@www.orovalley.org
SUMMARY:Resurrection Card Players
DESCRIPTION:RLC Card Players meets every second and fourth Tuesday of the month in the Music Room. No reservation necessary. Please bring a snack to share and your own beverage. We play a variety of card games and we’re happy to teach you if you don’t know how to play. Everyone is welcome.
URL:https://www.orovalley.org/event/resurrection-card-players-5/2027-07-13/
END:VEVENT
BEGIN:VEVENT
DTSTART;TZID=UTC:20270714T150000
DTEND;TZID=UTC:20270714T160000
DTSTAMP:20260423T021601
CREATED:20260415T170108Z
LAST-MODIFIED:20260415T170119Z
UID:10004580-1815577200-1815580800@www.orovalley.org
SUMMARY:Scripture & Salsa
DESCRIPTION:You are invited to join Pastor Carol every Wednesday from 3:00 – 4:00 PM at Mi Tierra Mexican Restaurant in Catalina starting January 8th for an informal discussion of the Bible texts for the upcoming weekend’s worship. No registration is required and there is no long-term commitment. Just grab your Bible and drop by.
URL:https://www.orovalley.org/event/scripture-salsa-3/2027-07-14/
END:VEVENT
BEGIN:VEVENT
DTSTART;TZID=UTC:20270715T130000
DTEND;TZID=UTC:20270715T160000
DTSTAMP:20260423T021601
CREATED:20241213T002356Z
LAST-MODIFIED:20241213T002359Z
UID:10004182-1815656400-1815667200@www.orovalley.org
SUMMARY:Matching Dragons Mah Jongg
DESCRIPTION:Do you play the game of (American) Mah Jongg and have been looking for a group to play with? Join us on Thursday afternoons 1:00-4:00 PM in Luther’s Lair in the Outreach Center. These are friendly games. We do NOT play for money but we ALWAYS have a good time. This group is for those who already know how to play the game. However\, anyone is invited to come observe to see if they would like to learn to play the game. Questions? Contact Jackie Verdick at jackieverdick@gmail.com or 612-554-0111.
URL:https://www.orovalley.org/event/matching-dragons-mah-jongg/2027-07-15/
END:VEVENT
END:VCALENDAR