BEGIN:VCALENDAR
VERSION:2.0
PRODID:-//Resurrection Lutheran Church - ECPv6.15.20//NONSGML v1.0//EN
CALSCALE:GREGORIAN
METHOD:PUBLISH
X-ORIGINAL-URL:https://www.orovalley.org
X-WR-CALDESC:Events for Resurrection Lutheran Church
REFRESH-INTERVAL;VALUE=DURATION:PT1H
X-Robots-Tag:noindex
X-PUBLISHED-TTL:PT1H
BEGIN:VTIMEZONE
TZID:UTC
BEGIN:STANDARD
TZOFFSETFROM:+0000
TZOFFSETTO:+0000
TZNAME:UTC
DTSTART:20260101T000000
END:STANDARD
END:VTIMEZONE
BEGIN:VEVENT
DTSTART;TZID=UTC:20270706T130000
DTEND;TZID=UTC:20270706T160000
DTSTAMP:20260423T032319
CREATED:20260210T184404Z
LAST-MODIFIED:20260210T202351Z
UID:10006888-1814878800-1814889600@www.orovalley.org
SUMMARY:Art by Heart Glass Classes
DESCRIPTION:Art by Heart Studio
URL:https://www.orovalley.org/event/art-by-heart-glass-classes/2027-07-06/
END:VEVENT
BEGIN:VEVENT
DTSTART;TZID=UTC:20270707T150000
DTEND;TZID=UTC:20270707T160000
DTSTAMP:20260423T032319
CREATED:20260415T170108Z
LAST-MODIFIED:20260415T170119Z
UID:10004579-1814972400-1814976000@www.orovalley.org
SUMMARY:Scripture & Salsa
DESCRIPTION:You are invited to join Pastor Carol every Wednesday from 3:00 – 4:00 PM at Mi Tierra Mexican Restaurant in Catalina starting January 8th for an informal discussion of the Bible texts for the upcoming weekend’s worship. No registration is required and there is no long-term commitment. Just grab your Bible and drop by.
URL:https://www.orovalley.org/event/scripture-salsa-3/2027-07-07/
END:VEVENT
BEGIN:VEVENT
DTSTART;TZID=UTC:20270708T130000
DTEND;TZID=UTC:20270708T160000
DTSTAMP:20260423T032319
CREATED:20241213T002356Z
LAST-MODIFIED:20241213T002359Z
UID:10004181-1815051600-1815062400@www.orovalley.org
SUMMARY:Matching Dragons Mah Jongg
DESCRIPTION:Do you play the game of (American) Mah Jongg and have been looking for a group to play with? Join us on Thursday afternoons 1:00-4:00 PM in Luther’s Lair in the Outreach Center. These are friendly games. We do NOT play for money but we ALWAYS have a good time. This group is for those who already know how to play the game. However\, anyone is invited to come observe to see if they would like to learn to play the game. Questions? Contact Jackie Verdick at jackieverdick@gmail.com or 612-554-0111.
URL:https://www.orovalley.org/event/matching-dragons-mah-jongg/2027-07-08/
END:VEVENT
BEGIN:VEVENT
DTSTART;TZID=UTC:20270708T130000
DTEND;TZID=UTC:20270708T160000
DTSTAMP:20260423T032319
CREATED:20251107T191455Z
LAST-MODIFIED:20251107T191616Z
UID:10005831-1815051600-1815062400@www.orovalley.org
SUMMARY:Art by Heart Open Studio
DESCRIPTION:
URL:https://www.orovalley.org/event/art-by-heart-open-studio/2027-07-08/
END:VEVENT
BEGIN:VEVENT
DTSTART;TZID=UTC:20270710T170000
DTEND;TZID=UTC:20270710T180000
DTSTAMP:20260423T032319
CREATED:20240130T000623Z
LAST-MODIFIED:20240228T201059Z
UID:10002425-1815238800-1815242400@www.orovalley.org
SUMMARY:5:00 Worship
DESCRIPTION:Join us for worship!  \n\n\n\n\nWorship Online Here\n\n\n\nOnline Bulletins Here
URL:https://www.orovalley.org/event/500-worship-2/2027-07-10/
LOCATION:Oro Valley Sanctuary
CATEGORIES:Worship
ATTACH;FMTTYPE=image/jpeg:https://www.orovalley.org/wp-content/uploads/2023/08/CopyrightTaylorNoelPhotography2021-175-354e5a6-scaled.jpg
END:VEVENT
BEGIN:VEVENT
DTSTART;TZID=UTC:20270711T090000
DTEND;TZID=UTC:20270711T100000
DTSTAMP:20260423T032319
CREATED:20240106T184634Z
LAST-MODIFIED:20240228T200602Z
UID:10001807-1815296400-1815300000@www.orovalley.org
SUMMARY:Worship at SaddleBrooke
DESCRIPTION:Worship Online Here\n\n\n\nOnline Bulletin Here
URL:https://www.orovalley.org/event/worship-at-saddlebrooke/2027-07-11/
LOCATION:SaddleBrooke\, SaddleBrooke HOA2 Clubhouse\, Tucson\, Arizona\, 85739
CATEGORIES:Worship
ATTACH;FMTTYPE=image/jpeg:https://www.orovalley.org/wp-content/uploads/2023/08/sb-worship-pic_3.jpg
END:VEVENT
BEGIN:VEVENT
DTSTART;TZID=UTC:20270713T130000
DTEND;TZID=UTC:20270713T160000
DTSTAMP:20260423T032319
CREATED:20260210T184404Z
LAST-MODIFIED:20260210T202351Z
UID:10006889-1815483600-1815494400@www.orovalley.org
SUMMARY:Art by Heart Glass Classes
DESCRIPTION:Art by Heart Studio
URL:https://www.orovalley.org/event/art-by-heart-glass-classes/2027-07-13/
END:VEVENT
BEGIN:VEVENT
DTSTART;TZID=UTC:20270713T183000
DTEND;TZID=UTC:20270713T203000
DTSTAMP:20260423T032319
CREATED:20251111T170454Z
LAST-MODIFIED:20251111T170509Z
UID:10003800-1815503400-1815510600@www.orovalley.org
SUMMARY:Resurrection Card Players
DESCRIPTION:RLC Card Players meets every second and fourth Tuesday of the month in the Music Room. No reservation necessary. Please bring a snack to share and your own beverage. We play a variety of card games and we’re happy to teach you if you don’t know how to play. Everyone is welcome.
URL:https://www.orovalley.org/event/resurrection-card-players-5/2027-07-13/
END:VEVENT
BEGIN:VEVENT
DTSTART;TZID=UTC:20270714T150000
DTEND;TZID=UTC:20270714T160000
DTSTAMP:20260423T032319
CREATED:20260415T170108Z
LAST-MODIFIED:20260415T170119Z
UID:10004580-1815577200-1815580800@www.orovalley.org
SUMMARY:Scripture & Salsa
DESCRIPTION:You are invited to join Pastor Carol every Wednesday from 3:00 – 4:00 PM at Mi Tierra Mexican Restaurant in Catalina starting January 8th for an informal discussion of the Bible texts for the upcoming weekend’s worship. No registration is required and there is no long-term commitment. Just grab your Bible and drop by.
URL:https://www.orovalley.org/event/scripture-salsa-3/2027-07-14/
END:VEVENT
BEGIN:VEVENT
DTSTART;TZID=UTC:20270715T130000
DTEND;TZID=UTC:20270715T160000
DTSTAMP:20260423T032319
CREATED:20241213T002356Z
LAST-MODIFIED:20241213T002359Z
UID:10004182-1815656400-1815667200@www.orovalley.org
SUMMARY:Matching Dragons Mah Jongg
DESCRIPTION:Do you play the game of (American) Mah Jongg and have been looking for a group to play with? Join us on Thursday afternoons 1:00-4:00 PM in Luther’s Lair in the Outreach Center. These are friendly games. We do NOT play for money but we ALWAYS have a good time. This group is for those who already know how to play the game. However\, anyone is invited to come observe to see if they would like to learn to play the game. Questions? Contact Jackie Verdick at jackieverdick@gmail.com or 612-554-0111.
URL:https://www.orovalley.org/event/matching-dragons-mah-jongg/2027-07-15/
END:VEVENT
BEGIN:VEVENT
DTSTART;TZID=UTC:20270715T130000
DTEND;TZID=UTC:20270715T160000
DTSTAMP:20260423T032319
CREATED:20251107T191455Z
LAST-MODIFIED:20251107T191616Z
UID:10005832-1815656400-1815667200@www.orovalley.org
SUMMARY:Art by Heart Open Studio
DESCRIPTION:
URL:https://www.orovalley.org/event/art-by-heart-open-studio/2027-07-15/
END:VEVENT
BEGIN:VEVENT
DTSTART;TZID=UTC:20270717T090000
DTEND;TZID=UTC:20270717T110000
DTSTAMP:20260423T032319
CREATED:20260210T201725Z
LAST-MODIFIED:20260210T201733Z
UID:10005266-1815814800-1815822000@www.orovalley.org
SUMMARY:Faithful Living Fellowship
DESCRIPTION:Oro Valley \n\n\n\nWe meet for coffee\, snacks and fellowship\, followed by a film and small discussion groups. We will study the book “Embracing Trust” by Joanna Weaver. Sign up on the website under the Learn section.
URL:https://www.orovalley.org/event/faithful-living-fellowship-3/2027-07-17/
END:VEVENT
BEGIN:VEVENT
DTSTART;TZID=UTC:20270717T170000
DTEND;TZID=UTC:20270717T180000
DTSTAMP:20260423T032319
CREATED:20240130T000623Z
LAST-MODIFIED:20240228T201059Z
UID:10002426-1815843600-1815847200@www.orovalley.org
SUMMARY:5:00 Worship
DESCRIPTION:Join us for worship!  \n\n\n\n\nWorship Online Here\n\n\n\nOnline Bulletins Here
URL:https://www.orovalley.org/event/500-worship-2/2027-07-17/
LOCATION:Oro Valley Sanctuary
CATEGORIES:Worship
ATTACH;FMTTYPE=image/jpeg:https://www.orovalley.org/wp-content/uploads/2023/08/CopyrightTaylorNoelPhotography2021-175-354e5a6-scaled.jpg
END:VEVENT
BEGIN:VEVENT
DTSTART;TZID=UTC:20270718T090000
DTEND;TZID=UTC:20270718T100000
DTSTAMP:20260423T032319
CREATED:20240106T184634Z
LAST-MODIFIED:20240228T200602Z
UID:10001808-1815901200-1815904800@www.orovalley.org
SUMMARY:Worship at SaddleBrooke
DESCRIPTION:Worship Online Here\n\n\n\nOnline Bulletin Here
URL:https://www.orovalley.org/event/worship-at-saddlebrooke/2027-07-18/
LOCATION:SaddleBrooke\, SaddleBrooke HOA2 Clubhouse\, Tucson\, Arizona\, 85739
CATEGORIES:Worship
ATTACH;FMTTYPE=image/jpeg:https://www.orovalley.org/wp-content/uploads/2023/08/sb-worship-pic_3.jpg
END:VEVENT
BEGIN:VEVENT
DTSTART;TZID=UTC:20270720T130000
DTEND;TZID=UTC:20270720T160000
DTSTAMP:20260423T032319
CREATED:20260210T184404Z
LAST-MODIFIED:20260210T202351Z
UID:10006890-1816088400-1816099200@www.orovalley.org
SUMMARY:Art by Heart Glass Classes
DESCRIPTION:Art by Heart Studio
URL:https://www.orovalley.org/event/art-by-heart-glass-classes/2027-07-20/
END:VEVENT
BEGIN:VEVENT
DTSTART;TZID=UTC:20270721T103000
DTEND;TZID=UTC:20270721T120000
DTSTAMP:20260423T032319
CREATED:20240617T222009Z
LAST-MODIFIED:20240617T222059Z
UID:10003565-1816165800-1816171200@www.orovalley.org
SUMMARY:Parkinson's Support Group
DESCRIPTION:This support group provides encouragement from meeting with others who have Parkinson’s disease\, and for the care givers of those with Parkinson’s. The meetings provide an opportunity to discuss experiences and feelings and to share solutions to common problems.  Meets every 3rd Wednesday of the month in the High School Youth Room.
URL:https://www.orovalley.org/event/parkinsons-support-group-3/2027-07-21/
LOCATION:Youth Room
CATEGORIES:Congregational Care,Serve
ATTACH;FMTTYPE=image/jpeg:https://www.orovalley.org/wp-content/uploads/2024/06/Graphics-3.jpg
END:VEVENT
BEGIN:VEVENT
DTSTART;TZID=UTC:20270721T150000
DTEND;TZID=UTC:20270721T160000
DTSTAMP:20260423T032319
CREATED:20260415T170108Z
LAST-MODIFIED:20260415T170119Z
UID:10004581-1816182000-1816185600@www.orovalley.org
SUMMARY:Scripture & Salsa
DESCRIPTION:You are invited to join Pastor Carol every Wednesday from 3:00 – 4:00 PM at Mi Tierra Mexican Restaurant in Catalina starting January 8th for an informal discussion of the Bible texts for the upcoming weekend’s worship. No registration is required and there is no long-term commitment. Just grab your Bible and drop by.
URL:https://www.orovalley.org/event/scripture-salsa-3/2027-07-21/
END:VEVENT
BEGIN:VEVENT
DTSTART;TZID=UTC:20270722T130000
DTEND;TZID=UTC:20270722T160000
DTSTAMP:20260423T032319
CREATED:20241213T002356Z
LAST-MODIFIED:20241213T002359Z
UID:10004183-1816261200-1816272000@www.orovalley.org
SUMMARY:Matching Dragons Mah Jongg
DESCRIPTION:Do you play the game of (American) Mah Jongg and have been looking for a group to play with? Join us on Thursday afternoons 1:00-4:00 PM in Luther’s Lair in the Outreach Center. These are friendly games. We do NOT play for money but we ALWAYS have a good time. This group is for those who already know how to play the game. However\, anyone is invited to come observe to see if they would like to learn to play the game. Questions? Contact Jackie Verdick at jackieverdick@gmail.com or 612-554-0111.
URL:https://www.orovalley.org/event/matching-dragons-mah-jongg/2027-07-22/
END:VEVENT
BEGIN:VEVENT
DTSTART;TZID=UTC:20270722T130000
DTEND;TZID=UTC:20270722T160000
DTSTAMP:20260423T032319
CREATED:20251107T191455Z
LAST-MODIFIED:20251107T191616Z
UID:10005833-1816261200-1816272000@www.orovalley.org
SUMMARY:Art by Heart Open Studio
DESCRIPTION:
URL:https://www.orovalley.org/event/art-by-heart-open-studio/2027-07-22/
END:VEVENT
BEGIN:VEVENT
DTSTART;TZID=UTC:20270724T170000
DTEND;TZID=UTC:20270724T180000
DTSTAMP:20260423T032319
CREATED:20240130T000623Z
LAST-MODIFIED:20240228T201059Z
UID:10002427-1816448400-1816452000@www.orovalley.org
SUMMARY:5:00 Worship
DESCRIPTION:Join us for worship!  \n\n\n\n\nWorship Online Here\n\n\n\nOnline Bulletins Here
URL:https://www.orovalley.org/event/500-worship-2/2027-07-24/
LOCATION:Oro Valley Sanctuary
CATEGORIES:Worship
ATTACH;FMTTYPE=image/jpeg:https://www.orovalley.org/wp-content/uploads/2023/08/CopyrightTaylorNoelPhotography2021-175-354e5a6-scaled.jpg
END:VEVENT
BEGIN:VEVENT
DTSTART;TZID=UTC:20270725T090000
DTEND;TZID=UTC:20270725T100000
DTSTAMP:20260423T032319
CREATED:20240106T184634Z
LAST-MODIFIED:20240228T200602Z
UID:10001809-1816506000-1816509600@www.orovalley.org
SUMMARY:Worship at SaddleBrooke
DESCRIPTION:Worship Online Here\n\n\n\nOnline Bulletin Here
URL:https://www.orovalley.org/event/worship-at-saddlebrooke/2027-07-25/
LOCATION:SaddleBrooke\, SaddleBrooke HOA2 Clubhouse\, Tucson\, Arizona\, 85739
CATEGORIES:Worship
ATTACH;FMTTYPE=image/jpeg:https://www.orovalley.org/wp-content/uploads/2023/08/sb-worship-pic_3.jpg
END:VEVENT
BEGIN:VEVENT
DTSTART;TZID=UTC:20270727T130000
DTEND;TZID=UTC:20270727T160000
DTSTAMP:20260423T032319
CREATED:20260210T184404Z
LAST-MODIFIED:20260210T202351Z
UID:10006891-1816693200-1816704000@www.orovalley.org
SUMMARY:Art by Heart Glass Classes
DESCRIPTION:Art by Heart Studio
URL:https://www.orovalley.org/event/art-by-heart-glass-classes/2027-07-27/
END:VEVENT
BEGIN:VEVENT
DTSTART;TZID=UTC:20270727T183000
DTEND;TZID=UTC:20270727T203000
DTSTAMP:20260423T032319
CREATED:20240910T192133Z
LAST-MODIFIED:20240910T192135Z
UID:10003860-1816713000-1816720200@www.orovalley.org
SUMMARY:Resurrection Card Players
DESCRIPTION:RLC Card Players meets every second and fourth Tuesday of the month. No reservation necessary. Please bring a snack to share and your own beverage. We play a variety of card games and we’re happy to teach you if you don’t know how to play. Everyone is welcome.
URL:https://www.orovalley.org/event/resurrection-card-players-2/2027-07-27/
LOCATION:Luther’s Lair
END:VEVENT
BEGIN:VEVENT
DTSTART;TZID=UTC:20270728T150000
DTEND;TZID=UTC:20270728T160000
DTSTAMP:20260423T032319
CREATED:20260415T170108Z
LAST-MODIFIED:20260415T170119Z
UID:10004582-1816786800-1816790400@www.orovalley.org
SUMMARY:Scripture & Salsa
DESCRIPTION:You are invited to join Pastor Carol every Wednesday from 3:00 – 4:00 PM at Mi Tierra Mexican Restaurant in Catalina starting January 8th for an informal discussion of the Bible texts for the upcoming weekend’s worship. No registration is required and there is no long-term commitment. Just grab your Bible and drop by.
URL:https://www.orovalley.org/event/scripture-salsa-3/2027-07-28/
END:VEVENT
BEGIN:VEVENT
DTSTART;TZID=UTC:20270729T130000
DTEND;TZID=UTC:20270729T160000
DTSTAMP:20260423T032319
CREATED:20241213T002356Z
LAST-MODIFIED:20241213T002359Z
UID:10004184-1816866000-1816876800@www.orovalley.org
SUMMARY:Matching Dragons Mah Jongg
DESCRIPTION:Do you play the game of (American) Mah Jongg and have been looking for a group to play with? Join us on Thursday afternoons 1:00-4:00 PM in Luther’s Lair in the Outreach Center. These are friendly games. We do NOT play for money but we ALWAYS have a good time. This group is for those who already know how to play the game. However\, anyone is invited to come observe to see if they would like to learn to play the game. Questions? Contact Jackie Verdick at jackieverdick@gmail.com or 612-554-0111.
URL:https://www.orovalley.org/event/matching-dragons-mah-jongg/2027-07-29/
END:VEVENT
BEGIN:VEVENT
DTSTART;TZID=UTC:20270729T130000
DTEND;TZID=UTC:20270729T160000
DTSTAMP:20260423T032319
CREATED:20251107T191455Z
LAST-MODIFIED:20251107T191616Z
UID:10005834-1816866000-1816876800@www.orovalley.org
SUMMARY:Art by Heart Open Studio
DESCRIPTION:
URL:https://www.orovalley.org/event/art-by-heart-open-studio/2027-07-29/
END:VEVENT
BEGIN:VEVENT
DTSTART;TZID=UTC:20270731T170000
DTEND;TZID=UTC:20270731T180000
DTSTAMP:20260423T032319
CREATED:20240130T000623Z
LAST-MODIFIED:20240228T201059Z
UID:10002428-1817053200-1817056800@www.orovalley.org
SUMMARY:5:00 Worship
DESCRIPTION:Join us for worship!  \n\n\n\n\nWorship Online Here\n\n\n\nOnline Bulletins Here
URL:https://www.orovalley.org/event/500-worship-2/2027-07-31/
LOCATION:Oro Valley Sanctuary
CATEGORIES:Worship
ATTACH;FMTTYPE=image/jpeg:https://www.orovalley.org/wp-content/uploads/2023/08/CopyrightTaylorNoelPhotography2021-175-354e5a6-scaled.jpg
END:VEVENT
BEGIN:VEVENT
DTSTART;TZID=UTC:20270801T090000
DTEND;TZID=UTC:20270801T100000
DTSTAMP:20260423T032319
CREATED:20240106T184634Z
LAST-MODIFIED:20240228T200602Z
UID:10001810-1817110800-1817114400@www.orovalley.org
SUMMARY:Worship at SaddleBrooke
DESCRIPTION:Worship Online Here\n\n\n\nOnline Bulletin Here
URL:https://www.orovalley.org/event/worship-at-saddlebrooke/2027-08-01/
LOCATION:SaddleBrooke\, SaddleBrooke HOA2 Clubhouse\, Tucson\, Arizona\, 85739
CATEGORIES:Worship
ATTACH;FMTTYPE=image/jpeg:https://www.orovalley.org/wp-content/uploads/2023/08/sb-worship-pic_3.jpg
END:VEVENT
BEGIN:VEVENT
DTSTART;TZID=UTC:20270803T130000
DTEND;TZID=UTC:20270803T160000
DTSTAMP:20260423T032319
CREATED:20260210T184404Z
LAST-MODIFIED:20260210T202351Z
UID:10006892-1817298000-1817308800@www.orovalley.org
SUMMARY:Art by Heart Glass Classes
DESCRIPTION:Art by Heart Studio
URL:https://www.orovalley.org/event/art-by-heart-glass-classes/2027-08-03/
END:VEVENT
BEGIN:VEVENT
DTSTART;TZID=UTC:20270804T150000
DTEND;TZID=UTC:20270804T160000
DTSTAMP:20260423T032319
CREATED:20260415T170108Z
LAST-MODIFIED:20260415T170119Z
UID:10004583-1817391600-1817395200@www.orovalley.org
SUMMARY:Scripture & Salsa
DESCRIPTION:You are invited to join Pastor Carol every Wednesday from 3:00 – 4:00 PM at Mi Tierra Mexican Restaurant in Catalina starting January 8th for an informal discussion of the Bible texts for the upcoming weekend’s worship. No registration is required and there is no long-term commitment. Just grab your Bible and drop by.
URL:https://www.orovalley.org/event/scripture-salsa-3/2027-08-04/
END:VEVENT
END:VCALENDAR