BEGIN:VCALENDAR
VERSION:2.0
PRODID:-//Resurrection Lutheran Church - ECPv6.15.20//NONSGML v1.0//EN
CALSCALE:GREGORIAN
METHOD:PUBLISH
X-ORIGINAL-URL:https://www.orovalley.org
X-WR-CALDESC:Events for Resurrection Lutheran Church
REFRESH-INTERVAL;VALUE=DURATION:PT1H
X-Robots-Tag:noindex
X-PUBLISHED-TTL:PT1H
BEGIN:VTIMEZONE
TZID:UTC
BEGIN:STANDARD
TZOFFSETFROM:+0000
TZOFFSETTO:+0000
TZNAME:UTC
DTSTART:20270101T000000
END:STANDARD
END:VTIMEZONE
BEGIN:VEVENT
DTSTART;TZID=UTC:20281128T183000
DTEND;TZID=UTC:20281128T203000
DTSTAMP:20260424T155644
CREATED:20240910T192133Z
LAST-MODIFIED:20240910T192135Z
UID:10003876-1859049000-1859056200@www.orovalley.org
SUMMARY:Resurrection Card Players
DESCRIPTION:RLC Card Players meets every second and fourth Tuesday of the month. No reservation necessary. Please bring a snack to share and your own beverage. We play a variety of card games and we’re happy to teach you if you don’t know how to play. Everyone is welcome.
URL:https://www.orovalley.org/event/resurrection-card-players-2/2028-11-28/
LOCATION:Luther’s Lair
END:VEVENT
BEGIN:VEVENT
DTSTART;TZID=UTC:20281129T150000
DTEND;TZID=UTC:20281129T160000
DTSTAMP:20260424T155644
CREATED:20260415T170108Z
LAST-MODIFIED:20260415T170119Z
UID:10004652-1859122800-1859126400@www.orovalley.org
SUMMARY:Scripture & Salsa
DESCRIPTION:You are invited to join Pastor Carol every Wednesday from 3:00 – 4:00 PM at Mi Tierra Mexican Restaurant in Catalina starting January 8th for an informal discussion of the Bible texts for the upcoming weekend’s worship. No registration is required and there is no long-term commitment. Just grab your Bible and drop by.
URL:https://www.orovalley.org/event/scripture-salsa-3/2028-11-29/
END:VEVENT
BEGIN:VEVENT
DTSTART;TZID=UTC:20281130T130000
DTEND;TZID=UTC:20281130T160000
DTSTAMP:20260424T155644
CREATED:20241213T002356Z
LAST-MODIFIED:20241213T002359Z
UID:10004254-1859202000-1859212800@www.orovalley.org
SUMMARY:Matching Dragons Mah Jongg
DESCRIPTION:Do you play the game of (American) Mah Jongg and have been looking for a group to play with? Join us on Thursday afternoons 1:00-4:00 PM in Luther’s Lair in the Outreach Center. These are friendly games. We do NOT play for money but we ALWAYS have a good time. This group is for those who already know how to play the game. However\, anyone is invited to come observe to see if they would like to learn to play the game. Questions? Contact Jackie Verdick at jackieverdick@gmail.com or 612-554-0111.
URL:https://www.orovalley.org/event/matching-dragons-mah-jongg/2028-11-30/
END:VEVENT
BEGIN:VEVENT
DTSTART;TZID=UTC:20281130T130000
DTEND;TZID=UTC:20281130T160000
DTSTAMP:20260424T155644
CREATED:20251107T191455Z
LAST-MODIFIED:20251107T191616Z
UID:10005904-1859202000-1859212800@www.orovalley.org
SUMMARY:Art by Heart Open Studio
DESCRIPTION:
URL:https://www.orovalley.org/event/art-by-heart-open-studio/2028-11-30/
END:VEVENT
BEGIN:VEVENT
DTSTART;TZID=UTC:20281202T170000
DTEND;TZID=UTC:20281202T180000
DTSTAMP:20260424T155644
CREATED:20240130T000623Z
LAST-MODIFIED:20240228T201059Z
UID:10002498-1859389200-1859392800@www.orovalley.org
SUMMARY:5:00 Worship
DESCRIPTION:Join us for worship!  \n\n\n\n\nWorship Online Here\n\n\n\nOnline Bulletins Here
URL:https://www.orovalley.org/event/500-worship-2/2028-12-02/
LOCATION:Oro Valley Sanctuary
CATEGORIES:Worship
ATTACH;FMTTYPE=image/jpeg:https://www.orovalley.org/wp-content/uploads/2023/08/CopyrightTaylorNoelPhotography2021-175-354e5a6-scaled.jpg
END:VEVENT
BEGIN:VEVENT
DTSTART;TZID=UTC:20281203T090000
DTEND;TZID=UTC:20281203T100000
DTSTAMP:20260424T155644
CREATED:20240106T184634Z
LAST-MODIFIED:20240228T200602Z
UID:10001880-1859446800-1859450400@www.orovalley.org
SUMMARY:Worship at SaddleBrooke
DESCRIPTION:Worship Online Here\n\n\n\nOnline Bulletin Here
URL:https://www.orovalley.org/event/worship-at-saddlebrooke/2028-12-03/
LOCATION:SaddleBrooke\, SaddleBrooke HOA2 Clubhouse\, Tucson\, Arizona\, 85739
CATEGORIES:Worship
ATTACH;FMTTYPE=image/jpeg:https://www.orovalley.org/wp-content/uploads/2023/08/sb-worship-pic_3.jpg
END:VEVENT
BEGIN:VEVENT
DTSTART;TZID=UTC:20281205T130000
DTEND;TZID=UTC:20281205T160000
DTSTAMP:20260424T155644
CREATED:20260210T184404Z
LAST-MODIFIED:20260210T202351Z
UID:10006962-1859634000-1859644800@www.orovalley.org
SUMMARY:Art by Heart Glass Classes
DESCRIPTION:Art by Heart Studio
URL:https://www.orovalley.org/event/art-by-heart-glass-classes/2028-12-05/
END:VEVENT
BEGIN:VEVENT
DTSTART;TZID=UTC:20281206T150000
DTEND;TZID=UTC:20281206T160000
DTSTAMP:20260424T155644
CREATED:20260415T170108Z
LAST-MODIFIED:20260415T170119Z
UID:10004653-1859727600-1859731200@www.orovalley.org
SUMMARY:Scripture & Salsa
DESCRIPTION:You are invited to join Pastor Carol every Wednesday from 3:00 – 4:00 PM at Mi Tierra Mexican Restaurant in Catalina starting January 8th for an informal discussion of the Bible texts for the upcoming weekend’s worship. No registration is required and there is no long-term commitment. Just grab your Bible and drop by.
URL:https://www.orovalley.org/event/scripture-salsa-3/2028-12-06/
END:VEVENT
BEGIN:VEVENT
DTSTART;TZID=UTC:20281207T130000
DTEND;TZID=UTC:20281207T160000
DTSTAMP:20260424T155644
CREATED:20241213T002356Z
LAST-MODIFIED:20241213T002359Z
UID:10004255-1859806800-1859817600@www.orovalley.org
SUMMARY:Matching Dragons Mah Jongg
DESCRIPTION:Do you play the game of (American) Mah Jongg and have been looking for a group to play with? Join us on Thursday afternoons 1:00-4:00 PM in Luther’s Lair in the Outreach Center. These are friendly games. We do NOT play for money but we ALWAYS have a good time. This group is for those who already know how to play the game. However\, anyone is invited to come observe to see if they would like to learn to play the game. Questions? Contact Jackie Verdick at jackieverdick@gmail.com or 612-554-0111.
URL:https://www.orovalley.org/event/matching-dragons-mah-jongg/2028-12-07/
END:VEVENT
BEGIN:VEVENT
DTSTART;TZID=UTC:20281207T130000
DTEND;TZID=UTC:20281207T160000
DTSTAMP:20260424T155644
CREATED:20251107T191455Z
LAST-MODIFIED:20251107T191616Z
UID:10005905-1859806800-1859817600@www.orovalley.org
SUMMARY:Art by Heart Open Studio
DESCRIPTION:
URL:https://www.orovalley.org/event/art-by-heart-open-studio/2028-12-07/
END:VEVENT
BEGIN:VEVENT
DTSTART;TZID=UTC:20281209T080000
DTEND;TZID=UTC:20281209T100000
DTSTAMP:20260424T155644
CREATED:20260409T172217Z
LAST-MODIFIED:20260409T172226Z
UID:10008313-1859961600-1859968800@www.orovalley.org
SUMMARY:Men's Bible Study
DESCRIPTION:Uses the Serendipity Bible\, copies are available. All men of the church are welcome to attend. Meets in Luther’s Lair.
URL:https://www.orovalley.org/event/mens-bible-study-13/2028-12-09/
END:VEVENT
BEGIN:VEVENT
DTSTART;TZID=UTC:20281209T170000
DTEND;TZID=UTC:20281209T180000
DTSTAMP:20260424T155644
CREATED:20240130T000623Z
LAST-MODIFIED:20240228T201059Z
UID:10002499-1859994000-1859997600@www.orovalley.org
SUMMARY:5:00 Worship
DESCRIPTION:Join us for worship!  \n\n\n\n\nWorship Online Here\n\n\n\nOnline Bulletins Here
URL:https://www.orovalley.org/event/500-worship-2/2028-12-09/
LOCATION:Oro Valley Sanctuary
CATEGORIES:Worship
ATTACH;FMTTYPE=image/jpeg:https://www.orovalley.org/wp-content/uploads/2023/08/CopyrightTaylorNoelPhotography2021-175-354e5a6-scaled.jpg
END:VEVENT
BEGIN:VEVENT
DTSTART;TZID=UTC:20281210T090000
DTEND;TZID=UTC:20281210T100000
DTSTAMP:20260424T155644
CREATED:20240106T184634Z
LAST-MODIFIED:20240228T200602Z
UID:10001881-1860051600-1860055200@www.orovalley.org
SUMMARY:Worship at SaddleBrooke
DESCRIPTION:Worship Online Here\n\n\n\nOnline Bulletin Here
URL:https://www.orovalley.org/event/worship-at-saddlebrooke/2028-12-10/
LOCATION:SaddleBrooke\, SaddleBrooke HOA2 Clubhouse\, Tucson\, Arizona\, 85739
CATEGORIES:Worship
ATTACH;FMTTYPE=image/jpeg:https://www.orovalley.org/wp-content/uploads/2023/08/sb-worship-pic_3.jpg
END:VEVENT
BEGIN:VEVENT
DTSTART;TZID=UTC:20281212T130000
DTEND;TZID=UTC:20281212T160000
DTSTAMP:20260424T155644
CREATED:20260210T184404Z
LAST-MODIFIED:20260210T202351Z
UID:10006963-1860238800-1860249600@www.orovalley.org
SUMMARY:Art by Heart Glass Classes
DESCRIPTION:Art by Heart Studio
URL:https://www.orovalley.org/event/art-by-heart-glass-classes/2028-12-12/
END:VEVENT
BEGIN:VEVENT
DTSTART;TZID=UTC:20281212T183000
DTEND;TZID=UTC:20281212T203000
DTSTAMP:20260424T155644
CREATED:20251111T170454Z
LAST-MODIFIED:20251111T170509Z
UID:10003817-1860258600-1860265800@www.orovalley.org
SUMMARY:Resurrection Card Players
DESCRIPTION:RLC Card Players meets every second and fourth Tuesday of the month in the Music Room. No reservation necessary. Please bring a snack to share and your own beverage. We play a variety of card games and we’re happy to teach you if you don’t know how to play. Everyone is welcome.
URL:https://www.orovalley.org/event/resurrection-card-players-5/2028-12-12/
END:VEVENT
BEGIN:VEVENT
DTSTART;TZID=UTC:20281213T150000
DTEND;TZID=UTC:20281213T160000
DTSTAMP:20260424T155644
CREATED:20260415T170108Z
LAST-MODIFIED:20260415T170119Z
UID:10004654-1860332400-1860336000@www.orovalley.org
SUMMARY:Scripture & Salsa
DESCRIPTION:You are invited to join Pastor Carol every Wednesday from 3:00 – 4:00 PM at Mi Tierra Mexican Restaurant in Catalina starting January 8th for an informal discussion of the Bible texts for the upcoming weekend’s worship. No registration is required and there is no long-term commitment. Just grab your Bible and drop by.
URL:https://www.orovalley.org/event/scripture-salsa-3/2028-12-13/
END:VEVENT
BEGIN:VEVENT
DTSTART;TZID=UTC:20281214T130000
DTEND;TZID=UTC:20281214T160000
DTSTAMP:20260424T155644
CREATED:20241213T002356Z
LAST-MODIFIED:20241213T002359Z
UID:10004256-1860411600-1860422400@www.orovalley.org
SUMMARY:Matching Dragons Mah Jongg
DESCRIPTION:Do you play the game of (American) Mah Jongg and have been looking for a group to play with? Join us on Thursday afternoons 1:00-4:00 PM in Luther’s Lair in the Outreach Center. These are friendly games. We do NOT play for money but we ALWAYS have a good time. This group is for those who already know how to play the game. However\, anyone is invited to come observe to see if they would like to learn to play the game. Questions? Contact Jackie Verdick at jackieverdick@gmail.com or 612-554-0111.
URL:https://www.orovalley.org/event/matching-dragons-mah-jongg/2028-12-14/
END:VEVENT
BEGIN:VEVENT
DTSTART;TZID=UTC:20281214T130000
DTEND;TZID=UTC:20281214T160000
DTSTAMP:20260424T155644
CREATED:20251107T191455Z
LAST-MODIFIED:20251107T191616Z
UID:10005906-1860411600-1860422400@www.orovalley.org
SUMMARY:Art by Heart Open Studio
DESCRIPTION:
URL:https://www.orovalley.org/event/art-by-heart-open-studio/2028-12-14/
END:VEVENT
BEGIN:VEVENT
DTSTART;TZID=UTC:20281216T090000
DTEND;TZID=UTC:20281216T110000
DTSTAMP:20260424T155644
CREATED:20260210T201725Z
LAST-MODIFIED:20260210T201733Z
UID:10006795-1860570000-1860577200@www.orovalley.org
SUMMARY:Faithful Living Fellowship
DESCRIPTION:Oro Valley \n\n\n\nWe meet for coffee\, snacks and fellowship\, followed by a film and small discussion groups. We will study the book “Embracing Trust” by Joanna Weaver. Sign up on the website under the Learn section.
URL:https://www.orovalley.org/event/faithful-living-fellowship-3/2028-12-16/
END:VEVENT
BEGIN:VEVENT
DTSTART;TZID=UTC:20281216T170000
DTEND;TZID=UTC:20281216T180000
DTSTAMP:20260424T155644
CREATED:20240130T000623Z
LAST-MODIFIED:20240228T201059Z
UID:10002500-1860598800-1860602400@www.orovalley.org
SUMMARY:5:00 Worship
DESCRIPTION:Join us for worship!  \n\n\n\n\nWorship Online Here\n\n\n\nOnline Bulletins Here
URL:https://www.orovalley.org/event/500-worship-2/2028-12-16/
LOCATION:Oro Valley Sanctuary
CATEGORIES:Worship
ATTACH;FMTTYPE=image/jpeg:https://www.orovalley.org/wp-content/uploads/2023/08/CopyrightTaylorNoelPhotography2021-175-354e5a6-scaled.jpg
END:VEVENT
BEGIN:VEVENT
DTSTART;TZID=UTC:20281217T090000
DTEND;TZID=UTC:20281217T100000
DTSTAMP:20260424T155644
CREATED:20240106T184634Z
LAST-MODIFIED:20240228T200602Z
UID:10001882-1860656400-1860660000@www.orovalley.org
SUMMARY:Worship at SaddleBrooke
DESCRIPTION:Worship Online Here\n\n\n\nOnline Bulletin Here
URL:https://www.orovalley.org/event/worship-at-saddlebrooke/2028-12-17/
LOCATION:SaddleBrooke\, SaddleBrooke HOA2 Clubhouse\, Tucson\, Arizona\, 85739
CATEGORIES:Worship
ATTACH;FMTTYPE=image/jpeg:https://www.orovalley.org/wp-content/uploads/2023/08/sb-worship-pic_3.jpg
END:VEVENT
BEGIN:VEVENT
DTSTART;TZID=UTC:20281219T130000
DTEND;TZID=UTC:20281219T160000
DTSTAMP:20260424T155644
CREATED:20260210T184404Z
LAST-MODIFIED:20260210T202351Z
UID:10006964-1860843600-1860854400@www.orovalley.org
SUMMARY:Art by Heart Glass Classes
DESCRIPTION:Art by Heart Studio
URL:https://www.orovalley.org/event/art-by-heart-glass-classes/2028-12-19/
END:VEVENT
BEGIN:VEVENT
DTSTART;TZID=UTC:20281220T103000
DTEND;TZID=UTC:20281220T120000
DTSTAMP:20260424T155644
CREATED:20240617T222009Z
LAST-MODIFIED:20240617T222059Z
UID:10003582-1860921000-1860926400@www.orovalley.org
SUMMARY:Parkinson's Support Group
DESCRIPTION:This support group provides encouragement from meeting with others who have Parkinson’s disease\, and for the care givers of those with Parkinson’s. The meetings provide an opportunity to discuss experiences and feelings and to share solutions to common problems.  Meets every 3rd Wednesday of the month in the High School Youth Room.
URL:https://www.orovalley.org/event/parkinsons-support-group-3/2028-12-20/
LOCATION:Youth Room
CATEGORIES:Congregational Care,Serve
ATTACH;FMTTYPE=image/jpeg:https://www.orovalley.org/wp-content/uploads/2024/06/Graphics-3.jpg
END:VEVENT
BEGIN:VEVENT
DTSTART;TZID=UTC:20281220T150000
DTEND;TZID=UTC:20281220T160000
DTSTAMP:20260424T155644
CREATED:20260415T170108Z
LAST-MODIFIED:20260415T170119Z
UID:10004655-1860937200-1860940800@www.orovalley.org
SUMMARY:Scripture & Salsa
DESCRIPTION:You are invited to join Pastor Carol every Wednesday from 3:00 – 4:00 PM at Mi Tierra Mexican Restaurant in Catalina starting January 8th for an informal discussion of the Bible texts for the upcoming weekend’s worship. No registration is required and there is no long-term commitment. Just grab your Bible and drop by.
URL:https://www.orovalley.org/event/scripture-salsa-3/2028-12-20/
END:VEVENT
BEGIN:VEVENT
DTSTART;TZID=UTC:20281221T130000
DTEND;TZID=UTC:20281221T160000
DTSTAMP:20260424T155644
CREATED:20241213T002356Z
LAST-MODIFIED:20241213T002359Z
UID:10004257-1861016400-1861027200@www.orovalley.org
SUMMARY:Matching Dragons Mah Jongg
DESCRIPTION:Do you play the game of (American) Mah Jongg and have been looking for a group to play with? Join us on Thursday afternoons 1:00-4:00 PM in Luther’s Lair in the Outreach Center. These are friendly games. We do NOT play for money but we ALWAYS have a good time. This group is for those who already know how to play the game. However\, anyone is invited to come observe to see if they would like to learn to play the game. Questions? Contact Jackie Verdick at jackieverdick@gmail.com or 612-554-0111.
URL:https://www.orovalley.org/event/matching-dragons-mah-jongg/2028-12-21/
END:VEVENT
BEGIN:VEVENT
DTSTART;TZID=UTC:20281221T130000
DTEND;TZID=UTC:20281221T160000
DTSTAMP:20260424T155645
CREATED:20251107T191455Z
LAST-MODIFIED:20251107T191616Z
UID:10005907-1861016400-1861027200@www.orovalley.org
SUMMARY:Art by Heart Open Studio
DESCRIPTION:
URL:https://www.orovalley.org/event/art-by-heart-open-studio/2028-12-21/
END:VEVENT
BEGIN:VEVENT
DTSTART;TZID=UTC:20281223T170000
DTEND;TZID=UTC:20281223T180000
DTSTAMP:20260424T155645
CREATED:20240130T000623Z
LAST-MODIFIED:20240228T201059Z
UID:10002501-1861203600-1861207200@www.orovalley.org
SUMMARY:5:00 Worship
DESCRIPTION:Join us for worship!  \n\n\n\n\nWorship Online Here\n\n\n\nOnline Bulletins Here
URL:https://www.orovalley.org/event/500-worship-2/2028-12-23/
LOCATION:Oro Valley Sanctuary
CATEGORIES:Worship
ATTACH;FMTTYPE=image/jpeg:https://www.orovalley.org/wp-content/uploads/2023/08/CopyrightTaylorNoelPhotography2021-175-354e5a6-scaled.jpg
END:VEVENT
BEGIN:VEVENT
DTSTART;TZID=UTC:20281224T090000
DTEND;TZID=UTC:20281224T100000
DTSTAMP:20260424T155645
CREATED:20240106T184634Z
LAST-MODIFIED:20240228T200602Z
UID:10001883-1861261200-1861264800@www.orovalley.org
SUMMARY:Worship at SaddleBrooke
DESCRIPTION:Worship Online Here\n\n\n\nOnline Bulletin Here
URL:https://www.orovalley.org/event/worship-at-saddlebrooke/2028-12-24/
LOCATION:SaddleBrooke\, SaddleBrooke HOA2 Clubhouse\, Tucson\, Arizona\, 85739
CATEGORIES:Worship
ATTACH;FMTTYPE=image/jpeg:https://www.orovalley.org/wp-content/uploads/2023/08/sb-worship-pic_3.jpg
END:VEVENT
BEGIN:VEVENT
DTSTART;TZID=UTC:20281226T130000
DTEND;TZID=UTC:20281226T160000
DTSTAMP:20260424T155645
CREATED:20260210T184404Z
LAST-MODIFIED:20260210T202351Z
UID:10006965-1861448400-1861459200@www.orovalley.org
SUMMARY:Art by Heart Glass Classes
DESCRIPTION:Art by Heart Studio
URL:https://www.orovalley.org/event/art-by-heart-glass-classes/2028-12-26/
END:VEVENT
BEGIN:VEVENT
DTSTART;TZID=UTC:20281226T183000
DTEND;TZID=UTC:20281226T203000
DTSTAMP:20260424T155645
CREATED:20240910T192133Z
LAST-MODIFIED:20240910T192135Z
UID:10003877-1861468200-1861475400@www.orovalley.org
SUMMARY:Resurrection Card Players
DESCRIPTION:RLC Card Players meets every second and fourth Tuesday of the month. No reservation necessary. Please bring a snack to share and your own beverage. We play a variety of card games and we’re happy to teach you if you don’t know how to play. Everyone is welcome.
URL:https://www.orovalley.org/event/resurrection-card-players-2/2028-12-26/
LOCATION:Luther’s Lair
END:VEVENT
END:VCALENDAR