BEGIN:VCALENDAR
VERSION:2.0
PRODID:-//Resurrection Lutheran Church - ECPv6.15.17//NONSGML v1.0//EN
CALSCALE:GREGORIAN
METHOD:PUBLISH
X-WR-CALNAME:Resurrection Lutheran Church
X-ORIGINAL-URL:https://www.orovalley.org
X-WR-CALDESC:Events for Resurrection Lutheran Church
REFRESH-INTERVAL;VALUE=DURATION:PT1H
X-Robots-Tag:noindex
X-PUBLISHED-TTL:PT1H
BEGIN:VTIMEZONE
TZID:UTC
BEGIN:STANDARD
TZOFFSETFROM:+0000
TZOFFSETTO:+0000
TZNAME:UTC
DTSTART:20240101T000000
END:STANDARD
END:VTIMEZONE
BEGIN:VEVENT
DTSTART;TZID=UTC:20250303T183000
DTEND;TZID=UTC:20250303T200000
DTSTAMP:20260419T141442
CREATED:20241204T233634Z
LAST-MODIFIED:20241204T234546Z
UID:10003947-1741026600-1741032000@www.orovalley.org
SUMMARY:Book Discussion Group: "Simon Peter" by Adam Hamilton First
DESCRIPTION:Katie’s Quarters \n\n\n\nInterested in learning more about Simon Peter\, please join me as we walk through Adam Hamilton’s book\, “Simon Peter” together\, beginning in February\, 2025. We will meet on the first and third Mondays of February (2/3 and 2/17)\, March (3/3 and 3/17)\, and April (4/7 and 4/21) from 6:30 to 8:00 PM for this six-session study. If you are interested\, please contact Rob Hartmann (520-548-8564) or send me an email at rjhartmann70@msn.com
URL:https://www.orovalley.org/event/book-discussion-group-simon-peter-by-adam-hamilton-first/2025-03-03/
END:VEVENT
BEGIN:VEVENT
DTSTART;TZID=UTC:20250302T104500
DTEND;TZID=UTC:20250302T114500
DTSTAMP:20260419T141442
CREATED:20240513T203112Z
LAST-MODIFIED:20240513T203139Z
UID:10001359-1740912300-1740915900@www.orovalley.org
SUMMARY:10:45 Worship - Contemporary
DESCRIPTION:Sunday School\, Confirmation\, High School Sunday School \n\n\n\nChildcare Available \n\n\n\n\nWorship Online Here
URL:https://www.orovalley.org/event/1045-worship-contemporary-4/2025-03-02/
LOCATION:Oro Valley Sanctuary
CATEGORIES:Worship
ATTACH;FMTTYPE=image/jpeg:https://www.orovalley.org/wp-content/uploads/2023/11/CopyrightTaylorNoelPhotography2021-200-scaled.jpg
END:VEVENT
BEGIN:VEVENT
DTSTART;TZID=UTC:20250302T090000
DTEND;TZID=UTC:20250302T100000
DTSTAMP:20260419T141442
CREATED:20240106T184634Z
LAST-MODIFIED:20240228T200602Z
UID:10001684-1740906000-1740909600@www.orovalley.org
SUMMARY:Worship at SaddleBrooke
DESCRIPTION:Worship Online Here\n\n\n\nOnline Bulletin Here
URL:https://www.orovalley.org/event/worship-at-saddlebrooke/2025-03-02/
LOCATION:SaddleBrooke\, SaddleBrooke HOA2 Clubhouse\, Tucson\, Arizona\, 85739
CATEGORIES:Worship
ATTACH;FMTTYPE=image/jpeg:https://www.orovalley.org/wp-content/uploads/2023/08/sb-worship-pic_3.jpg
END:VEVENT
BEGIN:VEVENT
DTSTART;TZID=UTC:20250302T074500
DTEND;TZID=UTC:20250302T084500
DTSTAMP:20260419T141442
CREATED:20240513T202737Z
LAST-MODIFIED:20240513T202749Z
UID:10000066-1740901500-1740905100@www.orovalley.org
SUMMARY:7:45 Worship
DESCRIPTION:Traditional Worship. Music provided by Resurrection’s Chancel Choir \n\n\n\n\nWorship Online Here\n\n\n\n\n \n\n\n\n\nOnline Bulletins Here
URL:https://www.orovalley.org/event/745-worship-7/2025-03-02/
LOCATION:Oro Valley Sanctuary
CATEGORIES:Worship
ATTACH;FMTTYPE=image/jpeg:https://www.orovalley.org/wp-content/uploads/2023/12/CopyrightTaylorNoelPhotography2021-158-scaled.jpg
END:VEVENT
BEGIN:VEVENT
DTSTART;TZID=UTC:20250301T170000
DTEND;TZID=UTC:20250301T180000
DTSTAMP:20260419T141442
CREATED:20240130T000623Z
LAST-MODIFIED:20240228T201059Z
UID:10002302-1740848400-1740852000@www.orovalley.org
SUMMARY:5:00 Worship
DESCRIPTION:Join us for worship!  \n\n\n\n\nWorship Online Here\n\n\n\nOnline Bulletins Here
URL:https://www.orovalley.org/event/500-worship-2/2025-03-01/
LOCATION:Oro Valley Sanctuary
CATEGORIES:Worship
ATTACH;FMTTYPE=image/jpeg:https://www.orovalley.org/wp-content/uploads/2023/08/CopyrightTaylorNoelPhotography2021-175-354e5a6-scaled.jpg
END:VEVENT
BEGIN:VEVENT
DTSTART;TZID=UTC:20250301T090000
DTEND;TZID=UTC:20250301T110000
DTSTAMP:20260419T141442
CREATED:20241204T235925Z
LAST-MODIFIED:20241205T000850Z
UID:10003961-1740819600-1740826800@www.orovalley.org
SUMMARY:Women's Faithful Living Fellowship
DESCRIPTION:Join us for a 10-session study which meets every third Saturday from 9:00 AM – 11:00 AM for coffee\, snacks and fellowship\, followed by a film and small discussion groups. We will study the book “Having a Mary Heart in a Martha World: Finding Intimacy with God in the Business of Life” by Joanna Weaver. \n\n\n\nSign up on orovalley.org. Space is limited.
URL:https://www.orovalley.org/event/womens-faithful-living-fellowship-2/2025-03-01/
END:VEVENT
BEGIN:VEVENT
DTSTART;TZID=UTC:20250301T080000
DTEND;TZID=UTC:20250301T090000
DTSTAMP:20260419T141442
CREATED:20240808T201836Z
LAST-MODIFIED:20260210T201221Z
UID:10003639-1740816000-1740819600@www.orovalley.org
SUMMARY:Men's Bible Study
DESCRIPTION:Uses the Serendipity Bible\, copies are available. All men of the church are welcome to attend. Meets in Luther’s Lair.
URL:https://www.orovalley.org/event/mens-bible-study/2025-03-01/
END:VEVENT
BEGIN:VEVENT
DTSTART;TZID=UTC:20250301T073000
DTEND;TZID=UTC:20250301T093000
DTSTAMP:20260419T141442
CREATED:20241217T203648Z
LAST-MODIFIED:20241217T203716Z
UID:10002538-1740814200-1740821400@www.orovalley.org
SUMMARY:Men's Breakfast
DESCRIPTION:This group meets monthly\, October through May on the first Saturday of the month\, for breakfast\, socializing and learning. There is always a guest speaker. Catered breakfast is included with the $15 cost of admission. \n\n\n\nThis months speaker will be announced closer to the event date.  \n\n\n\nClick Here to RSVP
URL:https://www.orovalley.org/event/mens-breakfast-6/2025-03-01/
LOCATION:Outreach Center Gymnasium\, 11575 N 1st Ave\, Oro Valley\, AZ\, 85737\, United States
CATEGORIES:Men's Breakfast
ATTACH;FMTTYPE=image/jpeg:https://www.orovalley.org/wp-content/uploads/2023/12/27.jpg
END:VEVENT
BEGIN:VEVENT
DTSTART;TZID=UTC:20250227T130000
DTEND;TZID=UTC:20250227T160000
DTSTAMP:20260419T141442
CREATED:20241213T002356Z
LAST-MODIFIED:20241213T002359Z
UID:10004058-1740661200-1740672000@www.orovalley.org
SUMMARY:Matching Dragons Mah Jongg
DESCRIPTION:Do you play the game of (American) Mah Jongg and have been looking for a group to play with? Join us on Thursday afternoons 1:00-4:00 PM in Luther’s Lair in the Outreach Center. These are friendly games. We do NOT play for money but we ALWAYS have a good time. This group is for those who already know how to play the game. However\, anyone is invited to come observe to see if they would like to learn to play the game. Questions? Contact Jackie Verdick at jackieverdick@gmail.com or 612-554-0111.
URL:https://www.orovalley.org/event/matching-dragons-mah-jongg/2025-02-27/
END:VEVENT
BEGIN:VEVENT
DTSTART;TZID=UTC:20250226T150000
DTEND;TZID=UTC:20250226T160000
DTSTAMP:20260419T141442
CREATED:20250114T073956Z
LAST-MODIFIED:20250114T073958Z
UID:10004456-1740582000-1740585600@www.orovalley.org
SUMMARY:Scripture & Salsa
DESCRIPTION:You are invited to join Pastor Carol every Wednesday from 3:00 – 4:00 PM at Mi Tierra Mexican Restaurant in Catalina starting January 8th for an informal discussion of the Bible texts for the upcoming weekend’s worship. No registration is required and there is no long-term commitment. Just grab your Bible and drop by.
URL:https://www.orovalley.org/event/scripture-salsa/2025-02-26/
END:VEVENT
BEGIN:VEVENT
DTSTART;TZID=UTC:20250226T100000
DTEND;TZID=UTC:20250226T113000
DTSTAMP:20260419T141442
CREATED:20250114T072254Z
LAST-MODIFIED:20250114T072257Z
UID:10004444-1740564000-1740569400@www.orovalley.org
SUMMARY:Confronting Death:  A Christian Approach to the End of Life
DESCRIPTION:Oro Valley Sanctuary\, Five Weekly Sessions \n\n\n\nYou and I\, sooner or later\, are going to experience what comes to all people: we are going to experience dying. But there is a difference between us and the world. The world looks away from that fact and tries to hide it as much as possible\, but we\, as people of faith\, have the power and ability to look death straight in the eye and understand it. ~Walter Wangerin\, Jr. \n\n\n\nThroughout our lives we are confronted with death. We lose loved ones\, friends\, and colleagues and with each confrontation we experience grief\, pain\, and confusion. We also come face to face with our own mortality. How\, as Christians\, do we deal with the physical\, emotional\, practical\, and spiritual realities of death and dying? \n\n\n\nJoin us to explore this important topic\, facilitated by Pastor Carol\, in five weekly sessions beginning Wednesday\, January 29th from 10:00-11:30 AM in the Sanctuary of our Oro Valley campus. Sessions include Aging & Dying in Our Culture\, Approaching Death in the Faith of Jesus Christ\, Family Conversations & Advanced Directives\, Palliative Care and Hospice\, Final Arrangements (funeral\, estate planning)\, Helping Adults\, Teens\, and Children Deal with Grief.
URL:https://www.orovalley.org/event/confronting-death-a-christian-approach-to-the-end-of-life/2025-02-26/
END:VEVENT
BEGIN:VEVENT
DTSTART;TZID=UTC:20250226T100000
DTEND;TZID=UTC:20250226T113000
DTSTAMP:20260419T141442
CREATED:20241205T000220Z
LAST-MODIFIED:20250114T073511Z
UID:10003975-1740564000-1740569400@www.orovalley.org
SUMMARY:Coping With Grief
DESCRIPTION:Coping With Grief will start its next group on Wednesday\, January 15th at 10:00 AM in the Prayer Room. The group will meet weekly for 10 weeks for 1 1/2 hours sessions and is limited to six participants. \n\n\n\nGrieving the loss of a loved one can be one of the most profound experiences individuals encounter in their lives. Others who have undergone a significant loss can understand well the depth of pain that grief brings. Sharing that experience in a group with others who are going through the same process could provide encouragement and hope for healing. \n\n\n\nCoping With Grief welcomes everyone. To sign up for the next group\, please contact either of the leaders\, Arlyn Norris at acwlnorris@gmail.com\, 402-960-9044 or Pilar Norris at bipiho90@aol.com\, 973-874-3677.
URL:https://www.orovalley.org/event/coping-with-grief/2025-02-26/
END:VEVENT
BEGIN:VEVENT
DTSTART;TZID=UTC:20250225T183000
DTEND;TZID=UTC:20250225T203000
DTSTAMP:20260419T141442
CREATED:20240910T192133Z
LAST-MODIFIED:20240910T192135Z
UID:10003831-1740508200-1740515400@www.orovalley.org
SUMMARY:Resurrection Card Players
DESCRIPTION:RLC Card Players meets every second and fourth Tuesday of the month. No reservation necessary. Please bring a snack to share and your own beverage. We play a variety of card games and we’re happy to teach you if you don’t know how to play. Everyone is welcome.
URL:https://www.orovalley.org/event/resurrection-card-players-2/2025-02-25/
LOCATION:Luther’s Lair
END:VEVENT
BEGIN:VEVENT
DTSTART;TZID=UTC:20250223T104500
DTEND;TZID=UTC:20250223T114500
DTSTAMP:20260419T141442
CREATED:20240513T203112Z
LAST-MODIFIED:20240513T203139Z
UID:10001358-1740307500-1740311100@www.orovalley.org
SUMMARY:10:45 Worship - Contemporary
DESCRIPTION:Sunday School\, Confirmation\, High School Sunday School \n\n\n\nChildcare Available \n\n\n\n\nWorship Online Here
URL:https://www.orovalley.org/event/1045-worship-contemporary-4/2025-02-23/
LOCATION:Oro Valley Sanctuary
CATEGORIES:Worship
ATTACH;FMTTYPE=image/jpeg:https://www.orovalley.org/wp-content/uploads/2023/11/CopyrightTaylorNoelPhotography2021-200-scaled.jpg
END:VEVENT
BEGIN:VEVENT
DTSTART;TZID=UTC:20250223T090000
DTEND;TZID=UTC:20250223T100000
DTSTAMP:20260419T141442
CREATED:20240106T184634Z
LAST-MODIFIED:20240228T200602Z
UID:10001683-1740301200-1740304800@www.orovalley.org
SUMMARY:Worship at SaddleBrooke
DESCRIPTION:Worship Online Here\n\n\n\nOnline Bulletin Here
URL:https://www.orovalley.org/event/worship-at-saddlebrooke/2025-02-23/
LOCATION:SaddleBrooke\, SaddleBrooke HOA2 Clubhouse\, Tucson\, Arizona\, 85739
CATEGORIES:Worship
ATTACH;FMTTYPE=image/jpeg:https://www.orovalley.org/wp-content/uploads/2023/08/sb-worship-pic_3.jpg
END:VEVENT
BEGIN:VEVENT
DTSTART;TZID=UTC:20250223T074500
DTEND;TZID=UTC:20250223T084500
DTSTAMP:20260419T141442
CREATED:20240513T202737Z
LAST-MODIFIED:20240513T202749Z
UID:10000065-1740296700-1740300300@www.orovalley.org
SUMMARY:7:45 Worship
DESCRIPTION:Traditional Worship. Music provided by Resurrection’s Chancel Choir \n\n\n\n\nWorship Online Here\n\n\n\n\n \n\n\n\n\nOnline Bulletins Here
URL:https://www.orovalley.org/event/745-worship-7/2025-02-23/
LOCATION:Oro Valley Sanctuary
CATEGORIES:Worship
ATTACH;FMTTYPE=image/jpeg:https://www.orovalley.org/wp-content/uploads/2023/12/CopyrightTaylorNoelPhotography2021-158-scaled.jpg
END:VEVENT
BEGIN:VEVENT
DTSTART;TZID=UTC:20250222T170000
DTEND;TZID=UTC:20250222T180000
DTSTAMP:20260419T141442
CREATED:20240130T000623Z
LAST-MODIFIED:20240228T201059Z
UID:10002301-1740243600-1740247200@www.orovalley.org
SUMMARY:5:00 Worship
DESCRIPTION:Join us for worship!  \n\n\n\n\nWorship Online Here\n\n\n\nOnline Bulletins Here
URL:https://www.orovalley.org/event/500-worship-2/2025-02-22/
LOCATION:Oro Valley Sanctuary
CATEGORIES:Worship
ATTACH;FMTTYPE=image/jpeg:https://www.orovalley.org/wp-content/uploads/2023/08/CopyrightTaylorNoelPhotography2021-175-354e5a6-scaled.jpg
END:VEVENT
BEGIN:VEVENT
DTSTART;TZID=UTC:20250222T140000
DTEND;TZID=UTC:20250222T160000
DTSTAMP:20260419T141442
CREATED:20250114T071306Z
LAST-MODIFIED:20250114T071309Z
UID:10004436-1740232800-1740240000@www.orovalley.org
SUMMARY:2025 Open Organ Console Days
DESCRIPTION:Oro Valley SanctuaryCome learn more about the Pipe Organ with our Organist Alex Bennett. A short presentation and question and answer session will be followed by time for you to get on the bench and play! Alex will be there to assist you and guide you through how to operate the organ. Open to all ages and skill levels. No prior organ or piano skills necessary. Come learn about\, listen to\, and/or play this magnificent instrument!
URL:https://www.orovalley.org/event/2025-open-organ-console-days-2/2025-02-22/
END:VEVENT
BEGIN:VEVENT
DTSTART;TZID=UTC:20250222T080000
DTEND;TZID=UTC:20250222T080000
DTSTAMP:20260419T141442
CREATED:20250206T224817Z
LAST-MODIFIED:20250206T224821Z
UID:10004728-1740211200-1740211200@www.orovalley.org
SUMMARY:Desert Wanderers: Sabino Canyon Hike
DESCRIPTION:Departs from RLC. Driver donation is $5 with free entrance/parking using a National Parks Pass. Sign up with Elisabeth Wheeler\, hikerelisabeth@gmail.com.
URL:https://www.orovalley.org/event/desert-wanderers-sabino-canyon-hike/
END:VEVENT
BEGIN:VEVENT
DTSTART;TZID=UTC:20250221T113000
DTEND;TZID=UTC:20250221T133000
DTSTAMP:20260419T141442
CREATED:20250206T224646Z
LAST-MODIFIED:20250206T224650Z
UID:10004727-1740137400-1740144600@www.orovalley.org
SUMMARY:SaddleBrooke Soul Sisters
DESCRIPTION:All women are invited. You do not have to be a member of Resurrection SaddleBrooke to attend. We will sing\, pray and have fellowship together. Registration is required. Sign up and payment can be made after Sunday services at SaddleBrooke on February 2nd & 9th. The price of $24\, which includes lunch\, serving fees and tax. No sign up will be accepted after February 14th. Checks can be made to Ann Patterson\, questions 414-737-8542.
URL:https://www.orovalley.org/event/saddlebrooke-soul-sisters-3/
LOCATION:Agave Lounge\, SaddleBrooke HOA1
END:VEVENT
BEGIN:VEVENT
DTSTART;TZID=UTC:20250220T130000
DTEND;TZID=UTC:20250220T160000
DTSTAMP:20260419T141442
CREATED:20241213T002356Z
LAST-MODIFIED:20241213T002359Z
UID:10004057-1740056400-1740067200@www.orovalley.org
SUMMARY:Matching Dragons Mah Jongg
DESCRIPTION:Do you play the game of (American) Mah Jongg and have been looking for a group to play with? Join us on Thursday afternoons 1:00-4:00 PM in Luther’s Lair in the Outreach Center. These are friendly games. We do NOT play for money but we ALWAYS have a good time. This group is for those who already know how to play the game. However\, anyone is invited to come observe to see if they would like to learn to play the game. Questions? Contact Jackie Verdick at jackieverdick@gmail.com or 612-554-0111.
URL:https://www.orovalley.org/event/matching-dragons-mah-jongg/2025-02-20/
END:VEVENT
BEGIN:VEVENT
DTSTART;TZID=UTC:20250219T180000
DTEND;TZID=UTC:20250219T193000
DTSTAMP:20260419T141442
CREATED:20250206T224355Z
LAST-MODIFIED:20250206T224400Z
UID:10004725-1739988000-1739993400@www.orovalley.org
SUMMARY:Pilgrimage To Italy Meeting
DESCRIPTION:We have almost reached capacity for our Pilgrimage and it is time to have our first meeting. Elias will be joining us via Zoom to answer questions and give us details. You can attend in person at church or online via Zoom. We will record the meeting and make it available afterwards.
URL:https://www.orovalley.org/event/pilgrimage-to-italy-meeting/
LOCATION:Luther’s Lair
END:VEVENT
BEGIN:VEVENT
DTSTART;TZID=UTC:20250219T150000
DTEND;TZID=UTC:20250219T160000
DTSTAMP:20260419T141442
CREATED:20250114T073956Z
LAST-MODIFIED:20250114T073958Z
UID:10004455-1739977200-1739980800@www.orovalley.org
SUMMARY:Scripture & Salsa
DESCRIPTION:You are invited to join Pastor Carol every Wednesday from 3:00 – 4:00 PM at Mi Tierra Mexican Restaurant in Catalina starting January 8th for an informal discussion of the Bible texts for the upcoming weekend’s worship. No registration is required and there is no long-term commitment. Just grab your Bible and drop by.
URL:https://www.orovalley.org/event/scripture-salsa/2025-02-19/
END:VEVENT
BEGIN:VEVENT
DTSTART;TZID=UTC:20250219T103000
DTEND;TZID=UTC:20250219T120000
DTSTAMP:20260419T141442
CREATED:20240617T222009Z
LAST-MODIFIED:20240617T222059Z
UID:10003536-1739961000-1739966400@www.orovalley.org
SUMMARY:Parkinson's Support Group
DESCRIPTION:This support group provides encouragement from meeting with others who have Parkinson’s disease\, and for the care givers of those with Parkinson’s. The meetings provide an opportunity to discuss experiences and feelings and to share solutions to common problems.  Meets every 3rd Wednesday of the month in the High School Youth Room.
URL:https://www.orovalley.org/event/parkinsons-support-group-3/2025-02-19/
LOCATION:Youth Room
CATEGORIES:Congregational Care,Serve
ATTACH;FMTTYPE=image/jpeg:https://www.orovalley.org/wp-content/uploads/2024/06/Graphics-3.jpg
END:VEVENT
BEGIN:VEVENT
DTSTART;TZID=UTC:20250219T100000
DTEND;TZID=UTC:20250219T113000
DTSTAMP:20260419T141442
CREATED:20250114T072254Z
LAST-MODIFIED:20250114T072257Z
UID:10004443-1739959200-1739964600@www.orovalley.org
SUMMARY:Confronting Death:  A Christian Approach to the End of Life
DESCRIPTION:Oro Valley Sanctuary\, Five Weekly Sessions \n\n\n\nYou and I\, sooner or later\, are going to experience what comes to all people: we are going to experience dying. But there is a difference between us and the world. The world looks away from that fact and tries to hide it as much as possible\, but we\, as people of faith\, have the power and ability to look death straight in the eye and understand it. ~Walter Wangerin\, Jr. \n\n\n\nThroughout our lives we are confronted with death. We lose loved ones\, friends\, and colleagues and with each confrontation we experience grief\, pain\, and confusion. We also come face to face with our own mortality. How\, as Christians\, do we deal with the physical\, emotional\, practical\, and spiritual realities of death and dying? \n\n\n\nJoin us to explore this important topic\, facilitated by Pastor Carol\, in five weekly sessions beginning Wednesday\, January 29th from 10:00-11:30 AM in the Sanctuary of our Oro Valley campus. Sessions include Aging & Dying in Our Culture\, Approaching Death in the Faith of Jesus Christ\, Family Conversations & Advanced Directives\, Palliative Care and Hospice\, Final Arrangements (funeral\, estate planning)\, Helping Adults\, Teens\, and Children Deal with Grief.
URL:https://www.orovalley.org/event/confronting-death-a-christian-approach-to-the-end-of-life/2025-02-19/
END:VEVENT
BEGIN:VEVENT
DTSTART;TZID=UTC:20250219T100000
DTEND;TZID=UTC:20250219T113000
DTSTAMP:20260419T141442
CREATED:20241205T000220Z
LAST-MODIFIED:20250114T073511Z
UID:10003974-1739959200-1739964600@www.orovalley.org
SUMMARY:Coping With Grief
DESCRIPTION:Coping With Grief will start its next group on Wednesday\, January 15th at 10:00 AM in the Prayer Room. The group will meet weekly for 10 weeks for 1 1/2 hours sessions and is limited to six participants. \n\n\n\nGrieving the loss of a loved one can be one of the most profound experiences individuals encounter in their lives. Others who have undergone a significant loss can understand well the depth of pain that grief brings. Sharing that experience in a group with others who are going through the same process could provide encouragement and hope for healing. \n\n\n\nCoping With Grief welcomes everyone. To sign up for the next group\, please contact either of the leaders\, Arlyn Norris at acwlnorris@gmail.com\, 402-960-9044 or Pilar Norris at bipiho90@aol.com\, 973-874-3677.
URL:https://www.orovalley.org/event/coping-with-grief/2025-02-19/
END:VEVENT
BEGIN:VEVENT
DTSTART;TZID=UTC:20250218T080000
DTEND;TZID=UTC:20250218T133000
DTSTAMP:20260419T141442
CREATED:20250206T225619Z
LAST-MODIFIED:20250206T225624Z
UID:10004732-1739865600-1739885400@www.orovalley.org
SUMMARY:American Red Cross Blood Drive
DESCRIPTION:Give the gift of life\, donate today! Sign up online: https://www.redcrossblood.org/give.html/drive-results?zipSponsor=RESURRECTION
URL:https://www.orovalley.org/event/american-red-cross-blood-drive-4/
LOCATION:Katie’s Quarters
END:VEVENT
BEGIN:VEVENT
DTSTART;TZID=UTC:20250217T183000
DTEND;TZID=UTC:20250217T200000
DTSTAMP:20260419T141442
CREATED:20241204T233634Z
LAST-MODIFIED:20241204T234546Z
UID:10003946-1739817000-1739822400@www.orovalley.org
SUMMARY:Book Discussion Group: "Simon Peter" by Adam Hamilton First
DESCRIPTION:Katie’s Quarters \n\n\n\nInterested in learning more about Simon Peter\, please join me as we walk through Adam Hamilton’s book\, “Simon Peter” together\, beginning in February\, 2025. We will meet on the first and third Mondays of February (2/3 and 2/17)\, March (3/3 and 3/17)\, and April (4/7 and 4/21) from 6:30 to 8:00 PM for this six-session study. If you are interested\, please contact Rob Hartmann (520-548-8564) or send me an email at rjhartmann70@msn.com
URL:https://www.orovalley.org/event/book-discussion-group-simon-peter-by-adam-hamilton-first/2025-02-17/
END:VEVENT
BEGIN:VEVENT
DTSTART;TZID=UTC:20250216T150000
DTEND;TZID=UTC:20250216T163000
DTSTAMP:20260419T141442
CREATED:20250206T223634Z
LAST-MODIFIED:20250206T223637Z
UID:10004722-1739718000-1739723400@www.orovalley.org
SUMMARY:When I Was In Egypt
DESCRIPTION:Pastor Erin shares about her recent trip to Egypt. Come and see pictures\, learn about how the culture\, history and archeology of Egypt interface with the Bible.
URL:https://www.orovalley.org/event/when-i-was-in-egypt/
LOCATION:Katie’s Quarters
END:VEVENT
BEGIN:VEVENT
DTSTART;TZID=UTC:20250216T104500
DTEND;TZID=UTC:20250216T114500
DTSTAMP:20260419T141442
CREATED:20240513T203112Z
LAST-MODIFIED:20240513T203139Z
UID:10001357-1739702700-1739706300@www.orovalley.org
SUMMARY:10:45 Worship - Contemporary
DESCRIPTION:Sunday School\, Confirmation\, High School Sunday School \n\n\n\nChildcare Available \n\n\n\n\nWorship Online Here
URL:https://www.orovalley.org/event/1045-worship-contemporary-4/2025-02-16/
LOCATION:Oro Valley Sanctuary
CATEGORIES:Worship
ATTACH;FMTTYPE=image/jpeg:https://www.orovalley.org/wp-content/uploads/2023/11/CopyrightTaylorNoelPhotography2021-200-scaled.jpg
END:VEVENT
END:VCALENDAR