BEGIN:VCALENDAR
VERSION:2.0
PRODID:-//Resurrection Lutheran Church - ECPv6.15.20//NONSGML v1.0//EN
CALSCALE:GREGORIAN
METHOD:PUBLISH
X-WR-CALNAME:Resurrection Lutheran Church
X-ORIGINAL-URL:https://www.orovalley.org
X-WR-CALDESC:Events for Resurrection Lutheran Church
REFRESH-INTERVAL;VALUE=DURATION:PT1H
X-Robots-Tag:noindex
X-PUBLISHED-TTL:PT1H
BEGIN:VTIMEZONE
TZID:UTC
BEGIN:STANDARD
TZOFFSETFROM:+0000
TZOFFSETTO:+0000
TZNAME:UTC
DTSTART:20230101T000000
END:STANDARD
END:VTIMEZONE
BEGIN:VEVENT
DTSTART;TZID=UTC:20241122T170000
DTEND;TZID=UTC:20241122T220000
DTSTAMP:20260422T010227
CREATED:20241031T222245Z
LAST-MODIFIED:20241031T222248Z
UID:10003940-1732294800-1732312800@www.orovalley.org
SUMMARY:Hockey Night
DESCRIPTION:Join us for a great night of fellowship and hockey! We have participated in this for the last two years and it has been a fun event to attend! \n\n\n\nWhat happens during Faith & Family Fun Night? The goal is to provide a fun and unique environment for churches to enjoy a fun night together. They offer a post-game photo on the ice of our group\, t-shirts to purchase\, scoreboard recognition and more. \n\n\n\nWe have received a link for all of us to purchase our own tickets\, but sit together in the same section. We hope that you will join us for this fun evening. You can plan ahead to meet up with friends and family to have dinner downtown before the game to make the most of the evening. \n\n\n\nPlease use this link to purchase your tickets:  \n\n\n\nhttps://fevo-enterprise.com/event/Resurrectionlutheran24
URL:https://www.orovalley.org/event/hockey-night/
END:VEVENT
BEGIN:VEVENT
DTSTART;TZID=UTC:20241120T103000
DTEND;TZID=UTC:20241120T120000
DTSTAMP:20260422T010227
CREATED:20240617T222009Z
LAST-MODIFIED:20240617T222059Z
UID:10003533-1732098600-1732104000@www.orovalley.org
SUMMARY:Parkinson's Support Group
DESCRIPTION:This support group provides encouragement from meeting with others who have Parkinson’s disease\, and for the care givers of those with Parkinson’s. The meetings provide an opportunity to discuss experiences and feelings and to share solutions to common problems.  Meets every 3rd Wednesday of the month in the High School Youth Room.
URL:https://www.orovalley.org/event/parkinsons-support-group-3/2024-11-20/
LOCATION:Youth Room
CATEGORIES:Congregational Care,Serve
ATTACH;FMTTYPE=image/jpeg:https://www.orovalley.org/wp-content/uploads/2024/06/Graphics-3.jpg
END:VEVENT
BEGIN:VEVENT
DTSTART;TZID=UTC:20241119T080000
DTEND;TZID=UTC:20241119T133000
DTSTAMP:20260422T010227
CREATED:20241031T223055Z
LAST-MODIFIED:20241031T223057Z
UID:10003944-1732003200-1732023000@www.orovalley.org
SUMMARY:Red Cross Blood Drive
DESCRIPTION:Come and give the gift of life by donating blood. \n\n\n\nSign up on this page.
URL:https://www.orovalley.org/event/red-cross-blood-drive-4/
LOCATION:Katie’s Quarters
END:VEVENT
BEGIN:VEVENT
DTSTART;TZID=UTC:20241117T104500
DTEND;TZID=UTC:20241117T114500
DTSTAMP:20260422T010227
CREATED:20240513T203112Z
LAST-MODIFIED:20240513T203139Z
UID:10001344-1731840300-1731843900@www.orovalley.org
SUMMARY:10:45 Worship - Contemporary
DESCRIPTION:Sunday School\, Confirmation\, High School Sunday School \n\n\n\nChildcare Available \n\n\n\n\nWorship Online Here
URL:https://www.orovalley.org/event/1045-worship-contemporary-4/2024-11-17/
LOCATION:Oro Valley Sanctuary
CATEGORIES:Worship
ATTACH;FMTTYPE=image/jpeg:https://www.orovalley.org/wp-content/uploads/2023/11/CopyrightTaylorNoelPhotography2021-200-scaled.jpg
END:VEVENT
BEGIN:VEVENT
DTSTART;TZID=UTC:20241117T090000
DTEND;TZID=UTC:20241117T100000
DTSTAMP:20260422T010227
CREATED:20240106T184634Z
LAST-MODIFIED:20240228T200602Z
UID:10001669-1731834000-1731837600@www.orovalley.org
SUMMARY:Worship at SaddleBrooke
DESCRIPTION:Worship Online Here\n\n\n\nOnline Bulletin Here
URL:https://www.orovalley.org/event/worship-at-saddlebrooke/2024-11-17/
LOCATION:SaddleBrooke\, SaddleBrooke HOA2 Clubhouse\, Tucson\, Arizona\, 85739
CATEGORIES:Worship
ATTACH;FMTTYPE=image/jpeg:https://www.orovalley.org/wp-content/uploads/2023/08/sb-worship-pic_3.jpg
END:VEVENT
BEGIN:VEVENT
DTSTART;TZID=UTC:20241117T074500
DTEND;TZID=UTC:20241117T084500
DTSTAMP:20260422T010227
CREATED:20240513T202737Z
LAST-MODIFIED:20240513T202749Z
UID:10000051-1731829500-1731833100@www.orovalley.org
SUMMARY:7:45 Worship
DESCRIPTION:Traditional Worship. Music provided by Resurrection’s Chancel Choir \n\n\n\n\nWorship Online Here\n\n\n\n\n \n\n\n\n\nOnline Bulletins Here
URL:https://www.orovalley.org/event/745-worship-7/2024-11-17/
LOCATION:Oro Valley Sanctuary
CATEGORIES:Worship
ATTACH;FMTTYPE=image/jpeg:https://www.orovalley.org/wp-content/uploads/2023/12/CopyrightTaylorNoelPhotography2021-158-scaled.jpg
END:VEVENT
BEGIN:VEVENT
DTSTART;TZID=UTC:20241116T170000
DTEND;TZID=UTC:20241116T180000
DTSTAMP:20260422T010227
CREATED:20240130T000623Z
LAST-MODIFIED:20240228T201059Z
UID:10002287-1731776400-1731780000@www.orovalley.org
SUMMARY:5:00 Worship
DESCRIPTION:Join us for worship!  \n\n\n\n\nWorship Online Here\n\n\n\nOnline Bulletins Here
URL:https://www.orovalley.org/event/500-worship-2/2024-11-16/
LOCATION:Oro Valley Sanctuary
CATEGORIES:Worship
ATTACH;FMTTYPE=image/jpeg:https://www.orovalley.org/wp-content/uploads/2023/08/CopyrightTaylorNoelPhotography2021-175-354e5a6-scaled.jpg
END:VEVENT
BEGIN:VEVENT
DTSTART;TZID=UTC:20241114T080000
DTEND;TZID=UTC:20241117T170000
DTSTAMP:20260422T010227
CREATED:20240701T203044Z
LAST-MODIFIED:20240701T203729Z
UID:10003588-1731571200-1731862800@www.orovalley.org
SUMMARY:Casas Po Cristo
DESCRIPTION:WHY WE DO IT\n\n\n\nCasas por Cristo exists to open the door for local pastors and churches to share the love of Jesus Christ by serving. \n\n\n\nWHAT WE DO\n\n\n\nOur mission is to build and serve. \n\n\n\nBuildWe are builders. That’s who we are. We build homes for families that need to be reminded that Jesus loves them. We build relationships between volunteers\, families\, and pastors that would otherwise never have met. We strive to build the Kingdom of God by partnering with other local churches and ministries. We strive to build opportunities for growth by creating structured experiences that cause our volunteers to be stretched beyond their comfort zones. \n\n\n\nServeThrough this building process\, God allows us to interact with our teams\, local families\, pastors\, churches\, vendors\, and fellow missionaries. We do not want to take any of these interactions for granted. We believe that these are unique opportunities presented to us by God to serve each other.
URL:https://www.orovalley.org/event/casas-po-cristo/
CATEGORIES:Community Care,Serve
ORGANIZER;CN="Clay Mohler":MAILTO:clay.mohler@gmail.com
END:VEVENT
BEGIN:VEVENT
DTSTART;TZID=UTC:20241113T113000
DTEND;TZID=UTC:20241113T133000
DTSTAMP:20260422T010227
CREATED:20241031T212715Z
LAST-MODIFIED:20241031T212718Z
UID:10003934-1731497400-1731504600@www.orovalley.org
SUMMARY:PrimeTime Wednesday
DESCRIPTION:Join us for Fun\, Food and Fellowship! \n\n\n\nA delicious homecooked meal of roasted turkey\, mashed potatoes\, gravy\, wild rice stuffing\, green beans\, rolls\, with pumpkin and apple pies for dessert! \n\n\n\nNovember’s activity will be Trivia with great prizes! \n\n\n\nWe will be collecting food donations for the Canyon Del Oro Assembly of God\, Food Pantry. Canned vegetables\, canned meats\, rice\, pasta\, dried beans\, cereal and peanut butter\, are always in short supply. All food donations make a real difference. Thank you in advance for your incredible generosity for those in need. \n\n\n\nAll are welcome and invite a friend! $10 per person. \n\n\n\nKindly make your reservations here: https://rsvp.church/r/ztKN2dJ9
URL:https://www.orovalley.org/event/primetime-wednesday/
END:VEVENT
BEGIN:VEVENT
DTSTART;TZID=UTC:20241112T183000
DTEND;TZID=UTC:20241112T203000
DTSTAMP:20260422T010227
CREATED:20240910T191442Z
LAST-MODIFIED:20240910T191955Z
UID:10003768-1731436200-1731443400@www.orovalley.org
SUMMARY:Resurrection Card Players
DESCRIPTION:RLC Card Players meets every second and fourth Tuesday of the month. No reservation necessary. Please bring a snack to share and your own beverage. We play a variety of card games and we’re happy to teach you if you don’t know how to play. Everyone is welcome.
URL:https://www.orovalley.org/event/resurrection-card-players/2024-11-12/
LOCATION:Luther’s Lair
END:VEVENT
BEGIN:VEVENT
DTSTART;TZID=UTC:20241110T104500
DTEND;TZID=UTC:20241110T114500
DTSTAMP:20260422T010227
CREATED:20240513T203112Z
LAST-MODIFIED:20240513T203139Z
UID:10001343-1731235500-1731239100@www.orovalley.org
SUMMARY:10:45 Worship - Contemporary
DESCRIPTION:Sunday School\, Confirmation\, High School Sunday School \n\n\n\nChildcare Available \n\n\n\n\nWorship Online Here
URL:https://www.orovalley.org/event/1045-worship-contemporary-4/2024-11-10/
LOCATION:Oro Valley Sanctuary
CATEGORIES:Worship
ATTACH;FMTTYPE=image/jpeg:https://www.orovalley.org/wp-content/uploads/2023/11/CopyrightTaylorNoelPhotography2021-200-scaled.jpg
END:VEVENT
BEGIN:VEVENT
DTSTART;TZID=UTC:20241110T090000
DTEND;TZID=UTC:20241110T100000
DTSTAMP:20260422T010227
CREATED:20240106T184634Z
LAST-MODIFIED:20240228T200602Z
UID:10001668-1731229200-1731232800@www.orovalley.org
SUMMARY:Worship at SaddleBrooke
DESCRIPTION:Worship Online Here\n\n\n\nOnline Bulletin Here
URL:https://www.orovalley.org/event/worship-at-saddlebrooke/2024-11-10/
LOCATION:SaddleBrooke\, SaddleBrooke HOA2 Clubhouse\, Tucson\, Arizona\, 85739
CATEGORIES:Worship
ATTACH;FMTTYPE=image/jpeg:https://www.orovalley.org/wp-content/uploads/2023/08/sb-worship-pic_3.jpg
END:VEVENT
BEGIN:VEVENT
DTSTART;TZID=UTC:20241110T083000
DTEND;TZID=UTC:20241110T120000
DTSTAMP:20260422T010227
CREATED:20241029T202730Z
LAST-MODIFIED:20241029T202926Z
UID:10003922-1731227400-1731240000@www.orovalley.org
SUMMARY:Ministry Fair
DESCRIPTION:Welcome! Welcome! One and ALL! \n\n\n\nCome and learn about all the different ministry opportunities here at RLC\, as they are showcased! \n\n\n\nAsk questions and gather information on how you can connect and serve! \n\n\n\nFor more information call the church office at 520-575-9901 or contact Kristina Randolph at Krandolph@orovalley.org. \n\n\n\nCan’t wait to meet you on the patio!
URL:https://www.orovalley.org/event/ministry-fair/
LOCATION:Oro Valley Patio
END:VEVENT
BEGIN:VEVENT
DTSTART;TZID=UTC:20241110T074500
DTEND;TZID=UTC:20241110T084500
DTSTAMP:20260422T010227
CREATED:20240513T202737Z
LAST-MODIFIED:20240513T202749Z
UID:10000050-1731224700-1731228300@www.orovalley.org
SUMMARY:7:45 Worship
DESCRIPTION:Traditional Worship. Music provided by Resurrection’s Chancel Choir \n\n\n\n\nWorship Online Here\n\n\n\n\n \n\n\n\n\nOnline Bulletins Here
URL:https://www.orovalley.org/event/745-worship-7/2024-11-10/
LOCATION:Oro Valley Sanctuary
CATEGORIES:Worship
ATTACH;FMTTYPE=image/jpeg:https://www.orovalley.org/wp-content/uploads/2023/12/CopyrightTaylorNoelPhotography2021-158-scaled.jpg
END:VEVENT
BEGIN:VEVENT
DTSTART;TZID=UTC:20241109T170000
DTEND;TZID=UTC:20241109T180000
DTSTAMP:20260422T010228
CREATED:20240130T000623Z
LAST-MODIFIED:20240228T201059Z
UID:10002286-1731171600-1731175200@www.orovalley.org
SUMMARY:5:00 Worship
DESCRIPTION:Join us for worship!  \n\n\n\n\nWorship Online Here\n\n\n\nOnline Bulletins Here
URL:https://www.orovalley.org/event/500-worship-2/2024-11-09/
LOCATION:Oro Valley Sanctuary
CATEGORIES:Worship
ATTACH;FMTTYPE=image/jpeg:https://www.orovalley.org/wp-content/uploads/2023/08/CopyrightTaylorNoelPhotography2021-175-354e5a6-scaled.jpg
END:VEVENT
BEGIN:VEVENT
DTSTART;TZID=UTC:20241109T154500
DTEND;TZID=UTC:20241109T164500
DTSTAMP:20260422T010228
CREATED:20241031T222804Z
LAST-MODIFIED:20241031T222807Z
UID:10003943-1731167100-1731170700@www.orovalley.org
SUMMARY:Life Group Social: New Members
DESCRIPTION:Calling All New People To RLC! \n\n\n\nYou are invited to a Life Group social in Katie’s Quarters on Saturday\, November 9th from 3:45 PM to 4:45 PM. Join us and meet some other friends and learn more about this community ministry. RSVP to Rob Hartmann at rjhartmann70@msn.com Hope to see you there!
URL:https://www.orovalley.org/event/life-group-social-new-members/
LOCATION:Katie’s Quarters
END:VEVENT
BEGIN:VEVENT
DTSTART;TZID=UTC:20241109T080000
DTEND;TZID=UTC:20241109T090000
DTSTAMP:20260422T010228
CREATED:20240808T201836Z
LAST-MODIFIED:20260210T201221Z
UID:10003631-1731139200-1731142800@www.orovalley.org
SUMMARY:Men's Bible Study
DESCRIPTION:Uses the Serendipity Bible\, copies are available. All men of the church are welcome to attend. Meets in Luther’s Lair.
URL:https://www.orovalley.org/event/mens-bible-study/2024-11-09/
END:VEVENT
BEGIN:VEVENT
DTSTART;TZID=UTC:20241108T123000
DTEND;TZID=UTC:20241108T143000
DTSTAMP:20260422T010228
CREATED:20241031T221420Z
LAST-MODIFIED:20241031T221423Z
UID:10003937-1731069000-1731076200@www.orovalley.org
SUMMARY:Ladies Luncheon
DESCRIPTION:P.F. Chang’s \n\n\n\nWe look forward to you joining us! \n\n\n\nPlease RSVP here: https://rsvp.church/r/ztKN2dJ9
URL:https://www.orovalley.org/event/ladies-luncheon-4/
END:VEVENT
BEGIN:VEVENT
DTSTART;TZID=UTC:20241103T104500
DTEND;TZID=UTC:20241103T114500
DTSTAMP:20260422T010228
CREATED:20240513T203112Z
LAST-MODIFIED:20240513T203139Z
UID:10001342-1730630700-1730634300@www.orovalley.org
SUMMARY:10:45 Worship - Contemporary
DESCRIPTION:Sunday School\, Confirmation\, High School Sunday School \n\n\n\nChildcare Available \n\n\n\n\nWorship Online Here
URL:https://www.orovalley.org/event/1045-worship-contemporary-4/2024-11-03/
LOCATION:Oro Valley Sanctuary
CATEGORIES:Worship
ATTACH;FMTTYPE=image/jpeg:https://www.orovalley.org/wp-content/uploads/2023/11/CopyrightTaylorNoelPhotography2021-200-scaled.jpg
END:VEVENT
BEGIN:VEVENT
DTSTART;TZID=UTC:20241103T090000
DTEND;TZID=UTC:20241103T100000
DTSTAMP:20260422T010228
CREATED:20240106T184634Z
LAST-MODIFIED:20240228T200602Z
UID:10001667-1730624400-1730628000@www.orovalley.org
SUMMARY:Worship at SaddleBrooke
DESCRIPTION:Worship Online Here\n\n\n\nOnline Bulletin Here
URL:https://www.orovalley.org/event/worship-at-saddlebrooke/2024-11-03/
LOCATION:SaddleBrooke\, SaddleBrooke HOA2 Clubhouse\, Tucson\, Arizona\, 85739
CATEGORIES:Worship
ATTACH;FMTTYPE=image/jpeg:https://www.orovalley.org/wp-content/uploads/2023/08/sb-worship-pic_3.jpg
END:VEVENT
BEGIN:VEVENT
DTSTART;TZID=UTC:20241103T074500
DTEND;TZID=UTC:20241103T084500
DTSTAMP:20260422T010228
CREATED:20240513T202737Z
LAST-MODIFIED:20240513T202749Z
UID:10000049-1730619900-1730623500@www.orovalley.org
SUMMARY:7:45 Worship
DESCRIPTION:Traditional Worship. Music provided by Resurrection’s Chancel Choir \n\n\n\n\nWorship Online Here\n\n\n\n\n \n\n\n\n\nOnline Bulletins Here
URL:https://www.orovalley.org/event/745-worship-7/2024-11-03/
LOCATION:Oro Valley Sanctuary
CATEGORIES:Worship
ATTACH;FMTTYPE=image/jpeg:https://www.orovalley.org/wp-content/uploads/2023/12/CopyrightTaylorNoelPhotography2021-158-scaled.jpg
END:VEVENT
BEGIN:VEVENT
DTSTART;TZID=UTC:20241102T170000
DTEND;TZID=UTC:20241102T180000
DTSTAMP:20260422T010228
CREATED:20240130T000623Z
LAST-MODIFIED:20240228T201059Z
UID:10002285-1730566800-1730570400@www.orovalley.org
SUMMARY:5:00 Worship
DESCRIPTION:Join us for worship!  \n\n\n\n\nWorship Online Here\n\n\n\nOnline Bulletins Here
URL:https://www.orovalley.org/event/500-worship-2/2024-11-02/
LOCATION:Oro Valley Sanctuary
CATEGORIES:Worship
ATTACH;FMTTYPE=image/jpeg:https://www.orovalley.org/wp-content/uploads/2023/08/CopyrightTaylorNoelPhotography2021-175-354e5a6-scaled.jpg
END:VEVENT
BEGIN:VEVENT
DTSTART;TZID=UTC:20241102T090000
DTEND;TZID=UTC:20241102T093000
DTSTAMP:20260422T010228
CREATED:20241031T204626Z
LAST-MODIFIED:20241031T204629Z
UID:10003923-1730538000-1730539800@www.orovalley.org
SUMMARY:Pet Blessing
DESCRIPTION:We gather together with our furry\, feathery\, and scaly friends for a blessing of the animals. All creatures\, great and small\, are welcome! 
URL:https://www.orovalley.org/event/pet-blessing/
LOCATION:Memorial Plaza\, 11575 1st Ave.\, Oro Valley\, Arizona\, 85737\, United States
END:VEVENT
BEGIN:VEVENT
DTSTART;TZID=UTC:20241102T073000
DTEND;TZID=UTC:20241102T093000
DTSTAMP:20260422T010228
CREATED:20240911T190622Z
LAST-MODIFIED:20241001T202124Z
UID:10002534-1730532600-1730539800@www.orovalley.org
SUMMARY:Men's Breakfast
DESCRIPTION:This group meets monthly\, October through May on the first Saturday of the month\, for breakfast\, socializing and learning. There is always a guest speaker. Catered breakfast is included with the $10 cost of admission. \n\n\n\nThis months speaker will be announced closer to the event date.  \n\n\n\nClick Here to RSVP
URL:https://www.orovalley.org/event/mensbreakfast/2024-11-02/
LOCATION:Outreach Center Gymnasium\, 11575 N 1st Ave\, Oro Valley\, AZ\, 85737\, United States
CATEGORIES:Men's Breakfast
ATTACH;FMTTYPE=image/jpeg:https://www.orovalley.org/wp-content/uploads/2023/12/27.jpg
END:VEVENT
BEGIN:VEVENT
DTSTART;TZID=UTC:20241027T120000
DTEND;TZID=UTC:20241027T140000
DTSTAMP:20260422T010228
CREATED:20240827T202312Z
LAST-MODIFIED:20240910T184121Z
UID:10003756-1730030400-1730037600@www.orovalley.org
SUMMARY:New Member Class
DESCRIPTION:Join us for our next new member class. Sign up on the welcome table after worship or contact Kristina Randolph for more information at krandolph@orovalley.org
URL:https://www.orovalley.org/event/new-member-class-2/
LOCATION:Katie’s Quarters
END:VEVENT
BEGIN:VEVENT
DTSTART;TZID=UTC:20241027T104500
DTEND;TZID=UTC:20241027T114500
DTSTAMP:20260422T010228
CREATED:20240513T203112Z
LAST-MODIFIED:20240513T203139Z
UID:10001341-1730025900-1730029500@www.orovalley.org
SUMMARY:10:45 Worship - Contemporary
DESCRIPTION:Sunday School\, Confirmation\, High School Sunday School \n\n\n\nChildcare Available \n\n\n\n\nWorship Online Here
URL:https://www.orovalley.org/event/1045-worship-contemporary-4/2024-10-27/
LOCATION:Oro Valley Sanctuary
CATEGORIES:Worship
ATTACH;FMTTYPE=image/jpeg:https://www.orovalley.org/wp-content/uploads/2023/11/CopyrightTaylorNoelPhotography2021-200-scaled.jpg
END:VEVENT
BEGIN:VEVENT
DTSTART;TZID=UTC:20241027T090000
DTEND;TZID=UTC:20241027T100000
DTSTAMP:20260422T010228
CREATED:20240106T184634Z
LAST-MODIFIED:20240228T200602Z
UID:10001666-1730019600-1730023200@www.orovalley.org
SUMMARY:Worship at SaddleBrooke
DESCRIPTION:Worship Online Here\n\n\n\nOnline Bulletin Here
URL:https://www.orovalley.org/event/worship-at-saddlebrooke/2024-10-27/
LOCATION:SaddleBrooke\, SaddleBrooke HOA2 Clubhouse\, Tucson\, Arizona\, 85739
CATEGORIES:Worship
ATTACH;FMTTYPE=image/jpeg:https://www.orovalley.org/wp-content/uploads/2023/08/sb-worship-pic_3.jpg
END:VEVENT
BEGIN:VEVENT
DTSTART;TZID=UTC:20241027T074500
DTEND;TZID=UTC:20241027T084500
DTSTAMP:20260422T010228
CREATED:20240513T202737Z
LAST-MODIFIED:20240513T202749Z
UID:10000048-1730015100-1730018700@www.orovalley.org
SUMMARY:7:45 Worship
DESCRIPTION:Traditional Worship. Music provided by Resurrection’s Chancel Choir \n\n\n\n\nWorship Online Here\n\n\n\n\n \n\n\n\n\nOnline Bulletins Here
URL:https://www.orovalley.org/event/745-worship-7/2024-10-27/
LOCATION:Oro Valley Sanctuary
CATEGORIES:Worship
ATTACH;FMTTYPE=image/jpeg:https://www.orovalley.org/wp-content/uploads/2023/12/CopyrightTaylorNoelPhotography2021-158-scaled.jpg
END:VEVENT
BEGIN:VEVENT
DTSTART;TZID=UTC:20241026T170000
DTEND;TZID=UTC:20241026T180000
DTSTAMP:20260422T010228
CREATED:20240130T000623Z
LAST-MODIFIED:20240228T201059Z
UID:10002284-1729962000-1729965600@www.orovalley.org
SUMMARY:5:00 Worship
DESCRIPTION:Join us for worship!  \n\n\n\n\nWorship Online Here\n\n\n\nOnline Bulletins Here
URL:https://www.orovalley.org/event/500-worship-2/2024-10-26/
LOCATION:Oro Valley Sanctuary
CATEGORIES:Worship
ATTACH;FMTTYPE=image/jpeg:https://www.orovalley.org/wp-content/uploads/2023/08/CopyrightTaylorNoelPhotography2021-175-354e5a6-scaled.jpg
END:VEVENT
BEGIN:VEVENT
DTSTART;TZID=UTC:20241026T080000
DTEND;TZID=UTC:20241026T090000
DTSTAMP:20260422T010228
CREATED:20240808T201836Z
LAST-MODIFIED:20260210T201221Z
UID:10003630-1729929600-1729933200@www.orovalley.org
SUMMARY:Men's Bible Study
DESCRIPTION:Uses the Serendipity Bible\, copies are available. All men of the church are welcome to attend. Meets in Luther’s Lair.
URL:https://www.orovalley.org/event/mens-bible-study/2024-10-26/
END:VEVENT
END:VCALENDAR