BEGIN:VCALENDAR
VERSION:2.0
PRODID:-//Resurrection Lutheran Church - ECPv6.15.20//NONSGML v1.0//EN
CALSCALE:GREGORIAN
METHOD:PUBLISH
X-WR-CALNAME:Resurrection Lutheran Church
X-ORIGINAL-URL:https://www.orovalley.org
X-WR-CALDESC:Events for Resurrection Lutheran Church
REFRESH-INTERVAL;VALUE=DURATION:PT1H
X-Robots-Tag:noindex
X-PUBLISHED-TTL:PT1H
BEGIN:VTIMEZONE
TZID:UTC
BEGIN:STANDARD
TZOFFSETFROM:+0000
TZOFFSETTO:+0000
TZNAME:UTC
DTSTART:20240101T000000
END:STANDARD
END:VTIMEZONE
BEGIN:VEVENT
DTSTART;TZID=UTC:20250729T133000
DTEND;TZID=UTC:20250729T153000
DTSTAMP:20260422T024039
CREATED:20250701T214513Z
LAST-MODIFIED:20250701T214517Z
UID:10005139-1753795800-1753803000@www.orovalley.org
SUMMARY:Primavera Men’s Shelter Dinner Prep
DESCRIPTION:Volunteers are needed to help prepare dinner for the men’s shelter. Please sign up at the Welcome Table on the patio or contact the Church Office. We’ll be meeting in the Outreach Center Kitchen
URL:https://www.orovalley.org/event/primavera-mens-shelter-dinner-prep-2/
LOCATION:Oro Valley Outreach Center Kitchen
END:VEVENT
BEGIN:VEVENT
DTSTART;TZID=UTC:20250731T130000
DTEND;TZID=UTC:20250731T160000
DTSTAMP:20260422T024039
CREATED:20241213T002356Z
LAST-MODIFIED:20241213T002359Z
UID:10004080-1753966800-1753977600@www.orovalley.org
SUMMARY:Matching Dragons Mah Jongg
DESCRIPTION:Do you play the game of (American) Mah Jongg and have been looking for a group to play with? Join us on Thursday afternoons 1:00-4:00 PM in Luther’s Lair in the Outreach Center. These are friendly games. We do NOT play for money but we ALWAYS have a good time. This group is for those who already know how to play the game. However\, anyone is invited to come observe to see if they would like to learn to play the game. Questions? Contact Jackie Verdick at jackieverdick@gmail.com or 612-554-0111.
URL:https://www.orovalley.org/event/matching-dragons-mah-jongg/2025-07-31/
END:VEVENT
BEGIN:VEVENT
DTSTART;TZID=UTC:20250802T080000
DTEND;TZID=UTC:20250802T090000
DTSTAMP:20260422T024039
CREATED:20240808T201836Z
LAST-MODIFIED:20260210T201221Z
UID:10004316-1754121600-1754125200@www.orovalley.org
SUMMARY:Men's Bible Study
DESCRIPTION:Uses the Serendipity Bible\, copies are available. All men of the church are welcome to attend. Meets in Luther’s Lair.
URL:https://www.orovalley.org/event/mens-bible-study/2025-08-02/
END:VEVENT
BEGIN:VEVENT
DTSTART;TZID=UTC:20250802T170000
DTEND;TZID=UTC:20250802T180000
DTSTAMP:20260422T024039
CREATED:20240130T000623Z
LAST-MODIFIED:20240228T201059Z
UID:10002324-1754154000-1754157600@www.orovalley.org
SUMMARY:5:00 Worship
DESCRIPTION:Join us for worship!  \n\n\n\n\nWorship Online Here\n\n\n\nOnline Bulletins Here
URL:https://www.orovalley.org/event/500-worship-2/2025-08-02/
LOCATION:Oro Valley Sanctuary
CATEGORIES:Worship
ATTACH;FMTTYPE=image/jpeg:https://www.orovalley.org/wp-content/uploads/2023/08/CopyrightTaylorNoelPhotography2021-175-354e5a6-scaled.jpg
END:VEVENT
BEGIN:VEVENT
DTSTART;TZID=UTC:20250803T074500
DTEND;TZID=UTC:20250803T084500
DTSTAMP:20260422T024039
CREATED:20250605T233406Z
LAST-MODIFIED:20250605T233413Z
UID:10000079-1754207100-1754210700@www.orovalley.org
SUMMARY:7:45 Worship
DESCRIPTION:Traditional Worship. Music provided by Resurrection’s Chancel Choir \n\n\n\n\nWorship Online Here\n\n\n\n\n \n\n\n\n\nOnline Bulletins Here
URL:https://www.orovalley.org/event/745-worship-9/2025-08-03/
LOCATION:Oro Valley Sanctuary
CATEGORIES:Worship
ATTACH;FMTTYPE=image/jpeg:https://www.orovalley.org/wp-content/uploads/2023/12/CopyrightTaylorNoelPhotography2021-158-scaled.jpg
END:VEVENT
BEGIN:VEVENT
DTSTART;TZID=UTC:20250803T090000
DTEND;TZID=UTC:20250803T100000
DTSTAMP:20260422T024039
CREATED:20240106T184634Z
LAST-MODIFIED:20240228T200602Z
UID:10001706-1754211600-1754215200@www.orovalley.org
SUMMARY:Worship at SaddleBrooke
DESCRIPTION:Worship Online Here\n\n\n\nOnline Bulletin Here
URL:https://www.orovalley.org/event/worship-at-saddlebrooke/2025-08-03/
LOCATION:SaddleBrooke\, SaddleBrooke HOA2 Clubhouse\, Tucson\, Arizona\, 85739
CATEGORIES:Worship
ATTACH;FMTTYPE=image/jpeg:https://www.orovalley.org/wp-content/uploads/2023/08/sb-worship-pic_3.jpg
END:VEVENT
BEGIN:VEVENT
DTSTART;TZID=UTC:20250803T091500
DTEND;TZID=UTC:20250803T101500
DTSTAMP:20260422T024039
CREATED:20250610T165422Z
LAST-MODIFIED:20250610T165427Z
UID:10005083-1754212500-1754216100@www.orovalley.org
SUMMARY:09:15 Worship - Contemporary
DESCRIPTION:Sunday School\, Confirmation\, High School Sunday School \n\n\n\nChildcare Available \n\n\n\n\nWorship Online Here
URL:https://www.orovalley.org/event/0915-worship-contemporary/2025-08-03/
LOCATION:Oro Valley Sanctuary
CATEGORIES:Worship
ATTACH;FMTTYPE=image/jpeg:https://www.orovalley.org/wp-content/uploads/2023/11/CopyrightTaylorNoelPhotography2021-200-scaled.jpg
END:VEVENT
BEGIN:VEVENT
DTSTART;TZID=UTC:20250803T104500
DTEND;TZID=UTC:20250803T114500
DTSTAMP:20260422T024039
CREATED:20250610T165108Z
LAST-MODIFIED:20250610T165111Z
UID:10004995-1754217900-1754221500@www.orovalley.org
SUMMARY:10:45 Worship - Contemporary
DESCRIPTION:Sunday School\, Confirmation\, High School Sunday School \n\n\n\nChildcare Available \n\n\n\n\nWorship Online Here
URL:https://www.orovalley.org/event/1045-worship-contemporary-7/2025-08-03/
LOCATION:Oro Valley Sanctuary
CATEGORIES:Worship
ATTACH;FMTTYPE=image/jpeg:https://www.orovalley.org/wp-content/uploads/2023/11/CopyrightTaylorNoelPhotography2021-200-scaled.jpg
END:VEVENT
BEGIN:VEVENT
DTSTART;TZID=UTC:20250807T130000
DTEND;TZID=UTC:20250807T160000
DTSTAMP:20260422T024039
CREATED:20241213T002356Z
LAST-MODIFIED:20241213T002359Z
UID:10004081-1754571600-1754582400@www.orovalley.org
SUMMARY:Matching Dragons Mah Jongg
DESCRIPTION:Do you play the game of (American) Mah Jongg and have been looking for a group to play with? Join us on Thursday afternoons 1:00-4:00 PM in Luther’s Lair in the Outreach Center. These are friendly games. We do NOT play for money but we ALWAYS have a good time. This group is for those who already know how to play the game. However\, anyone is invited to come observe to see if they would like to learn to play the game. Questions? Contact Jackie Verdick at jackieverdick@gmail.com or 612-554-0111.
URL:https://www.orovalley.org/event/matching-dragons-mah-jongg/2025-08-07/
END:VEVENT
BEGIN:VEVENT
DTSTART;TZID=UTC:20250808T123000
DTEND;TZID=UTC:20250808T133000
DTSTAMP:20260422T024039
CREATED:20250730T233807Z
LAST-MODIFIED:20250730T233812Z
UID:10005168-1754656200-1754659800@www.orovalley.org
SUMMARY:GMG Chinese Bistro
DESCRIPTION:Join us for a great lunch and fellowship! Kindly RSVP online: https://rsvp.church/r/ztKN2dJ9
URL:https://www.orovalley.org/event/gmg-chinese-bistro/
END:VEVENT
BEGIN:VEVENT
DTSTART;TZID=UTC:20250809T000000
DTEND;TZID=UTC:20250810T235959
DTSTAMP:20260422T024039
CREATED:20250730T232403Z
LAST-MODIFIED:20250804T190022Z
UID:10005164-1754697600-1754870399@www.orovalley.org
SUMMARY:Deacon Emma’s Installation
DESCRIPTION:At all worship services\, we will officially install Deacon Emma as our Director of Youth Ministries. Pastor Jacqui Pagel\, Assistant to the Bishop and one of the leaders who helped guide Emma’s path to Resurrection\, will preach at all services and join us in this celebration.
URL:https://www.orovalley.org/event/deacon-emmas-installation/
END:VEVENT
BEGIN:VEVENT
DTSTART;TZID=UTC:20250809T170000
DTEND;TZID=UTC:20250809T180000
DTSTAMP:20260422T024039
CREATED:20240130T000623Z
LAST-MODIFIED:20240228T201059Z
UID:10002325-1754758800-1754762400@www.orovalley.org
SUMMARY:5:00 Worship
DESCRIPTION:Join us for worship!  \n\n\n\n\nWorship Online Here\n\n\n\nOnline Bulletins Here
URL:https://www.orovalley.org/event/500-worship-2/2025-08-09/
LOCATION:Oro Valley Sanctuary
CATEGORIES:Worship
ATTACH;FMTTYPE=image/jpeg:https://www.orovalley.org/wp-content/uploads/2023/08/CopyrightTaylorNoelPhotography2021-175-354e5a6-scaled.jpg
END:VEVENT
BEGIN:VEVENT
DTSTART;TZID=UTC:20250810T074500
DTEND;TZID=UTC:20250810T084500
DTSTAMP:20260422T024039
CREATED:20250605T233406Z
LAST-MODIFIED:20250605T233413Z
UID:10000089-1754811900-1754815500@www.orovalley.org
SUMMARY:7:45 Worship
DESCRIPTION:Traditional Worship. Music provided by Resurrection’s Chancel Choir \n\n\n\n\nWorship Online Here\n\n\n\n\n \n\n\n\n\nOnline Bulletins Here
URL:https://www.orovalley.org/event/745-worship-9/2025-08-10/
LOCATION:Oro Valley Sanctuary
CATEGORIES:Worship
ATTACH;FMTTYPE=image/jpeg:https://www.orovalley.org/wp-content/uploads/2023/12/CopyrightTaylorNoelPhotography2021-158-scaled.jpg
END:VEVENT
BEGIN:VEVENT
DTSTART;TZID=UTC:20250810T090000
DTEND;TZID=UTC:20250810T100000
DTSTAMP:20260422T024039
CREATED:20240106T184634Z
LAST-MODIFIED:20240228T200602Z
UID:10001707-1754816400-1754820000@www.orovalley.org
SUMMARY:Worship at SaddleBrooke
DESCRIPTION:Worship Online Here\n\n\n\nOnline Bulletin Here
URL:https://www.orovalley.org/event/worship-at-saddlebrooke/2025-08-10/
LOCATION:SaddleBrooke\, SaddleBrooke HOA2 Clubhouse\, Tucson\, Arizona\, 85739
CATEGORIES:Worship
ATTACH;FMTTYPE=image/jpeg:https://www.orovalley.org/wp-content/uploads/2023/08/sb-worship-pic_3.jpg
END:VEVENT
BEGIN:VEVENT
DTSTART;TZID=UTC:20250810T091500
DTEND;TZID=UTC:20250810T101500
DTSTAMP:20260422T024039
CREATED:20250610T165422Z
LAST-MODIFIED:20250610T165427Z
UID:10005084-1754817300-1754820900@www.orovalley.org
SUMMARY:09:15 Worship - Contemporary
DESCRIPTION:Sunday School\, Confirmation\, High School Sunday School \n\n\n\nChildcare Available \n\n\n\n\nWorship Online Here
URL:https://www.orovalley.org/event/0915-worship-contemporary/2025-08-10/
LOCATION:Oro Valley Sanctuary
CATEGORIES:Worship
ATTACH;FMTTYPE=image/jpeg:https://www.orovalley.org/wp-content/uploads/2023/11/CopyrightTaylorNoelPhotography2021-200-scaled.jpg
END:VEVENT
BEGIN:VEVENT
DTSTART;TZID=UTC:20250810T104500
DTEND;TZID=UTC:20250810T114500
DTSTAMP:20260422T024039
CREATED:20250610T165108Z
LAST-MODIFIED:20250610T165111Z
UID:10004996-1754822700-1754826300@www.orovalley.org
SUMMARY:10:45 Worship - Contemporary
DESCRIPTION:Sunday School\, Confirmation\, High School Sunday School \n\n\n\nChildcare Available \n\n\n\n\nWorship Online Here
URL:https://www.orovalley.org/event/1045-worship-contemporary-7/2025-08-10/
LOCATION:Oro Valley Sanctuary
CATEGORIES:Worship
ATTACH;FMTTYPE=image/jpeg:https://www.orovalley.org/wp-content/uploads/2023/11/CopyrightTaylorNoelPhotography2021-200-scaled.jpg
END:VEVENT
BEGIN:VEVENT
DTSTART;TZID=UTC:20250810T104500
DTEND;TZID=UTC:20250810T114500
DTSTAMP:20260422T024039
CREATED:20250730T232846Z
LAST-MODIFIED:20250730T232849Z
UID:10005165-1754822700-1754826300@www.orovalley.org
SUMMARY:Back to School Blessing and Bibles
DESCRIPTION:
URL:https://www.orovalley.org/event/back-to-school-blessing-and-bibles/
END:VEVENT
BEGIN:VEVENT
DTSTART;TZID=UTC:20250812T183000
DTEND;TZID=UTC:20250812T203000
DTSTAMP:20260422T024039
CREATED:20240910T191442Z
LAST-MODIFIED:20240910T191955Z
UID:10003777-1755023400-1755030600@www.orovalley.org
SUMMARY:Resurrection Card Players
DESCRIPTION:RLC Card Players meets every second and fourth Tuesday of the month. No reservation necessary. Please bring a snack to share and your own beverage. We play a variety of card games and we’re happy to teach you if you don’t know how to play. Everyone is welcome.
URL:https://www.orovalley.org/event/resurrection-card-players/2025-08-12/
LOCATION:Luther’s Lair
END:VEVENT
BEGIN:VEVENT
DTSTART;TZID=UTC:20250814T130000
DTEND;TZID=UTC:20250814T160000
DTSTAMP:20260422T024039
CREATED:20241213T002356Z
LAST-MODIFIED:20241213T002359Z
UID:10004082-1755176400-1755187200@www.orovalley.org
SUMMARY:Matching Dragons Mah Jongg
DESCRIPTION:Do you play the game of (American) Mah Jongg and have been looking for a group to play with? Join us on Thursday afternoons 1:00-4:00 PM in Luther’s Lair in the Outreach Center. These are friendly games. We do NOT play for money but we ALWAYS have a good time. This group is for those who already know how to play the game. However\, anyone is invited to come observe to see if they would like to learn to play the game. Questions? Contact Jackie Verdick at jackieverdick@gmail.com or 612-554-0111.
URL:https://www.orovalley.org/event/matching-dragons-mah-jongg/2025-08-14/
END:VEVENT
BEGIN:VEVENT
DTSTART;TZID=UTC:20250816T080000
DTEND;TZID=UTC:20250816T090000
DTSTAMP:20260422T024039
CREATED:20240808T201836Z
LAST-MODIFIED:20260210T201221Z
UID:10004317-1755331200-1755334800@www.orovalley.org
SUMMARY:Men's Bible Study
DESCRIPTION:Uses the Serendipity Bible\, copies are available. All men of the church are welcome to attend. Meets in Luther’s Lair.
URL:https://www.orovalley.org/event/mens-bible-study/2025-08-16/
END:VEVENT
BEGIN:VEVENT
DTSTART;TZID=UTC:20250816T103000
DTEND;TZID=UTC:20250816T113000
DTSTAMP:20260422T024039
CREATED:20250801T172642Z
LAST-MODIFIED:20250801T172645Z
UID:10005173-1755340200-1755343800@www.orovalley.org
SUMMARY:RLC Parking Lot\, Desert Wanderers Summer Field Trip
DESCRIPTION:Join us as we travel to the U of A Gem and Mineral Museum. Check out the August Vision for more info and how to sign up!
URL:https://www.orovalley.org/event/rlc-parking-lot-desert-wanderers-summer-field-trip/
END:VEVENT
BEGIN:VEVENT
DTSTART;TZID=UTC:20250816T170000
DTEND;TZID=UTC:20250816T180000
DTSTAMP:20260422T024039
CREATED:20240130T000623Z
LAST-MODIFIED:20240228T201059Z
UID:10002326-1755363600-1755367200@www.orovalley.org
SUMMARY:5:00 Worship
DESCRIPTION:Join us for worship!  \n\n\n\n\nWorship Online Here\n\n\n\nOnline Bulletins Here
URL:https://www.orovalley.org/event/500-worship-2/2025-08-16/
LOCATION:Oro Valley Sanctuary
CATEGORIES:Worship
ATTACH;FMTTYPE=image/jpeg:https://www.orovalley.org/wp-content/uploads/2023/08/CopyrightTaylorNoelPhotography2021-175-354e5a6-scaled.jpg
END:VEVENT
BEGIN:VEVENT
DTSTART;TZID=UTC:20250817T074500
DTEND;TZID=UTC:20250817T084500
DTSTAMP:20260422T024039
CREATED:20250605T233406Z
LAST-MODIFIED:20250605T233413Z
UID:10000090-1755416700-1755420300@www.orovalley.org
SUMMARY:7:45 Worship
DESCRIPTION:Traditional Worship. Music provided by Resurrection’s Chancel Choir \n\n\n\n\nWorship Online Here\n\n\n\n\n \n\n\n\n\nOnline Bulletins Here
URL:https://www.orovalley.org/event/745-worship-9/2025-08-17/
LOCATION:Oro Valley Sanctuary
CATEGORIES:Worship
ATTACH;FMTTYPE=image/jpeg:https://www.orovalley.org/wp-content/uploads/2023/12/CopyrightTaylorNoelPhotography2021-158-scaled.jpg
END:VEVENT
BEGIN:VEVENT
DTSTART;TZID=UTC:20250817T090000
DTEND;TZID=UTC:20250817T100000
DTSTAMP:20260422T024039
CREATED:20240106T184634Z
LAST-MODIFIED:20240228T200602Z
UID:10001708-1755421200-1755424800@www.orovalley.org
SUMMARY:Worship at SaddleBrooke
DESCRIPTION:Worship Online Here\n\n\n\nOnline Bulletin Here
URL:https://www.orovalley.org/event/worship-at-saddlebrooke/2025-08-17/
LOCATION:SaddleBrooke\, SaddleBrooke HOA2 Clubhouse\, Tucson\, Arizona\, 85739
CATEGORIES:Worship
ATTACH;FMTTYPE=image/jpeg:https://www.orovalley.org/wp-content/uploads/2023/08/sb-worship-pic_3.jpg
END:VEVENT
BEGIN:VEVENT
DTSTART;TZID=UTC:20250817T091500
DTEND;TZID=UTC:20250817T101500
DTSTAMP:20260422T024040
CREATED:20250610T165422Z
LAST-MODIFIED:20250610T165427Z
UID:10005085-1755422100-1755425700@www.orovalley.org
SUMMARY:09:15 Worship - Contemporary
DESCRIPTION:Sunday School\, Confirmation\, High School Sunday School \n\n\n\nChildcare Available \n\n\n\n\nWorship Online Here
URL:https://www.orovalley.org/event/0915-worship-contemporary/2025-08-17/
LOCATION:Oro Valley Sanctuary
CATEGORIES:Worship
ATTACH;FMTTYPE=image/jpeg:https://www.orovalley.org/wp-content/uploads/2023/11/CopyrightTaylorNoelPhotography2021-200-scaled.jpg
END:VEVENT
BEGIN:VEVENT
DTSTART;TZID=UTC:20250817T100000
DTEND;TZID=UTC:20250817T110000
DTSTAMP:20260422T024040
CREATED:20250805T204250Z
LAST-MODIFIED:20250806T162629Z
UID:10005175-1755424800-1755428400@www.orovalley.org
SUMMARY:Small Talks: Columbarium Expansion Proposal
DESCRIPTION:This event will be held in the SaddleBrooke HOA2 Ballroom.
URL:https://www.orovalley.org/event/small-talks/
END:VEVENT
BEGIN:VEVENT
DTSTART;TZID=UTC:20250817T104500
DTEND;TZID=UTC:20250817T114500
DTSTAMP:20260422T024040
CREATED:20250610T165108Z
LAST-MODIFIED:20250610T165111Z
UID:10004997-1755427500-1755431100@www.orovalley.org
SUMMARY:10:45 Worship - Contemporary
DESCRIPTION:Sunday School\, Confirmation\, High School Sunday School \n\n\n\nChildcare Available \n\n\n\n\nWorship Online Here
URL:https://www.orovalley.org/event/1045-worship-contemporary-7/2025-08-17/
LOCATION:Oro Valley Sanctuary
CATEGORIES:Worship
ATTACH;FMTTYPE=image/jpeg:https://www.orovalley.org/wp-content/uploads/2023/11/CopyrightTaylorNoelPhotography2021-200-scaled.jpg
END:VEVENT
BEGIN:VEVENT
DTSTART;TZID=UTC:20250817T120000
DTEND;TZID=UTC:20250817T143000
DTSTAMP:20260422T024040
CREATED:20250801T171954Z
LAST-MODIFIED:20250801T171956Z
UID:10005171-1755432000-1755441000@www.orovalley.org
SUMMARY:Wet & Wild BBQ
DESCRIPTION:Come make a splash with us as we celebrate going back to school! Church patio.
URL:https://www.orovalley.org/event/wet-wild-bbq/
END:VEVENT
BEGIN:VEVENT
DTSTART;TZID=UTC:20250819T080000
DTEND;TZID=UTC:20250819T133000
DTSTAMP:20260422T024040
CREATED:20250801T172813Z
LAST-MODIFIED:20250801T172816Z
UID:10005174-1755590400-1755610200@www.orovalley.org
SUMMARY:American Red Cross Blood Drive\, Katie’s Quarters
DESCRIPTION:Give the gift of life\, donate blood! Sign up online. Donate this time and get a free $15 e-gift card!
URL:https://www.orovalley.org/event/american-red-cross-blood-drive-katies-quarters/
END:VEVENT
BEGIN:VEVENT
DTSTART;TZID=UTC:20250820T103000
DTEND;TZID=UTC:20250820T120000
DTSTAMP:20260422T024040
CREATED:20240617T222009Z
LAST-MODIFIED:20240617T222059Z
UID:10003542-1755685800-1755691200@www.orovalley.org
SUMMARY:Parkinson's Support Group
DESCRIPTION:This support group provides encouragement from meeting with others who have Parkinson’s disease\, and for the care givers of those with Parkinson’s. The meetings provide an opportunity to discuss experiences and feelings and to share solutions to common problems.  Meets every 3rd Wednesday of the month in the High School Youth Room.
URL:https://www.orovalley.org/event/parkinsons-support-group-3/2025-08-20/
LOCATION:Youth Room
CATEGORIES:Congregational Care,Serve
ATTACH;FMTTYPE=image/jpeg:https://www.orovalley.org/wp-content/uploads/2024/06/Graphics-3.jpg
END:VEVENT
END:VCALENDAR