BEGIN:VCALENDAR
VERSION:2.0
PRODID:-//Resurrection Lutheran Church - ECPv6.15.20//NONSGML v1.0//EN
CALSCALE:GREGORIAN
METHOD:PUBLISH
X-WR-CALNAME:Resurrection Lutheran Church
X-ORIGINAL-URL:https://www.orovalley.org
X-WR-CALDESC:Events for Resurrection Lutheran Church
REFRESH-INTERVAL;VALUE=DURATION:PT1H
X-Robots-Tag:noindex
X-PUBLISHED-TTL:PT1H
BEGIN:VTIMEZONE
TZID:UTC
BEGIN:STANDARD
TZOFFSETFROM:+0000
TZOFFSETTO:+0000
TZNAME:UTC
DTSTART:20230101T000000
END:STANDARD
END:VTIMEZONE
BEGIN:VEVENT
DTSTART;TZID=UTC:20240922T090000
DTEND;TZID=UTC:20240922T100000
DTSTAMP:20260422T064448
CREATED:20240106T184634Z
LAST-MODIFIED:20240228T200602Z
UID:10001661-1726995600-1726999200@www.orovalley.org
SUMMARY:Worship at SaddleBrooke
DESCRIPTION:Worship Online Here\n\n\n\nOnline Bulletin Here
URL:https://www.orovalley.org/event/worship-at-saddlebrooke/2024-09-22/
LOCATION:SaddleBrooke\, SaddleBrooke HOA2 Clubhouse\, Tucson\, Arizona\, 85739
CATEGORIES:Worship
ATTACH;FMTTYPE=image/jpeg:https://www.orovalley.org/wp-content/uploads/2023/08/sb-worship-pic_3.jpg
END:VEVENT
BEGIN:VEVENT
DTSTART;TZID=UTC:20240922T074500
DTEND;TZID=UTC:20240922T084500
DTSTAMP:20260422T064448
CREATED:20240513T202737Z
LAST-MODIFIED:20240513T202749Z
UID:10000043-1726991100-1726994700@www.orovalley.org
SUMMARY:7:45 Worship
DESCRIPTION:Traditional Worship. Music provided by Resurrection’s Chancel Choir \n\n\n\n\nWorship Online Here\n\n\n\n\n \n\n\n\n\nOnline Bulletins Here
URL:https://www.orovalley.org/event/745-worship-7/2024-09-22/
LOCATION:Oro Valley Sanctuary
CATEGORIES:Worship
ATTACH;FMTTYPE=image/jpeg:https://www.orovalley.org/wp-content/uploads/2023/12/CopyrightTaylorNoelPhotography2021-158-scaled.jpg
END:VEVENT
BEGIN:VEVENT
DTSTART;TZID=UTC:20240921T170000
DTEND;TZID=UTC:20240921T180000
DTSTAMP:20260422T064448
CREATED:20240130T000623Z
LAST-MODIFIED:20240228T201059Z
UID:10002279-1726938000-1726941600@www.orovalley.org
SUMMARY:5:00 Worship
DESCRIPTION:Join us for worship!  \n\n\n\n\nWorship Online Here\n\n\n\nOnline Bulletins Here
URL:https://www.orovalley.org/event/500-worship-2/2024-09-21/
LOCATION:Oro Valley Sanctuary
CATEGORIES:Worship
ATTACH;FMTTYPE=image/jpeg:https://www.orovalley.org/wp-content/uploads/2023/08/CopyrightTaylorNoelPhotography2021-175-354e5a6-scaled.jpg
END:VEVENT
BEGIN:VEVENT
DTSTART;TZID=UTC:20240921T113000
DTEND;TZID=UTC:20240921T180000
DTSTAMP:20260422T064448
CREATED:20240910T192851Z
LAST-MODIFIED:20240910T192854Z
UID:10003886-1726918200-1726941600@www.orovalley.org
SUMMARY:Desert Wanderers Trip
DESCRIPTION:Join us for a walk through the Center for Creative Photography on the U of A campus. Admission is free\, donations accepted. RSVP to Hope Guevara at hope.e.guevara@gmail.com by September 19th. More information in the September Vision.
URL:https://www.orovalley.org/event/desert-wanderers-trip/
END:VEVENT
BEGIN:VEVENT
DTSTART;TZID=UTC:20240919T160000
DTEND;TZID=UTC:20240919T170000
DTSTAMP:20260422T064448
CREATED:20240910T183858Z
LAST-MODIFIED:20240910T183901Z
UID:10003762-1726761600-1726765200@www.orovalley.org
SUMMARY:Endowment Meeting
DESCRIPTION:Join Lisa Higginbotham to learn how you can give a monetary gift to RLC or a charity of your choice and save on taxes. More information in the September Vision. \n\n\n\nZoom Link: https://elcafoundation.zoom.us/j/86790962119?pwd=R2VsRHNzUXpvdThndENzZkVOai8zQT09
URL:https://www.orovalley.org/event/endowment-meeting-2/
END:VEVENT
BEGIN:VEVENT
DTSTART;TZID=UTC:20240918T103000
DTEND;TZID=UTC:20240918T120000
DTSTAMP:20260422T064448
CREATED:20240617T222009Z
LAST-MODIFIED:20240617T222059Z
UID:10003531-1726655400-1726660800@www.orovalley.org
SUMMARY:Parkinson's Support Group
DESCRIPTION:This support group provides encouragement from meeting with others who have Parkinson’s disease\, and for the care givers of those with Parkinson’s. The meetings provide an opportunity to discuss experiences and feelings and to share solutions to common problems.  Meets every 3rd Wednesday of the month in the High School Youth Room.
URL:https://www.orovalley.org/event/parkinsons-support-group-3/2024-09-18/
LOCATION:Youth Room
CATEGORIES:Congregational Care,Serve
ATTACH;FMTTYPE=image/jpeg:https://www.orovalley.org/wp-content/uploads/2024/06/Graphics-3.jpg
END:VEVENT
BEGIN:VEVENT
DTSTART;TZID=UTC:20240918T100000
DTEND;TZID=UTC:20240918T110000
DTSTAMP:20260422T064448
CREATED:20240910T183739Z
LAST-MODIFIED:20240910T183742Z
UID:10003761-1726653600-1726657200@www.orovalley.org
SUMMARY:Endowment Meeting
DESCRIPTION:Join Lisa Higginbotham to learn how you can give a monetary gift to RLC or a charity of your choice and save on taxes. More information in the September Vision. \n\n\n\nZoom Link: https://elcafoundation.zoom.us/j/86790962119?pwd=R2VsRHNzUXpvdThndENzZkVOai8zQT09
URL:https://www.orovalley.org/event/endowment-meeting/
END:VEVENT
BEGIN:VEVENT
DTSTART;TZID=UTC:20240917T080000
DTEND;TZID=UTC:20240917T133000
DTSTAMP:20260422T064448
CREATED:20240910T193532Z
LAST-MODIFIED:20240910T193536Z
UID:10003888-1726560000-1726579800@www.orovalley.org
SUMMARY:American Red Cross Blood Drive
DESCRIPTION:Give the gift of life. Donate today! Sign up here to make an appointment.
URL:https://www.orovalley.org/event/american-red-cross-blood-drive-3/
LOCATION:Katie’s Quarters
END:VEVENT
BEGIN:VEVENT
DTSTART;TZID=UTC:20240915T104500
DTEND;TZID=UTC:20240915T114500
DTSTAMP:20260422T064448
CREATED:20240513T203112Z
LAST-MODIFIED:20240513T203139Z
UID:10001335-1726397100-1726400700@www.orovalley.org
SUMMARY:10:45 Worship - Contemporary
DESCRIPTION:Sunday School\, Confirmation\, High School Sunday School \n\n\n\nChildcare Available \n\n\n\n\nWorship Online Here
URL:https://www.orovalley.org/event/1045-worship-contemporary-4/2024-09-15/
LOCATION:Oro Valley Sanctuary
CATEGORIES:Worship
ATTACH;FMTTYPE=image/jpeg:https://www.orovalley.org/wp-content/uploads/2023/11/CopyrightTaylorNoelPhotography2021-200-scaled.jpg
END:VEVENT
BEGIN:VEVENT
DTSTART;TZID=UTC:20240915T090000
DTEND;TZID=UTC:20240915T100000
DTSTAMP:20260422T064448
CREATED:20240106T184634Z
LAST-MODIFIED:20240228T200602Z
UID:10001660-1726390800-1726394400@www.orovalley.org
SUMMARY:Worship at SaddleBrooke
DESCRIPTION:Worship Online Here\n\n\n\nOnline Bulletin Here
URL:https://www.orovalley.org/event/worship-at-saddlebrooke/2024-09-15/
LOCATION:SaddleBrooke\, SaddleBrooke HOA2 Clubhouse\, Tucson\, Arizona\, 85739
CATEGORIES:Worship
ATTACH;FMTTYPE=image/jpeg:https://www.orovalley.org/wp-content/uploads/2023/08/sb-worship-pic_3.jpg
END:VEVENT
BEGIN:VEVENT
DTSTART;TZID=UTC:20240915T074500
DTEND;TZID=UTC:20240915T084500
DTSTAMP:20260422T064448
CREATED:20240513T202737Z
LAST-MODIFIED:20240513T202749Z
UID:10000042-1726386300-1726389900@www.orovalley.org
SUMMARY:7:45 Worship
DESCRIPTION:Traditional Worship. Music provided by Resurrection’s Chancel Choir \n\n\n\n\nWorship Online Here\n\n\n\n\n \n\n\n\n\nOnline Bulletins Here
URL:https://www.orovalley.org/event/745-worship-7/2024-09-15/
LOCATION:Oro Valley Sanctuary
CATEGORIES:Worship
ATTACH;FMTTYPE=image/jpeg:https://www.orovalley.org/wp-content/uploads/2023/12/CopyrightTaylorNoelPhotography2021-158-scaled.jpg
END:VEVENT
BEGIN:VEVENT
DTSTART;TZID=UTC:20240914T170000
DTEND;TZID=UTC:20240914T180000
DTSTAMP:20260422T064448
CREATED:20240130T000623Z
LAST-MODIFIED:20240228T201059Z
UID:10002278-1726333200-1726336800@www.orovalley.org
SUMMARY:5:00 Worship
DESCRIPTION:Join us for worship!  \n\n\n\n\nWorship Online Here\n\n\n\nOnline Bulletins Here
URL:https://www.orovalley.org/event/500-worship-2/2024-09-14/
LOCATION:Oro Valley Sanctuary
CATEGORIES:Worship
ATTACH;FMTTYPE=image/jpeg:https://www.orovalley.org/wp-content/uploads/2023/08/CopyrightTaylorNoelPhotography2021-175-354e5a6-scaled.jpg
END:VEVENT
BEGIN:VEVENT
DTSTART;TZID=UTC:20240913T123000
DTEND;TZID=UTC:20240913T140000
DTSTAMP:20260422T064448
CREATED:20240910T184900Z
LAST-MODIFIED:20240911T190802Z
UID:10003763-1726230600-1726236000@www.orovalley.org
SUMMARY:Ladies Luncheon
DESCRIPTION:The Ranch House Grill at SaddleBrooke Ranch \n\n\n\nKindly make reservations here. We look forward to you joining us!
URL:https://www.orovalley.org/event/ladies-luncheon-3/
END:VEVENT
BEGIN:VEVENT
DTSTART;TZID=UTC:20240910T183000
DTEND;TZID=UTC:20240910T203000
DTSTAMP:20260422T064448
CREATED:20240910T191442Z
LAST-MODIFIED:20240910T191955Z
UID:10003766-1725993000-1726000200@www.orovalley.org
SUMMARY:Resurrection Card Players
DESCRIPTION:RLC Card Players meets every second and fourth Tuesday of the month. No reservation necessary. Please bring a snack to share and your own beverage. We play a variety of card games and we’re happy to teach you if you don’t know how to play. Everyone is welcome.
URL:https://www.orovalley.org/event/resurrection-card-players/2024-09-10/
LOCATION:Luther’s Lair
END:VEVENT
BEGIN:VEVENT
DTSTART;TZID=UTC:20240909T183000
DTEND;TZID=UTC:20240909T193000
DTSTAMP:20260422T064448
CREATED:20240827T205630Z
LAST-MODIFIED:20240827T205633Z
UID:10003760-1725906600-1725910200@www.orovalley.org
SUMMARY:Casas Trip Informational Meeting
DESCRIPTION:Learn more about our upcoming trips to help build homes in Juarez\, Mexico. Also click here to see the Serve page on the website for more information.
URL:https://www.orovalley.org/event/casas-trip-informational-meeting/
LOCATION:Oro Valley Sanctuary
ATTACH;FMTTYPE=image/jpeg:https://www.orovalley.org/wp-content/uploads/2024/08/Casas.jpg
END:VEVENT
BEGIN:VEVENT
DTSTART;TZID=UTC:20240908T104500
DTEND;TZID=UTC:20240908T114500
DTSTAMP:20260422T064448
CREATED:20240513T203112Z
LAST-MODIFIED:20240513T203139Z
UID:10001334-1725792300-1725795900@www.orovalley.org
SUMMARY:10:45 Worship - Contemporary
DESCRIPTION:Sunday School\, Confirmation\, High School Sunday School \n\n\n\nChildcare Available \n\n\n\n\nWorship Online Here
URL:https://www.orovalley.org/event/1045-worship-contemporary-4/2024-09-08/
LOCATION:Oro Valley Sanctuary
CATEGORIES:Worship
ATTACH;FMTTYPE=image/jpeg:https://www.orovalley.org/wp-content/uploads/2023/11/CopyrightTaylorNoelPhotography2021-200-scaled.jpg
END:VEVENT
BEGIN:VEVENT
DTSTART;TZID=UTC:20240908T090000
DTEND;TZID=UTC:20240908T100000
DTSTAMP:20260422T064448
CREATED:20240106T184634Z
LAST-MODIFIED:20240228T200602Z
UID:10001659-1725786000-1725789600@www.orovalley.org
SUMMARY:Worship at SaddleBrooke
DESCRIPTION:Worship Online Here\n\n\n\nOnline Bulletin Here
URL:https://www.orovalley.org/event/worship-at-saddlebrooke/2024-09-08/
LOCATION:SaddleBrooke\, SaddleBrooke HOA2 Clubhouse\, Tucson\, Arizona\, 85739
CATEGORIES:Worship
ATTACH;FMTTYPE=image/jpeg:https://www.orovalley.org/wp-content/uploads/2023/08/sb-worship-pic_3.jpg
END:VEVENT
BEGIN:VEVENT
DTSTART;TZID=UTC:20240908T074500
DTEND;TZID=UTC:20240908T084500
DTSTAMP:20260422T064448
CREATED:20240513T202737Z
LAST-MODIFIED:20240513T202749Z
UID:10000041-1725781500-1725785100@www.orovalley.org
SUMMARY:7:45 Worship
DESCRIPTION:Traditional Worship. Music provided by Resurrection’s Chancel Choir \n\n\n\n\nWorship Online Here\n\n\n\n\n \n\n\n\n\nOnline Bulletins Here
URL:https://www.orovalley.org/event/745-worship-7/2024-09-08/
LOCATION:Oro Valley Sanctuary
CATEGORIES:Worship
ATTACH;FMTTYPE=image/jpeg:https://www.orovalley.org/wp-content/uploads/2023/12/CopyrightTaylorNoelPhotography2021-158-scaled.jpg
END:VEVENT
BEGIN:VEVENT
DTSTART;TZID=UTC:20240907T170000
DTEND;TZID=UTC:20240907T180000
DTSTAMP:20260422T064448
CREATED:20240130T000623Z
LAST-MODIFIED:20240228T201059Z
UID:10002277-1725728400-1725732000@www.orovalley.org
SUMMARY:5:00 Worship
DESCRIPTION:Join us for worship!  \n\n\n\n\nWorship Online Here\n\n\n\nOnline Bulletins Here
URL:https://www.orovalley.org/event/500-worship-2/2024-09-07/
LOCATION:Oro Valley Sanctuary
CATEGORIES:Worship
ATTACH;FMTTYPE=image/jpeg:https://www.orovalley.org/wp-content/uploads/2023/08/CopyrightTaylorNoelPhotography2021-175-354e5a6-scaled.jpg
END:VEVENT
BEGIN:VEVENT
DTSTART;TZID=UTC:20240902T080000
DTEND;TZID=UTC:20240902T170000
DTSTAMP:20260422T064448
CREATED:20240827T194653Z
LAST-MODIFIED:20240827T194826Z
UID:10003755-1725264000-1725296400@www.orovalley.org
SUMMARY:Campus Closed: Happy Labor Day!
DESCRIPTION:Our campus and offices are closed due to the holiday. Happy Labor Day!
URL:https://www.orovalley.org/event/campus-closed-happy-labor-day-3/
CATEGORIES:Churchwide Events
ATTACH;FMTTYPE=image/jpeg:https://www.orovalley.org/wp-content/uploads/2024/08/vecteezy_sorry-we-are-closed-hanging-sign-on-white-background-sign_29888881.jpg
END:VEVENT
BEGIN:VEVENT
DTSTART;TZID=UTC:20240901T104500
DTEND;TZID=UTC:20240901T114500
DTSTAMP:20260422T064448
CREATED:20240513T203112Z
LAST-MODIFIED:20240513T203139Z
UID:10001333-1725187500-1725191100@www.orovalley.org
SUMMARY:10:45 Worship - Contemporary
DESCRIPTION:Sunday School\, Confirmation\, High School Sunday School \n\n\n\nChildcare Available \n\n\n\n\nWorship Online Here
URL:https://www.orovalley.org/event/1045-worship-contemporary-4/2024-09-01/
LOCATION:Oro Valley Sanctuary
CATEGORIES:Worship
ATTACH;FMTTYPE=image/jpeg:https://www.orovalley.org/wp-content/uploads/2023/11/CopyrightTaylorNoelPhotography2021-200-scaled.jpg
END:VEVENT
BEGIN:VEVENT
DTSTART;TZID=UTC:20240901T090000
DTEND;TZID=UTC:20240901T100000
DTSTAMP:20260422T064448
CREATED:20240106T184634Z
LAST-MODIFIED:20240228T200602Z
UID:10001658-1725181200-1725184800@www.orovalley.org
SUMMARY:Worship at SaddleBrooke
DESCRIPTION:Worship Online Here\n\n\n\nOnline Bulletin Here
URL:https://www.orovalley.org/event/worship-at-saddlebrooke/2024-09-01/
LOCATION:SaddleBrooke\, SaddleBrooke HOA2 Clubhouse\, Tucson\, Arizona\, 85739
CATEGORIES:Worship
ATTACH;FMTTYPE=image/jpeg:https://www.orovalley.org/wp-content/uploads/2023/08/sb-worship-pic_3.jpg
END:VEVENT
BEGIN:VEVENT
DTSTART;TZID=UTC:20240901T074500
DTEND;TZID=UTC:20240901T084500
DTSTAMP:20260422T064448
CREATED:20240513T202737Z
LAST-MODIFIED:20240513T202749Z
UID:10000040-1725176700-1725180300@www.orovalley.org
SUMMARY:7:45 Worship
DESCRIPTION:Traditional Worship. Music provided by Resurrection’s Chancel Choir \n\n\n\n\nWorship Online Here\n\n\n\n\n \n\n\n\n\nOnline Bulletins Here
URL:https://www.orovalley.org/event/745-worship-7/2024-09-01/
LOCATION:Oro Valley Sanctuary
CATEGORIES:Worship
ATTACH;FMTTYPE=image/jpeg:https://www.orovalley.org/wp-content/uploads/2023/12/CopyrightTaylorNoelPhotography2021-158-scaled.jpg
END:VEVENT
BEGIN:VEVENT
DTSTART;TZID=UTC:20240831T170000
DTEND;TZID=UTC:20240831T180000
DTSTAMP:20260422T064448
CREATED:20240130T000623Z
LAST-MODIFIED:20240228T201059Z
UID:10002276-1725123600-1725127200@www.orovalley.org
SUMMARY:5:00 Worship
DESCRIPTION:Join us for worship!  \n\n\n\n\nWorship Online Here\n\n\n\nOnline Bulletins Here
URL:https://www.orovalley.org/event/500-worship-2/2024-08-31/
LOCATION:Oro Valley Sanctuary
CATEGORIES:Worship
ATTACH;FMTTYPE=image/jpeg:https://www.orovalley.org/wp-content/uploads/2023/08/CopyrightTaylorNoelPhotography2021-175-354e5a6-scaled.jpg
END:VEVENT
BEGIN:VEVENT
DTSTART;TZID=UTC:20240825T104500
DTEND;TZID=UTC:20240825T114500
DTSTAMP:20260422T064448
CREATED:20240513T203112Z
LAST-MODIFIED:20240513T203139Z
UID:10001332-1724582700-1724586300@www.orovalley.org
SUMMARY:10:45 Worship - Contemporary
DESCRIPTION:Sunday School\, Confirmation\, High School Sunday School \n\n\n\nChildcare Available \n\n\n\n\nWorship Online Here
URL:https://www.orovalley.org/event/1045-worship-contemporary-4/2024-08-25/
LOCATION:Oro Valley Sanctuary
CATEGORIES:Worship
ATTACH;FMTTYPE=image/jpeg:https://www.orovalley.org/wp-content/uploads/2023/11/CopyrightTaylorNoelPhotography2021-200-scaled.jpg
END:VEVENT
BEGIN:VEVENT
DTSTART;TZID=UTC:20240825T090000
DTEND;TZID=UTC:20240825T100000
DTSTAMP:20260422T064448
CREATED:20240106T184634Z
LAST-MODIFIED:20240228T200602Z
UID:10001657-1724576400-1724580000@www.orovalley.org
SUMMARY:Worship at SaddleBrooke
DESCRIPTION:Worship Online Here\n\n\n\nOnline Bulletin Here
URL:https://www.orovalley.org/event/worship-at-saddlebrooke/2024-08-25/
LOCATION:SaddleBrooke\, SaddleBrooke HOA2 Clubhouse\, Tucson\, Arizona\, 85739
CATEGORIES:Worship
ATTACH;FMTTYPE=image/jpeg:https://www.orovalley.org/wp-content/uploads/2023/08/sb-worship-pic_3.jpg
END:VEVENT
BEGIN:VEVENT
DTSTART;TZID=UTC:20240825T074500
DTEND;TZID=UTC:20240825T084500
DTSTAMP:20260422T064448
CREATED:20240513T202737Z
LAST-MODIFIED:20240513T202749Z
UID:10000039-1724571900-1724575500@www.orovalley.org
SUMMARY:7:45 Worship
DESCRIPTION:Traditional Worship. Music provided by Resurrection’s Chancel Choir \n\n\n\n\nWorship Online Here\n\n\n\n\n \n\n\n\n\nOnline Bulletins Here
URL:https://www.orovalley.org/event/745-worship-7/2024-08-25/
LOCATION:Oro Valley Sanctuary
CATEGORIES:Worship
ATTACH;FMTTYPE=image/jpeg:https://www.orovalley.org/wp-content/uploads/2023/12/CopyrightTaylorNoelPhotography2021-158-scaled.jpg
END:VEVENT
BEGIN:VEVENT
DTSTART;TZID=UTC:20240824T170000
DTEND;TZID=UTC:20240824T180000
DTSTAMP:20260422T064448
CREATED:20240130T000623Z
LAST-MODIFIED:20240228T201059Z
UID:10002275-1724518800-1724522400@www.orovalley.org
SUMMARY:5:00 Worship
DESCRIPTION:Join us for worship!  \n\n\n\n\nWorship Online Here\n\n\n\nOnline Bulletins Here
URL:https://www.orovalley.org/event/500-worship-2/2024-08-24/
LOCATION:Oro Valley Sanctuary
CATEGORIES:Worship
ATTACH;FMTTYPE=image/jpeg:https://www.orovalley.org/wp-content/uploads/2023/08/CopyrightTaylorNoelPhotography2021-175-354e5a6-scaled.jpg
END:VEVENT
BEGIN:VEVENT
DTSTART;TZID=UTC:20240821T190000
DTEND;TZID=UTC:20240821T203000
DTSTAMP:20260422T064448
CREATED:20240509T195012Z
LAST-MODIFIED:20240515T214351Z
UID:10002909-1724266800-1724272200@www.orovalley.org
SUMMARY:Summer Singers
DESCRIPTION:The Summer Singers choir is our summer choir and rehearses in the Choir Loft on Wednesdays\, and sings on Sundays at the Sunday\, 8 AM service during May\, June\, and July.  \n\n\n\n\nContact the Director\, Tanya Elias\, Here!
URL:https://www.orovalley.org/event/spirit-singers-3/2024-08-21/
LOCATION:Oro Valley Sanctuary
CATEGORIES:Music Ministry
ATTACH;FMTTYPE=image/jpeg:https://www.orovalley.org/wp-content/uploads/2023/12/qtq80-sMxHqZ-scaled.jpeg
END:VEVENT
BEGIN:VEVENT
DTSTART;TZID=UTC:20240821T103000
DTEND;TZID=UTC:20240821T120000
DTSTAMP:20260422T064448
CREATED:20240617T222009Z
LAST-MODIFIED:20240617T222059Z
UID:10003530-1724236200-1724241600@www.orovalley.org
SUMMARY:Parkinson's Support Group
DESCRIPTION:This support group provides encouragement from meeting with others who have Parkinson’s disease\, and for the care givers of those with Parkinson’s. The meetings provide an opportunity to discuss experiences and feelings and to share solutions to common problems.  Meets every 3rd Wednesday of the month in the High School Youth Room.
URL:https://www.orovalley.org/event/parkinsons-support-group-3/2024-08-21/
LOCATION:Youth Room
CATEGORIES:Congregational Care,Serve
ATTACH;FMTTYPE=image/jpeg:https://www.orovalley.org/wp-content/uploads/2024/06/Graphics-3.jpg
END:VEVENT
END:VCALENDAR