BEGIN:VCALENDAR
VERSION:2.0
PRODID:-//Resurrection Lutheran Church - ECPv6.15.20//NONSGML v1.0//EN
CALSCALE:GREGORIAN
METHOD:PUBLISH
X-WR-CALNAME:Resurrection Lutheran Church
X-ORIGINAL-URL:https://www.orovalley.org
X-WR-CALDESC:Events for Resurrection Lutheran Church
REFRESH-INTERVAL;VALUE=DURATION:PT1H
X-Robots-Tag:noindex
X-PUBLISHED-TTL:PT1H
BEGIN:VTIMEZONE
TZID:UTC
BEGIN:STANDARD
TZOFFSETFROM:+0000
TZOFFSETTO:+0000
TZNAME:UTC
DTSTART:20250101T000000
END:STANDARD
END:VTIMEZONE
BEGIN:VEVENT
DTSTART;TZID=UTC:20261031T170000
DTEND;TZID=UTC:20261031T180000
DTSTAMP:20260422T095403
CREATED:20240130T000623Z
LAST-MODIFIED:20240228T201059Z
UID:10002389-1793466000-1793469600@www.orovalley.org
SUMMARY:5:00 Worship
DESCRIPTION:Join us for worship!  \n\n\n\n\nWorship Online Here\n\n\n\nOnline Bulletins Here
URL:https://www.orovalley.org/event/500-worship-2/2026-10-31/
LOCATION:Oro Valley Sanctuary
CATEGORIES:Worship
ATTACH;FMTTYPE=image/jpeg:https://www.orovalley.org/wp-content/uploads/2023/08/CopyrightTaylorNoelPhotography2021-175-354e5a6-scaled.jpg
END:VEVENT
BEGIN:VEVENT
DTSTART;TZID=UTC:20261101T074500
DTEND;TZID=UTC:20261101T084500
DTSTAMP:20260422T095403
CREATED:20260409T001807Z
LAST-MODIFIED:20260409T001814Z
UID:10008222-1793519100-1793522700@www.orovalley.org
SUMMARY:7:45 Worship - Traditional
DESCRIPTION:Traditional Worship. Music provided by Resurrection’s Chancel Choir \n\n\n\n\nWorship Online Here\n\n\n\n\n \n\n\n\n\nOnline Bulletins Here
URL:https://www.orovalley.org/event/745-worship-traditional-2/2026-11-01/
LOCATION:Oro Valley Sanctuary
CATEGORIES:Worship
ATTACH;FMTTYPE=image/jpeg:https://www.orovalley.org/wp-content/uploads/2023/12/CopyrightTaylorNoelPhotography2021-158-scaled.jpg
END:VEVENT
BEGIN:VEVENT
DTSTART;TZID=UTC:20261101T090000
DTEND;TZID=UTC:20261101T100000
DTSTAMP:20260422T095403
CREATED:20240106T184634Z
LAST-MODIFIED:20240228T200602Z
UID:10001771-1793523600-1793527200@www.orovalley.org
SUMMARY:Worship at SaddleBrooke
DESCRIPTION:Worship Online Here\n\n\n\nOnline Bulletin Here
URL:https://www.orovalley.org/event/worship-at-saddlebrooke/2026-11-01/
LOCATION:SaddleBrooke\, SaddleBrooke HOA2 Clubhouse\, Tucson\, Arizona\, 85739
CATEGORIES:Worship
ATTACH;FMTTYPE=image/jpeg:https://www.orovalley.org/wp-content/uploads/2023/08/sb-worship-pic_3.jpg
END:VEVENT
BEGIN:VEVENT
DTSTART;TZID=UTC:20261101T104500
DTEND;TZID=UTC:20261101T114500
DTSTAMP:20260422T095403
CREATED:20260408T180153Z
LAST-MODIFIED:20260409T003406Z
UID:10008260-1793529900-1793533500@www.orovalley.org
SUMMARY:10:45 Worship - Contemporary
DESCRIPTION:Sunday School\, Confirmation\, High School Sunday School \n\n\n\nChildcare Available \n\n\n\n\nWorship Online Here
URL:https://www.orovalley.org/event/1045-worship-contemporary-11/2026-11-01/
LOCATION:Oro Valley Sanctuary
CATEGORIES:Worship
ATTACH;FMTTYPE=image/jpeg:https://www.orovalley.org/wp-content/uploads/2023/11/CopyrightTaylorNoelPhotography2021-200-scaled.jpg
END:VEVENT
BEGIN:VEVENT
DTSTART;TZID=UTC:20261103T130000
DTEND;TZID=UTC:20261103T160000
DTSTAMP:20260422T095403
CREATED:20260210T184404Z
LAST-MODIFIED:20260210T202351Z
UID:10006853-1793710800-1793721600@www.orovalley.org
SUMMARY:Art by Heart Glass Classes
DESCRIPTION:Art by Heart Studio
URL:https://www.orovalley.org/event/art-by-heart-glass-classes/2026-11-03/
END:VEVENT
BEGIN:VEVENT
DTSTART;TZID=UTC:20261104T150000
DTEND;TZID=UTC:20261104T160000
DTSTAMP:20260422T095403
CREATED:20260415T170108Z
LAST-MODIFIED:20260415T170119Z
UID:10004544-1793804400-1793808000@www.orovalley.org
SUMMARY:Scripture & Salsa
DESCRIPTION:You are invited to join Pastor Carol every Wednesday from 3:00 – 4:00 PM at Mi Tierra Mexican Restaurant in Catalina starting January 8th for an informal discussion of the Bible texts for the upcoming weekend’s worship. No registration is required and there is no long-term commitment. Just grab your Bible and drop by.
URL:https://www.orovalley.org/event/scripture-salsa-3/2026-11-04/
END:VEVENT
BEGIN:VEVENT
DTSTART;TZID=UTC:20261105T130000
DTEND;TZID=UTC:20261105T160000
DTSTAMP:20260422T095403
CREATED:20241213T002356Z
LAST-MODIFIED:20241213T002359Z
UID:10004146-1793883600-1793894400@www.orovalley.org
SUMMARY:Matching Dragons Mah Jongg
DESCRIPTION:Do you play the game of (American) Mah Jongg and have been looking for a group to play with? Join us on Thursday afternoons 1:00-4:00 PM in Luther’s Lair in the Outreach Center. These are friendly games. We do NOT play for money but we ALWAYS have a good time. This group is for those who already know how to play the game. However\, anyone is invited to come observe to see if they would like to learn to play the game. Questions? Contact Jackie Verdick at jackieverdick@gmail.com or 612-554-0111.
URL:https://www.orovalley.org/event/matching-dragons-mah-jongg/2026-11-05/
END:VEVENT
BEGIN:VEVENT
DTSTART;TZID=UTC:20261105T130000
DTEND;TZID=UTC:20261105T160000
DTSTAMP:20260422T095403
CREATED:20251107T191455Z
LAST-MODIFIED:20251107T191616Z
UID:10005796-1793883600-1793894400@www.orovalley.org
SUMMARY:Art by Heart Open Studio
DESCRIPTION:
URL:https://www.orovalley.org/event/art-by-heart-open-studio/2026-11-05/
END:VEVENT
BEGIN:VEVENT
DTSTART;TZID=UTC:20261107T170000
DTEND;TZID=UTC:20261107T180000
DTSTAMP:20260422T095403
CREATED:20240130T000623Z
LAST-MODIFIED:20240228T201059Z
UID:10002390-1794070800-1794074400@www.orovalley.org
SUMMARY:5:00 Worship
DESCRIPTION:Join us for worship!  \n\n\n\n\nWorship Online Here\n\n\n\nOnline Bulletins Here
URL:https://www.orovalley.org/event/500-worship-2/2026-11-07/
LOCATION:Oro Valley Sanctuary
CATEGORIES:Worship
ATTACH;FMTTYPE=image/jpeg:https://www.orovalley.org/wp-content/uploads/2023/08/CopyrightTaylorNoelPhotography2021-175-354e5a6-scaled.jpg
END:VEVENT
BEGIN:VEVENT
DTSTART;TZID=UTC:20261108T074500
DTEND;TZID=UTC:20261108T084500
DTSTAMP:20260422T095403
CREATED:20260409T001807Z
LAST-MODIFIED:20260409T001814Z
UID:10008223-1794123900-1794127500@www.orovalley.org
SUMMARY:7:45 Worship - Traditional
DESCRIPTION:Traditional Worship. Music provided by Resurrection’s Chancel Choir \n\n\n\n\nWorship Online Here\n\n\n\n\n \n\n\n\n\nOnline Bulletins Here
URL:https://www.orovalley.org/event/745-worship-traditional-2/2026-11-08/
LOCATION:Oro Valley Sanctuary
CATEGORIES:Worship
ATTACH;FMTTYPE=image/jpeg:https://www.orovalley.org/wp-content/uploads/2023/12/CopyrightTaylorNoelPhotography2021-158-scaled.jpg
END:VEVENT
BEGIN:VEVENT
DTSTART;TZID=UTC:20261108T090000
DTEND;TZID=UTC:20261108T100000
DTSTAMP:20260422T095403
CREATED:20240106T184634Z
LAST-MODIFIED:20240228T200602Z
UID:10001772-1794128400-1794132000@www.orovalley.org
SUMMARY:Worship at SaddleBrooke
DESCRIPTION:Worship Online Here\n\n\n\nOnline Bulletin Here
URL:https://www.orovalley.org/event/worship-at-saddlebrooke/2026-11-08/
LOCATION:SaddleBrooke\, SaddleBrooke HOA2 Clubhouse\, Tucson\, Arizona\, 85739
CATEGORIES:Worship
ATTACH;FMTTYPE=image/jpeg:https://www.orovalley.org/wp-content/uploads/2023/08/sb-worship-pic_3.jpg
END:VEVENT
BEGIN:VEVENT
DTSTART;TZID=UTC:20261108T104500
DTEND;TZID=UTC:20261108T114500
DTSTAMP:20260422T095403
CREATED:20260408T180153Z
LAST-MODIFIED:20260409T003406Z
UID:10008261-1794134700-1794138300@www.orovalley.org
SUMMARY:10:45 Worship - Contemporary
DESCRIPTION:Sunday School\, Confirmation\, High School Sunday School \n\n\n\nChildcare Available \n\n\n\n\nWorship Online Here
URL:https://www.orovalley.org/event/1045-worship-contemporary-11/2026-11-08/
LOCATION:Oro Valley Sanctuary
CATEGORIES:Worship
ATTACH;FMTTYPE=image/jpeg:https://www.orovalley.org/wp-content/uploads/2023/11/CopyrightTaylorNoelPhotography2021-200-scaled.jpg
END:VEVENT
BEGIN:VEVENT
DTSTART;TZID=UTC:20261110T130000
DTEND;TZID=UTC:20261110T160000
DTSTAMP:20260422T095403
CREATED:20260210T184404Z
LAST-MODIFIED:20260210T202351Z
UID:10006854-1794315600-1794326400@www.orovalley.org
SUMMARY:Art by Heart Glass Classes
DESCRIPTION:Art by Heart Studio
URL:https://www.orovalley.org/event/art-by-heart-glass-classes/2026-11-10/
END:VEVENT
BEGIN:VEVENT
DTSTART;TZID=UTC:20261110T183000
DTEND;TZID=UTC:20261110T203000
DTSTAMP:20260422T095403
CREATED:20251111T170454Z
LAST-MODIFIED:20251111T170509Z
UID:10003792-1794335400-1794342600@www.orovalley.org
SUMMARY:Resurrection Card Players
DESCRIPTION:RLC Card Players meets every second and fourth Tuesday of the month in the Music Room. No reservation necessary. Please bring a snack to share and your own beverage. We play a variety of card games and we’re happy to teach you if you don’t know how to play. Everyone is welcome.
URL:https://www.orovalley.org/event/resurrection-card-players-5/2026-11-10/
END:VEVENT
BEGIN:VEVENT
DTSTART;TZID=UTC:20261111T150000
DTEND;TZID=UTC:20261111T160000
DTSTAMP:20260422T095403
CREATED:20260415T170108Z
LAST-MODIFIED:20260415T170119Z
UID:10004545-1794409200-1794412800@www.orovalley.org
SUMMARY:Scripture & Salsa
DESCRIPTION:You are invited to join Pastor Carol every Wednesday from 3:00 – 4:00 PM at Mi Tierra Mexican Restaurant in Catalina starting January 8th for an informal discussion of the Bible texts for the upcoming weekend’s worship. No registration is required and there is no long-term commitment. Just grab your Bible and drop by.
URL:https://www.orovalley.org/event/scripture-salsa-3/2026-11-11/
END:VEVENT
BEGIN:VEVENT
DTSTART;TZID=UTC:20261112T130000
DTEND;TZID=UTC:20261112T160000
DTSTAMP:20260422T095403
CREATED:20241213T002356Z
LAST-MODIFIED:20241213T002359Z
UID:10004147-1794488400-1794499200@www.orovalley.org
SUMMARY:Matching Dragons Mah Jongg
DESCRIPTION:Do you play the game of (American) Mah Jongg and have been looking for a group to play with? Join us on Thursday afternoons 1:00-4:00 PM in Luther’s Lair in the Outreach Center. These are friendly games. We do NOT play for money but we ALWAYS have a good time. This group is for those who already know how to play the game. However\, anyone is invited to come observe to see if they would like to learn to play the game. Questions? Contact Jackie Verdick at jackieverdick@gmail.com or 612-554-0111.
URL:https://www.orovalley.org/event/matching-dragons-mah-jongg/2026-11-12/
END:VEVENT
BEGIN:VEVENT
DTSTART;TZID=UTC:20261112T130000
DTEND;TZID=UTC:20261112T160000
DTSTAMP:20260422T095403
CREATED:20251107T191455Z
LAST-MODIFIED:20251107T191616Z
UID:10005797-1794488400-1794499200@www.orovalley.org
SUMMARY:Art by Heart Open Studio
DESCRIPTION:
URL:https://www.orovalley.org/event/art-by-heart-open-studio/2026-11-12/
END:VEVENT
BEGIN:VEVENT
DTSTART;TZID=UTC:20261114T080000
DTEND;TZID=UTC:20261114T100000
DTSTAMP:20260422T095403
CREATED:20260409T172217Z
LAST-MODIFIED:20260409T172226Z
UID:10008291-1794643200-1794650400@www.orovalley.org
SUMMARY:Men's Bible Study
DESCRIPTION:Uses the Serendipity Bible\, copies are available. All men of the church are welcome to attend. Meets in Luther’s Lair.
URL:https://www.orovalley.org/event/mens-bible-study-13/2026-11-14/
END:VEVENT
BEGIN:VEVENT
DTSTART;TZID=UTC:20261114T170000
DTEND;TZID=UTC:20261114T180000
DTSTAMP:20260422T095403
CREATED:20240130T000623Z
LAST-MODIFIED:20240228T201059Z
UID:10002391-1794675600-1794679200@www.orovalley.org
SUMMARY:5:00 Worship
DESCRIPTION:Join us for worship!  \n\n\n\n\nWorship Online Here\n\n\n\nOnline Bulletins Here
URL:https://www.orovalley.org/event/500-worship-2/2026-11-14/
LOCATION:Oro Valley Sanctuary
CATEGORIES:Worship
ATTACH;FMTTYPE=image/jpeg:https://www.orovalley.org/wp-content/uploads/2023/08/CopyrightTaylorNoelPhotography2021-175-354e5a6-scaled.jpg
END:VEVENT
BEGIN:VEVENT
DTSTART;TZID=UTC:20261115T074500
DTEND;TZID=UTC:20261115T084500
DTSTAMP:20260422T095403
CREATED:20260409T001807Z
LAST-MODIFIED:20260409T001814Z
UID:10008224-1794728700-1794732300@www.orovalley.org
SUMMARY:7:45 Worship - Traditional
DESCRIPTION:Traditional Worship. Music provided by Resurrection’s Chancel Choir \n\n\n\n\nWorship Online Here\n\n\n\n\n \n\n\n\n\nOnline Bulletins Here
URL:https://www.orovalley.org/event/745-worship-traditional-2/2026-11-15/
LOCATION:Oro Valley Sanctuary
CATEGORIES:Worship
ATTACH;FMTTYPE=image/jpeg:https://www.orovalley.org/wp-content/uploads/2023/12/CopyrightTaylorNoelPhotography2021-158-scaled.jpg
END:VEVENT
BEGIN:VEVENT
DTSTART;TZID=UTC:20261115T090000
DTEND;TZID=UTC:20261115T100000
DTSTAMP:20260422T095403
CREATED:20240106T184634Z
LAST-MODIFIED:20240228T200602Z
UID:10001773-1794733200-1794736800@www.orovalley.org
SUMMARY:Worship at SaddleBrooke
DESCRIPTION:Worship Online Here\n\n\n\nOnline Bulletin Here
URL:https://www.orovalley.org/event/worship-at-saddlebrooke/2026-11-15/
LOCATION:SaddleBrooke\, SaddleBrooke HOA2 Clubhouse\, Tucson\, Arizona\, 85739
CATEGORIES:Worship
ATTACH;FMTTYPE=image/jpeg:https://www.orovalley.org/wp-content/uploads/2023/08/sb-worship-pic_3.jpg
END:VEVENT
BEGIN:VEVENT
DTSTART;TZID=UTC:20261115T104500
DTEND;TZID=UTC:20261115T114500
DTSTAMP:20260422T095403
CREATED:20260408T180153Z
LAST-MODIFIED:20260409T003406Z
UID:10008262-1794739500-1794743100@www.orovalley.org
SUMMARY:10:45 Worship - Contemporary
DESCRIPTION:Sunday School\, Confirmation\, High School Sunday School \n\n\n\nChildcare Available \n\n\n\n\nWorship Online Here
URL:https://www.orovalley.org/event/1045-worship-contemporary-11/2026-11-15/
LOCATION:Oro Valley Sanctuary
CATEGORIES:Worship
ATTACH;FMTTYPE=image/jpeg:https://www.orovalley.org/wp-content/uploads/2023/11/CopyrightTaylorNoelPhotography2021-200-scaled.jpg
END:VEVENT
BEGIN:VEVENT
DTSTART;TZID=UTC:20261117T130000
DTEND;TZID=UTC:20261117T160000
DTSTAMP:20260422T095403
CREATED:20260210T184404Z
LAST-MODIFIED:20260210T202351Z
UID:10006855-1794920400-1794931200@www.orovalley.org
SUMMARY:Art by Heart Glass Classes
DESCRIPTION:Art by Heart Studio
URL:https://www.orovalley.org/event/art-by-heart-glass-classes/2026-11-17/
END:VEVENT
BEGIN:VEVENT
DTSTART;TZID=UTC:20261118T103000
DTEND;TZID=UTC:20261118T120000
DTSTAMP:20260422T095404
CREATED:20240617T222009Z
LAST-MODIFIED:20240617T222059Z
UID:10003557-1794997800-1795003200@www.orovalley.org
SUMMARY:Parkinson's Support Group
DESCRIPTION:This support group provides encouragement from meeting with others who have Parkinson’s disease\, and for the care givers of those with Parkinson’s. The meetings provide an opportunity to discuss experiences and feelings and to share solutions to common problems.  Meets every 3rd Wednesday of the month in the High School Youth Room.
URL:https://www.orovalley.org/event/parkinsons-support-group-3/2026-11-18/
LOCATION:Youth Room
CATEGORIES:Congregational Care,Serve
ATTACH;FMTTYPE=image/jpeg:https://www.orovalley.org/wp-content/uploads/2024/06/Graphics-3.jpg
END:VEVENT
BEGIN:VEVENT
DTSTART;TZID=UTC:20261118T150000
DTEND;TZID=UTC:20261118T160000
DTSTAMP:20260422T095404
CREATED:20260415T170108Z
LAST-MODIFIED:20260415T170119Z
UID:10004546-1795014000-1795017600@www.orovalley.org
SUMMARY:Scripture & Salsa
DESCRIPTION:You are invited to join Pastor Carol every Wednesday from 3:00 – 4:00 PM at Mi Tierra Mexican Restaurant in Catalina starting January 8th for an informal discussion of the Bible texts for the upcoming weekend’s worship. No registration is required and there is no long-term commitment. Just grab your Bible and drop by.
URL:https://www.orovalley.org/event/scripture-salsa-3/2026-11-18/
END:VEVENT
BEGIN:VEVENT
DTSTART;TZID=UTC:20261119T130000
DTEND;TZID=UTC:20261119T160000
DTSTAMP:20260422T095404
CREATED:20241213T002356Z
LAST-MODIFIED:20241213T002359Z
UID:10004148-1795093200-1795104000@www.orovalley.org
SUMMARY:Matching Dragons Mah Jongg
DESCRIPTION:Do you play the game of (American) Mah Jongg and have been looking for a group to play with? Join us on Thursday afternoons 1:00-4:00 PM in Luther’s Lair in the Outreach Center. These are friendly games. We do NOT play for money but we ALWAYS have a good time. This group is for those who already know how to play the game. However\, anyone is invited to come observe to see if they would like to learn to play the game. Questions? Contact Jackie Verdick at jackieverdick@gmail.com or 612-554-0111.
URL:https://www.orovalley.org/event/matching-dragons-mah-jongg/2026-11-19/
END:VEVENT
BEGIN:VEVENT
DTSTART;TZID=UTC:20261119T130000
DTEND;TZID=UTC:20261119T160000
DTSTAMP:20260422T095404
CREATED:20251107T191455Z
LAST-MODIFIED:20251107T191616Z
UID:10005798-1795093200-1795104000@www.orovalley.org
SUMMARY:Art by Heart Open Studio
DESCRIPTION:
URL:https://www.orovalley.org/event/art-by-heart-open-studio/2026-11-19/
END:VEVENT
BEGIN:VEVENT
DTSTART;TZID=UTC:20261121T090000
DTEND;TZID=UTC:20261121T110000
DTSTAMP:20260422T095404
CREATED:20260210T201725Z
LAST-MODIFIED:20260210T201733Z
UID:10006780-1795251600-1795258800@www.orovalley.org
SUMMARY:Faithful Living Fellowship
DESCRIPTION:Oro Valley \n\n\n\nWe meet for coffee\, snacks and fellowship\, followed by a film and small discussion groups. We will study the book “Embracing Trust” by Joanna Weaver. Sign up on the website under the Learn section.
URL:https://www.orovalley.org/event/faithful-living-fellowship-3/2026-11-21/
END:VEVENT
BEGIN:VEVENT
DTSTART;TZID=UTC:20261121T170000
DTEND;TZID=UTC:20261121T180000
DTSTAMP:20260422T095404
CREATED:20240130T000623Z
LAST-MODIFIED:20240228T201059Z
UID:10002392-1795280400-1795284000@www.orovalley.org
SUMMARY:5:00 Worship
DESCRIPTION:Join us for worship!  \n\n\n\n\nWorship Online Here\n\n\n\nOnline Bulletins Here
URL:https://www.orovalley.org/event/500-worship-2/2026-11-21/
LOCATION:Oro Valley Sanctuary
CATEGORIES:Worship
ATTACH;FMTTYPE=image/jpeg:https://www.orovalley.org/wp-content/uploads/2023/08/CopyrightTaylorNoelPhotography2021-175-354e5a6-scaled.jpg
END:VEVENT
BEGIN:VEVENT
DTSTART;TZID=UTC:20261122T074500
DTEND;TZID=UTC:20261122T084500
DTSTAMP:20260422T095404
CREATED:20260409T001807Z
LAST-MODIFIED:20260409T001814Z
UID:10008225-1795333500-1795337100@www.orovalley.org
SUMMARY:7:45 Worship - Traditional
DESCRIPTION:Traditional Worship. Music provided by Resurrection’s Chancel Choir \n\n\n\n\nWorship Online Here\n\n\n\n\n \n\n\n\n\nOnline Bulletins Here
URL:https://www.orovalley.org/event/745-worship-traditional-2/2026-11-22/
LOCATION:Oro Valley Sanctuary
CATEGORIES:Worship
ATTACH;FMTTYPE=image/jpeg:https://www.orovalley.org/wp-content/uploads/2023/12/CopyrightTaylorNoelPhotography2021-158-scaled.jpg
END:VEVENT
END:VCALENDAR