BEGIN:VCALENDAR
VERSION:2.0
PRODID:-//Resurrection Lutheran Church - ECPv6.15.20//NONSGML v1.0//EN
CALSCALE:GREGORIAN
METHOD:PUBLISH
X-WR-CALNAME:Resurrection Lutheran Church
X-ORIGINAL-URL:https://www.orovalley.org
X-WR-CALDESC:Events for Resurrection Lutheran Church
REFRESH-INTERVAL;VALUE=DURATION:PT1H
X-Robots-Tag:noindex
X-PUBLISHED-TTL:PT1H
BEGIN:VTIMEZONE
TZID:UTC
BEGIN:STANDARD
TZOFFSETFROM:+0000
TZOFFSETTO:+0000
TZNAME:UTC
DTSTART:20230101T000000
END:STANDARD
END:VTIMEZONE
BEGIN:VEVENT
DTSTART;TZID=UTC:20240818T104500
DTEND;TZID=UTC:20240818T114500
DTSTAMP:20260421T203143
CREATED:20240513T203112Z
LAST-MODIFIED:20240513T203139Z
UID:10001331-1723977900-1723981500@www.orovalley.org
SUMMARY:10:45 Worship - Contemporary
DESCRIPTION:Sunday School\, Confirmation\, High School Sunday School \n\n\n\nChildcare Available \n\n\n\n\nWorship Online Here
URL:https://www.orovalley.org/event/1045-worship-contemporary-4/2024-08-18/
LOCATION:Oro Valley Sanctuary
CATEGORIES:Worship
ATTACH;FMTTYPE=image/jpeg:https://www.orovalley.org/wp-content/uploads/2023/11/CopyrightTaylorNoelPhotography2021-200-scaled.jpg
END:VEVENT
BEGIN:VEVENT
DTSTART;TZID=UTC:20240818T090000
DTEND;TZID=UTC:20240818T100000
DTSTAMP:20260421T203143
CREATED:20240106T184634Z
LAST-MODIFIED:20240228T200602Z
UID:10001656-1723971600-1723975200@www.orovalley.org
SUMMARY:Worship at SaddleBrooke
DESCRIPTION:Worship Online Here\n\n\n\nOnline Bulletin Here
URL:https://www.orovalley.org/event/worship-at-saddlebrooke/2024-08-18/
LOCATION:SaddleBrooke\, SaddleBrooke HOA2 Clubhouse\, Tucson\, Arizona\, 85739
CATEGORIES:Worship
ATTACH;FMTTYPE=image/jpeg:https://www.orovalley.org/wp-content/uploads/2023/08/sb-worship-pic_3.jpg
END:VEVENT
BEGIN:VEVENT
DTSTART;TZID=UTC:20240818T080000
DTEND;TZID=UTC:20240818T170000
DTSTAMP:20260421T203143
CREATED:20240701T204758Z
LAST-MODIFIED:20240701T204911Z
UID:10003590-1723968000-1724000400@www.orovalley.org
SUMMARY:WET 'N WILD BBQ
DESCRIPTION:
URL:https://www.orovalley.org/event/wet-n-wild-bbq/
LOCATION:The Patio\, 11575 N 1st Ave\, Oro Valley\, AZ\, 85737\, United States
END:VEVENT
BEGIN:VEVENT
DTSTART;TZID=UTC:20240818T074500
DTEND;TZID=UTC:20240818T084500
DTSTAMP:20260421T203143
CREATED:20240513T202737Z
LAST-MODIFIED:20240513T202749Z
UID:10000038-1723967100-1723970700@www.orovalley.org
SUMMARY:7:45 Worship
DESCRIPTION:Traditional Worship. Music provided by Resurrection’s Chancel Choir \n\n\n\n\nWorship Online Here\n\n\n\n\n \n\n\n\n\nOnline Bulletins Here
URL:https://www.orovalley.org/event/745-worship-7/2024-08-18/
LOCATION:Oro Valley Sanctuary
CATEGORIES:Worship
ATTACH;FMTTYPE=image/jpeg:https://www.orovalley.org/wp-content/uploads/2023/12/CopyrightTaylorNoelPhotography2021-158-scaled.jpg
END:VEVENT
BEGIN:VEVENT
DTSTART;TZID=UTC:20240817T170000
DTEND;TZID=UTC:20240817T180000
DTSTAMP:20260421T203143
CREATED:20240130T000623Z
LAST-MODIFIED:20240228T201059Z
UID:10002274-1723914000-1723917600@www.orovalley.org
SUMMARY:5:00 Worship
DESCRIPTION:Join us for worship!  \n\n\n\n\nWorship Online Here\n\n\n\nOnline Bulletins Here
URL:https://www.orovalley.org/event/500-worship-2/2024-08-17/
LOCATION:Oro Valley Sanctuary
CATEGORIES:Worship
ATTACH;FMTTYPE=image/jpeg:https://www.orovalley.org/wp-content/uploads/2023/08/CopyrightTaylorNoelPhotography2021-175-354e5a6-scaled.jpg
END:VEVENT
BEGIN:VEVENT
DTSTART;TZID=UTC:20240814T190000
DTEND;TZID=UTC:20240814T203000
DTSTAMP:20260421T203143
CREATED:20240509T195012Z
LAST-MODIFIED:20240515T214351Z
UID:10002908-1723662000-1723667400@www.orovalley.org
SUMMARY:Summer Singers
DESCRIPTION:The Summer Singers choir is our summer choir and rehearses in the Choir Loft on Wednesdays\, and sings on Sundays at the Sunday\, 8 AM service during May\, June\, and July.  \n\n\n\n\nContact the Director\, Tanya Elias\, Here!
URL:https://www.orovalley.org/event/spirit-singers-3/2024-08-14/
LOCATION:Oro Valley Sanctuary
CATEGORIES:Music Ministry
ATTACH;FMTTYPE=image/jpeg:https://www.orovalley.org/wp-content/uploads/2023/12/qtq80-sMxHqZ-scaled.jpeg
END:VEVENT
BEGIN:VEVENT
DTSTART;TZID=UTC:20240811T104500
DTEND;TZID=UTC:20240811T114500
DTSTAMP:20260421T203143
CREATED:20240701T205849Z
LAST-MODIFIED:20240701T205922Z
UID:10001330-1723373100-1723376700@www.orovalley.org
SUMMARY:10:45 Worship - Back to School Blessing
DESCRIPTION:All students\, teachers\, and school staff are invited to join us in worship this weekend to receive a back to school blessing!   \n\n\n\nSunday School\, Confirmation\, High School Sunday School \n\n\n\nChildcare Available \n\n\n\n\nWorship Online Here
URL:https://www.orovalley.org/event/1045-worship-contemporary-5/
LOCATION:Oro Valley Sanctuary
CATEGORIES:Worship
ATTACH;FMTTYPE=image/jpeg:https://www.orovalley.org/wp-content/uploads/2023/11/CopyrightTaylorNoelPhotography2021-200-scaled.jpg
END:VEVENT
BEGIN:VEVENT
DTSTART;TZID=UTC:20240811T091500
DTEND;TZID=UTC:20240811T101500
DTSTAMP:20260421T203143
CREATED:20240701T205707Z
LAST-MODIFIED:20240701T205800Z
UID:10002966-1723367700-1723371300@www.orovalley.org
SUMMARY:9:15 Worship - Back to School Blessing
DESCRIPTION:All students\, teachers\, and school staff are invited to join us in worship this weekend to receive a back to school blessing!   \n\n\n\nJoin us each Sunday at 9:15 AM in the Oro Valley Sanctuary for our traditional worship service! Music is provided by Resurrection’s Spirit Singers. \n\n\n\nChildcare available \n\n\n\n\nWorship Online Here\n\n\n\n\n\nOnline Bulletins Here
URL:https://www.orovalley.org/event/915-worship-6/
LOCATION:Oro Valley Sanctuary
CATEGORIES:Worship
ATTACH;FMTTYPE=image/jpeg:https://www.orovalley.org/wp-content/uploads/2023/10/842051488-scaled.jpg
END:VEVENT
BEGIN:VEVENT
DTSTART;TZID=UTC:20240811T090000
DTEND;TZID=UTC:20240811T100000
DTSTAMP:20260421T203143
CREATED:20240701T205538Z
LAST-MODIFIED:20240701T205538Z
UID:10001655-1723366800-1723370400@www.orovalley.org
SUMMARY:Worship at SaddleBrooke
DESCRIPTION:Worship Online Here\n\n\n\nOnline Bulletin Here
URL:https://www.orovalley.org/event/worship-at-saddlebrooke-14/
LOCATION:SaddleBrooke\, SaddleBrooke HOA2 Clubhouse\, Tucson\, Arizona\, 85739
CATEGORIES:Worship
ATTACH;FMTTYPE=image/jpeg:https://www.orovalley.org/wp-content/uploads/2023/08/sb-worship-pic_3.jpg
END:VEVENT
BEGIN:VEVENT
DTSTART;TZID=UTC:20240811T074500
DTEND;TZID=UTC:20240811T084500
DTSTAMP:20260421T203143
CREATED:20240701T205300Z
LAST-MODIFIED:20240701T205453Z
UID:10000037-1723362300-1723365900@www.orovalley.org
SUMMARY:7:45 Worship - Back to School Blessing
DESCRIPTION:All students\, teachers\, and school staff are invited to join us in worship this weekend to receive a back to school blessing!   \n\n\n\nTraditional Worship. Music provided by Resurrection’s Chancel Choir. \n\n\n\n\nWorship Online Here\n\n\n\n\n \n\n\n\n\nOnline Bulletins Here
URL:https://www.orovalley.org/event/745-worship-8/
LOCATION:Oro Valley Sanctuary
CATEGORIES:Worship
ATTACH;FMTTYPE=image/jpeg:https://www.orovalley.org/wp-content/uploads/2023/12/CopyrightTaylorNoelPhotography2021-158-scaled.jpg
END:VEVENT
BEGIN:VEVENT
DTSTART;TZID=UTC:20240810T170000
DTEND;TZID=UTC:20240810T180000
DTSTAMP:20260421T203143
CREATED:20240701T205036Z
LAST-MODIFIED:20240701T205204Z
UID:10002273-1723309200-1723312800@www.orovalley.org
SUMMARY:5:00 Worship - Back to School Blessing
DESCRIPTION:All students\, teachers\, and school staff are invited to join us in worship this weekend to receive a back to school blessing!   \n\n\n\n\nWorship Online Here\n\n\n\nOnline Bulletins Here
URL:https://www.orovalley.org/event/500-worship-16/
LOCATION:Oro Valley Sanctuary
CATEGORIES:Worship
ATTACH;FMTTYPE=image/jpeg:https://www.orovalley.org/wp-content/uploads/2023/08/CopyrightTaylorNoelPhotography2021-175-354e5a6-scaled.jpg
END:VEVENT
BEGIN:VEVENT
DTSTART;TZID=UTC:20240807T190000
DTEND;TZID=UTC:20240807T203000
DTSTAMP:20260421T203143
CREATED:20240509T195012Z
LAST-MODIFIED:20240515T214351Z
UID:10002907-1723057200-1723062600@www.orovalley.org
SUMMARY:Summer Singers
DESCRIPTION:The Summer Singers choir is our summer choir and rehearses in the Choir Loft on Wednesdays\, and sings on Sundays at the Sunday\, 8 AM service during May\, June\, and July.  \n\n\n\n\nContact the Director\, Tanya Elias\, Here!
URL:https://www.orovalley.org/event/spirit-singers-3/2024-08-07/
LOCATION:Oro Valley Sanctuary
CATEGORIES:Music Ministry
ATTACH;FMTTYPE=image/jpeg:https://www.orovalley.org/wp-content/uploads/2023/12/qtq80-sMxHqZ-scaled.jpeg
END:VEVENT
BEGIN:VEVENT
DTSTART;TZID=UTC:20240804T104500
DTEND;TZID=UTC:20240804T114500
DTSTAMP:20260421T203143
CREATED:20240513T203112Z
LAST-MODIFIED:20240513T203139Z
UID:10001329-1722768300-1722771900@www.orovalley.org
SUMMARY:10:45 Worship - Contemporary
DESCRIPTION:Sunday School\, Confirmation\, High School Sunday School \n\n\n\nChildcare Available \n\n\n\n\nWorship Online Here
URL:https://www.orovalley.org/event/1045-worship-contemporary-4/2024-08-04/
LOCATION:Oro Valley Sanctuary
CATEGORIES:Worship
ATTACH;FMTTYPE=image/jpeg:https://www.orovalley.org/wp-content/uploads/2023/11/CopyrightTaylorNoelPhotography2021-200-scaled.jpg
END:VEVENT
BEGIN:VEVENT
DTSTART;TZID=UTC:20240804T091500
DTEND;TZID=UTC:20240804T101500
DTSTAMP:20260421T203143
CREATED:20240910T194709Z
LAST-MODIFIED:20240910T194709Z
UID:10003901-1722762900-1722766500@www.orovalley.org
SUMMARY:9:15 Worship
DESCRIPTION:Join us each Sunday at 9:15 AM in the Oro Valley Sanctuary for our traditional worship service! Music is provided by Resurrection’s Spirit Singers. \n\n\n\nChildcare available \n\n\n\n\nWorship Online Here\n\n\n\n\n\nOnline Bulletins Here
URL:https://www.orovalley.org/event/915-worship-8/
LOCATION:Oro Valley Sanctuary
CATEGORIES:Worship
ATTACH;FMTTYPE=image/jpeg:https://www.orovalley.org/wp-content/uploads/2023/10/842051488-scaled.jpg
END:VEVENT
BEGIN:VEVENT
DTSTART;TZID=UTC:20240804T090000
DTEND;TZID=UTC:20240804T100000
DTSTAMP:20260421T203143
CREATED:20240106T184634Z
LAST-MODIFIED:20240228T200602Z
UID:10001654-1722762000-1722765600@www.orovalley.org
SUMMARY:Worship at SaddleBrooke
DESCRIPTION:Worship Online Here\n\n\n\nOnline Bulletin Here
URL:https://www.orovalley.org/event/worship-at-saddlebrooke/2024-08-04/
LOCATION:SaddleBrooke\, SaddleBrooke HOA2 Clubhouse\, Tucson\, Arizona\, 85739
CATEGORIES:Worship
ATTACH;FMTTYPE=image/jpeg:https://www.orovalley.org/wp-content/uploads/2023/08/sb-worship-pic_3.jpg
END:VEVENT
BEGIN:VEVENT
DTSTART;TZID=UTC:20240804T074500
DTEND;TZID=UTC:20240804T084500
DTSTAMP:20260421T203143
CREATED:20240513T202737Z
LAST-MODIFIED:20240513T202749Z
UID:10000036-1722757500-1722761100@www.orovalley.org
SUMMARY:7:45 Worship
DESCRIPTION:Traditional Worship. Music provided by Resurrection’s Chancel Choir \n\n\n\n\nWorship Online Here\n\n\n\n\n \n\n\n\n\nOnline Bulletins Here
URL:https://www.orovalley.org/event/745-worship-7/2024-08-04/
LOCATION:Oro Valley Sanctuary
CATEGORIES:Worship
ATTACH;FMTTYPE=image/jpeg:https://www.orovalley.org/wp-content/uploads/2023/12/CopyrightTaylorNoelPhotography2021-158-scaled.jpg
END:VEVENT
BEGIN:VEVENT
DTSTART;TZID=UTC:20240803T170000
DTEND;TZID=UTC:20240803T180000
DTSTAMP:20260421T203143
CREATED:20240513T234920Z
LAST-MODIFIED:20240513T234943Z
UID:10002272-1722704400-1722708000@www.orovalley.org
SUMMARY:5:00 Worship
DESCRIPTION:Join us for worship!  \n\n\n\n\nWorship Online Here\n\n\n\nOnline Bulletins Here
URL:https://www.orovalley.org/event/500-worship-15/
LOCATION:Oro Valley Sanctuary
CATEGORIES:Worship
ATTACH;FMTTYPE=image/jpeg:https://www.orovalley.org/wp-content/uploads/2023/08/CopyrightTaylorNoelPhotography2021-175-354e5a6-scaled.jpg
END:VEVENT
BEGIN:VEVENT
DTSTART;TZID=UTC:20240803T073000
DTEND;TZID=UTC:20240803T093000
DTSTAMP:20260421T203143
CREATED:20240131T014511Z
LAST-MODIFIED:20240131T014537Z
UID:10002531-1722670200-1722677400@www.orovalley.org
SUMMARY:Men's Breakfast
DESCRIPTION:This group meets monthly\, October through May on the first Saturday of the month\, for breakfast\, socializing and learning. There is always a guest speaker. Catered breakfast is included with the $10 cost of admission. \n\n\n\nThis months speaker will be announced closer to the event date.
URL:https://www.orovalley.org/event/mens-breakfast-2/
LOCATION:Outreach Center Gymnasium\, 11575 N 1st Ave\, Oro Valley\, AZ\, 85737\, United States
CATEGORIES:Men's Breakfast
ATTACH;FMTTYPE=image/jpeg:https://www.orovalley.org/wp-content/uploads/2023/12/27.jpg
END:VEVENT
BEGIN:VEVENT
DTSTART;TZID=UTC:20240731T190000
DTEND;TZID=UTC:20240731T203000
DTSTAMP:20260421T203143
CREATED:20240509T195012Z
LAST-MODIFIED:20240515T214351Z
UID:10002906-1722452400-1722457800@www.orovalley.org
SUMMARY:Summer Singers
DESCRIPTION:The Summer Singers choir is our summer choir and rehearses in the Choir Loft on Wednesdays\, and sings on Sundays at the Sunday\, 8 AM service during May\, June\, and July.  \n\n\n\n\nContact the Director\, Tanya Elias\, Here!
URL:https://www.orovalley.org/event/spirit-singers-3/2024-07-31/
LOCATION:Oro Valley Sanctuary
CATEGORIES:Music Ministry
ATTACH;FMTTYPE=image/jpeg:https://www.orovalley.org/wp-content/uploads/2023/12/qtq80-sMxHqZ-scaled.jpeg
END:VEVENT
BEGIN:VEVENT
DTSTART;TZID=UTC:20240728T100000
DTEND;TZID=UTC:20240728T110000
DTSTAMP:20260421T203143
CREATED:20240513T220044Z
LAST-MODIFIED:20240513T235139Z
UID:10003503-1722160800-1722164400@www.orovalley.org
SUMMARY:10:00 Summer Worship
DESCRIPTION:This summer (June & July) join us each Sunday at 8:30 AM in the Oro Valley Sanctuary for our contemporary worship service! Music is provided by Resurrection’s river band. \n\n\n\nChildcare available. \n\n\n\n\nWorship Online Here
URL:https://www.orovalley.org/event/1000-worship/2024-07-28/
LOCATION:Oro Valley Sanctuary
CATEGORIES:Worship
ATTACH;FMTTYPE=image/jpeg:https://www.orovalley.org/wp-content/uploads/2023/10/842051488-scaled.jpg
END:VEVENT
BEGIN:VEVENT
DTSTART;TZID=UTC:20240728T090000
DTEND;TZID=UTC:20240728T100000
DTSTAMP:20260421T203143
CREATED:20240513T234710Z
LAST-MODIFIED:20240513T234734Z
UID:10001653-1722157200-1722160800@www.orovalley.org
SUMMARY:Worship at SaddleBrooke
DESCRIPTION:Worship Online Here\n\n\n\nOnline Bulletin Here
URL:https://www.orovalley.org/event/worship-at-saddlebrooke-13/
LOCATION:SaddleBrooke\, SaddleBrooke HOA2 Clubhouse\, Tucson\, Arizona\, 85739
CATEGORIES:Worship
ATTACH;FMTTYPE=image/jpeg:https://www.orovalley.org/wp-content/uploads/2023/08/sb-worship-pic_3.jpg
END:VEVENT
BEGIN:VEVENT
DTSTART;TZID=UTC:20240728T083000
DTEND;TZID=UTC:20240728T093000
DTSTAMP:20260421T203143
CREATED:20240513T205504Z
LAST-MODIFIED:20240513T223201Z
UID:10003485-1722155400-1722159000@www.orovalley.org
SUMMARY:8:30 Summer Worship
DESCRIPTION:This summer (June & July) join us each Sunday at 8:30 AM in the Oro Valley Sanctuary for our traditional worship service! Music is provided by Resurrection’s Summer Singers. \n\n\n\nChildcare available. \n\n\n\n\nWorship Online Here\n\n\n\n\n\nOnline Bulletins Here
URL:https://www.orovalley.org/event/830-worship-2/2024-07-28/
LOCATION:Oro Valley Sanctuary
CATEGORIES:Worship
ATTACH;FMTTYPE=image/jpeg:https://www.orovalley.org/wp-content/uploads/2023/10/842051488-scaled.jpg
END:VEVENT
BEGIN:VEVENT
DTSTART;TZID=UTC:20240727T170000
DTEND;TZID=UTC:20240727T180000
DTSTAMP:20260421T203143
CREATED:20240513T234553Z
LAST-MODIFIED:20240513T234627Z
UID:10002271-1722099600-1722103200@www.orovalley.org
SUMMARY:5:00 Worship
DESCRIPTION:Join us for worship!  \n\n\n\n\nWorship Online Here\n\n\n\nOnline Bulletins Here
URL:https://www.orovalley.org/event/500-worship-14/
LOCATION:Oro Valley Sanctuary
CATEGORIES:Worship
ATTACH;FMTTYPE=image/jpeg:https://www.orovalley.org/wp-content/uploads/2023/08/CopyrightTaylorNoelPhotography2021-175-354e5a6-scaled.jpg
END:VEVENT
BEGIN:VEVENT
DTSTART;TZID=UTC:20240724T190000
DTEND;TZID=UTC:20240724T203000
DTSTAMP:20260421T203143
CREATED:20240509T195012Z
LAST-MODIFIED:20240515T214351Z
UID:10002905-1721847600-1721853000@www.orovalley.org
SUMMARY:Summer Singers
DESCRIPTION:The Summer Singers choir is our summer choir and rehearses in the Choir Loft on Wednesdays\, and sings on Sundays at the Sunday\, 8 AM service during May\, June\, and July.  \n\n\n\n\nContact the Director\, Tanya Elias\, Here!
URL:https://www.orovalley.org/event/spirit-singers-3/2024-07-24/
LOCATION:Oro Valley Sanctuary
CATEGORIES:Music Ministry
ATTACH;FMTTYPE=image/jpeg:https://www.orovalley.org/wp-content/uploads/2023/12/qtq80-sMxHqZ-scaled.jpeg
END:VEVENT
BEGIN:VEVENT
DTSTART;TZID=UTC:20240723T080000
DTEND;TZID=UTC:20240723T130000
DTSTAMP:20260421T203143
CREATED:20240617T215926Z
LAST-MODIFIED:20240617T215932Z
UID:10003527-1721721600-1721739600@www.orovalley.org
SUMMARY:Red Cross Blood Drive
DESCRIPTION:We are so grateful to be able to host a blood drive each month. With your support\, we will be able to raise awareness about the importance of blood donation and collect numbers of life-saving donations. These donations will undoubtedly make a profound difference in the lives of those in need within our community. 
URL:https://www.orovalley.org/event/red-cross-blood-drive-3/
LOCATION:Katie’s Quarters
CATEGORIES:American Red Cross Blood Drive,Community Care,Serve
ATTACH;FMTTYPE=image/jpeg:https://www.orovalley.org/wp-content/uploads/2023/12/2.jpg
END:VEVENT
BEGIN:VEVENT
DTSTART;TZID=UTC:20240721T110000
DTEND;TZID=UTC:20240721T130000
DTSTAMP:20260421T203143
CREATED:20240528T190207Z
LAST-MODIFIED:20240528T220131Z
UID:10003525-1721559600-1721566800@www.orovalley.org
SUMMARY:New Member Class
DESCRIPTION:Katie’s Quarters Oro Valley Campus \n\n\n\nLunch will be provided and childcare is available. \n\n\n\nStart a new beginning at Resurrection! We invite you to experience the JOY of belonging to Resurrection Lutheran Church. Please join us for our New Member Class. This class is an excellent opportunity to learn more about who we are\, our beliefs\, our vision\, and our mission. You will meet our Pastors\, Council Members\, staff\, and other new faces who seek to get plugged into the community and ministry of Resurrection! We look forward to welcoming you home! \n\n\n\nPlease sign up after worship at the Welcome Table in both Oro Valley and SaddleBrooke. For more information\, please ring Kristina Randolph at (520)575-9901 or email her below.  \n\n\n\n\nEmail Kristina Here
URL:https://www.orovalley.org/event/new-member-class/
LOCATION:Katie’s Quarters
END:VEVENT
BEGIN:VEVENT
DTSTART;TZID=UTC:20240721T100000
DTEND;TZID=UTC:20240721T110000
DTSTAMP:20260421T203143
CREATED:20240513T220044Z
LAST-MODIFIED:20240513T235139Z
UID:10003502-1721556000-1721559600@www.orovalley.org
SUMMARY:10:00 Summer Worship
DESCRIPTION:This summer (June & July) join us each Sunday at 8:30 AM in the Oro Valley Sanctuary for our contemporary worship service! Music is provided by Resurrection’s river band. \n\n\n\nChildcare available. \n\n\n\n\nWorship Online Here
URL:https://www.orovalley.org/event/1000-worship/2024-07-21/
LOCATION:Oro Valley Sanctuary
CATEGORIES:Worship
ATTACH;FMTTYPE=image/jpeg:https://www.orovalley.org/wp-content/uploads/2023/10/842051488-scaled.jpg
END:VEVENT
BEGIN:VEVENT
DTSTART;TZID=UTC:20240721T090000
DTEND;TZID=UTC:20240721T100000
DTSTAMP:20260421T203143
CREATED:20240513T234427Z
LAST-MODIFIED:20240513T234454Z
UID:10001652-1721552400-1721556000@www.orovalley.org
SUMMARY:Worship at SaddleBrooke
DESCRIPTION:Worship Online Here\n\n\n\nOnline Bulletin Here
URL:https://www.orovalley.org/event/worship-at-saddlebrooke-12/
LOCATION:SaddleBrooke\, SaddleBrooke HOA2 Clubhouse\, Tucson\, Arizona\, 85739
CATEGORIES:Worship
ATTACH;FMTTYPE=image/jpeg:https://www.orovalley.org/wp-content/uploads/2023/08/sb-worship-pic_3.jpg
END:VEVENT
BEGIN:VEVENT
DTSTART;TZID=UTC:20240721T083000
DTEND;TZID=UTC:20240721T093000
DTSTAMP:20260421T203143
CREATED:20240513T205504Z
LAST-MODIFIED:20240513T223201Z
UID:10003484-1721550600-1721554200@www.orovalley.org
SUMMARY:8:30 Summer Worship
DESCRIPTION:This summer (June & July) join us each Sunday at 8:30 AM in the Oro Valley Sanctuary for our traditional worship service! Music is provided by Resurrection’s Summer Singers. \n\n\n\nChildcare available. \n\n\n\n\nWorship Online Here\n\n\n\n\n\nOnline Bulletins Here
URL:https://www.orovalley.org/event/830-worship-2/2024-07-21/
LOCATION:Oro Valley Sanctuary
CATEGORIES:Worship
ATTACH;FMTTYPE=image/jpeg:https://www.orovalley.org/wp-content/uploads/2023/10/842051488-scaled.jpg
END:VEVENT
BEGIN:VEVENT
DTSTART;TZID=UTC:20240720T170000
DTEND;TZID=UTC:20240720T180000
DTSTAMP:20260421T203143
CREATED:20240513T234201Z
LAST-MODIFIED:20240513T234238Z
UID:10002270-1721494800-1721498400@www.orovalley.org
SUMMARY:5:00 Worship
DESCRIPTION:Join us for worship!  \n\n\n\n\nWorship Online Here\n\n\n\nOnline Bulletins Here
URL:https://www.orovalley.org/event/500-worship-13/
LOCATION:Oro Valley Sanctuary
CATEGORIES:Worship
ATTACH;FMTTYPE=image/jpeg:https://www.orovalley.org/wp-content/uploads/2023/08/CopyrightTaylorNoelPhotography2021-175-354e5a6-scaled.jpg
END:VEVENT
END:VCALENDAR