BEGIN:VCALENDAR
VERSION:2.0
PRODID:-//Resurrection Lutheran Church - ECPv6.15.20//NONSGML v1.0//EN
CALSCALE:GREGORIAN
METHOD:PUBLISH
X-ORIGINAL-URL:https://www.orovalley.org
X-WR-CALDESC:Events for Resurrection Lutheran Church
REFRESH-INTERVAL;VALUE=DURATION:PT1H
X-Robots-Tag:noindex
X-PUBLISHED-TTL:PT1H
BEGIN:VTIMEZONE
TZID:UTC
BEGIN:STANDARD
TZOFFSETFROM:+0000
TZOFFSETTO:+0000
TZNAME:UTC
DTSTART:20240101T000000
END:STANDARD
END:VTIMEZONE
BEGIN:VEVENT
DTSTART;TZID=UTC:20250820T103000
DTEND;TZID=UTC:20250820T120000
DTSTAMP:20260421T203245
CREATED:20240617T222009Z
LAST-MODIFIED:20240617T222059Z
UID:10003542-1755685800-1755691200@www.orovalley.org
SUMMARY:Parkinson's Support Group
DESCRIPTION:This support group provides encouragement from meeting with others who have Parkinson’s disease\, and for the care givers of those with Parkinson’s. The meetings provide an opportunity to discuss experiences and feelings and to share solutions to common problems.  Meets every 3rd Wednesday of the month in the High School Youth Room.
URL:https://www.orovalley.org/event/parkinsons-support-group-3/2025-08-20/
LOCATION:Youth Room
CATEGORIES:Congregational Care,Serve
ATTACH;FMTTYPE=image/jpeg:https://www.orovalley.org/wp-content/uploads/2024/06/Graphics-3.jpg
END:VEVENT
BEGIN:VEVENT
DTSTART;TZID=UTC:20250821T130000
DTEND;TZID=UTC:20250821T160000
DTSTAMP:20260421T203245
CREATED:20241213T002356Z
LAST-MODIFIED:20241213T002359Z
UID:10004083-1755781200-1755792000@www.orovalley.org
SUMMARY:Matching Dragons Mah Jongg
DESCRIPTION:Do you play the game of (American) Mah Jongg and have been looking for a group to play with? Join us on Thursday afternoons 1:00-4:00 PM in Luther’s Lair in the Outreach Center. These are friendly games. We do NOT play for money but we ALWAYS have a good time. This group is for those who already know how to play the game. However\, anyone is invited to come observe to see if they would like to learn to play the game. Questions? Contact Jackie Verdick at jackieverdick@gmail.com or 612-554-0111.
URL:https://www.orovalley.org/event/matching-dragons-mah-jongg/2025-08-21/
END:VEVENT
BEGIN:VEVENT
DTSTART;TZID=UTC:20250821T190000
DTEND;TZID=UTC:20250821T200000
DTSTAMP:20260421T203245
CREATED:20250730T233223Z
LAST-MODIFIED:20250730T233227Z
UID:10005167-1755802800-1755806400@www.orovalley.org
SUMMARY:Oro Valley Sanctuary – Summer Organ Open-Console Night
DESCRIPTION:Come learn all about our organ with our RLC organist\, Alex Bennett. You’ll even get a chance to play!
URL:https://www.orovalley.org/event/oro-valley-sanctuary-summer-organ-open-console-night/
END:VEVENT
BEGIN:VEVENT
DTSTART;TZID=UTC:20250823T170000
DTEND;TZID=UTC:20250823T180000
DTSTAMP:20260421T203245
CREATED:20240130T000623Z
LAST-MODIFIED:20240228T201059Z
UID:10002327-1755968400-1755972000@www.orovalley.org
SUMMARY:5:00 Worship
DESCRIPTION:Join us for worship!  \n\n\n\n\nWorship Online Here\n\n\n\nOnline Bulletins Here
URL:https://www.orovalley.org/event/500-worship-2/2025-08-23/
LOCATION:Oro Valley Sanctuary
CATEGORIES:Worship
ATTACH;FMTTYPE=image/jpeg:https://www.orovalley.org/wp-content/uploads/2023/08/CopyrightTaylorNoelPhotography2021-175-354e5a6-scaled.jpg
END:VEVENT
BEGIN:VEVENT
DTSTART;TZID=UTC:20250823T180000
DTEND;TZID=UTC:20250823T190000
DTSTAMP:20260421T203245
CREATED:20250805T204535Z
LAST-MODIFIED:20250806T162440Z
UID:10005176-1755972000-1755975600@www.orovalley.org
SUMMARY:Small Talks: Columbarium Expansion Proposal
DESCRIPTION:This event will be held in Luther’s Lair.
URL:https://www.orovalley.org/event/small-talks-2/
END:VEVENT
BEGIN:VEVENT
DTSTART;TZID=UTC:20250824T074500
DTEND;TZID=UTC:20250824T084500
DTSTAMP:20260421T203245
CREATED:20250605T233406Z
LAST-MODIFIED:20250605T233413Z
UID:10000091-1756021500-1756025100@www.orovalley.org
SUMMARY:7:45 Worship
DESCRIPTION:Traditional Worship. Music provided by Resurrection’s Chancel Choir \n\n\n\n\nWorship Online Here\n\n\n\n\n \n\n\n\n\nOnline Bulletins Here
URL:https://www.orovalley.org/event/745-worship-9/2025-08-24/
LOCATION:Oro Valley Sanctuary
CATEGORIES:Worship
ATTACH;FMTTYPE=image/jpeg:https://www.orovalley.org/wp-content/uploads/2023/12/CopyrightTaylorNoelPhotography2021-158-scaled.jpg
END:VEVENT
BEGIN:VEVENT
DTSTART;TZID=UTC:20250824T090000
DTEND;TZID=UTC:20250824T100000
DTSTAMP:20260421T203245
CREATED:20240106T184634Z
LAST-MODIFIED:20240228T200602Z
UID:10001709-1756026000-1756029600@www.orovalley.org
SUMMARY:Worship at SaddleBrooke
DESCRIPTION:Worship Online Here\n\n\n\nOnline Bulletin Here
URL:https://www.orovalley.org/event/worship-at-saddlebrooke/2025-08-24/
LOCATION:SaddleBrooke\, SaddleBrooke HOA2 Clubhouse\, Tucson\, Arizona\, 85739
CATEGORIES:Worship
ATTACH;FMTTYPE=image/jpeg:https://www.orovalley.org/wp-content/uploads/2023/08/sb-worship-pic_3.jpg
END:VEVENT
BEGIN:VEVENT
DTSTART;TZID=UTC:20250824T091500
DTEND;TZID=UTC:20250824T101500
DTSTAMP:20260421T203245
CREATED:20250610T165422Z
LAST-MODIFIED:20250610T165427Z
UID:10005086-1756026900-1756030500@www.orovalley.org
SUMMARY:09:15 Worship - Contemporary
DESCRIPTION:Sunday School\, Confirmation\, High School Sunday School \n\n\n\nChildcare Available \n\n\n\n\nWorship Online Here
URL:https://www.orovalley.org/event/0915-worship-contemporary/2025-08-24/
LOCATION:Oro Valley Sanctuary
CATEGORIES:Worship
ATTACH;FMTTYPE=image/jpeg:https://www.orovalley.org/wp-content/uploads/2023/11/CopyrightTaylorNoelPhotography2021-200-scaled.jpg
END:VEVENT
BEGIN:VEVENT
DTSTART;TZID=UTC:20250824T104500
DTEND;TZID=UTC:20250824T114500
DTSTAMP:20260421T203245
CREATED:20250610T165108Z
LAST-MODIFIED:20250610T165111Z
UID:10004998-1756032300-1756035900@www.orovalley.org
SUMMARY:10:45 Worship - Contemporary
DESCRIPTION:Sunday School\, Confirmation\, High School Sunday School \n\n\n\nChildcare Available \n\n\n\n\nWorship Online Here
URL:https://www.orovalley.org/event/1045-worship-contemporary-7/2025-08-24/
LOCATION:Oro Valley Sanctuary
CATEGORIES:Worship
ATTACH;FMTTYPE=image/jpeg:https://www.orovalley.org/wp-content/uploads/2023/11/CopyrightTaylorNoelPhotography2021-200-scaled.jpg
END:VEVENT
BEGIN:VEVENT
DTSTART;TZID=UTC:20250824T114500
DTEND;TZID=UTC:20250824T124500
DTSTAMP:20260421T203245
CREATED:20250805T205012Z
LAST-MODIFIED:20250806T162250Z
UID:10005177-1756035900-1756039500@www.orovalley.org
SUMMARY:Small Talks: Columbarium Expansion Proposal
DESCRIPTION:This event will be held in Luther’s Lair after church services
URL:https://www.orovalley.org/event/small-talks-3/
END:VEVENT
BEGIN:VEVENT
DTSTART;TZID=UTC:20250826T183000
DTEND;TZID=UTC:20250826T203000
DTSTAMP:20260421T203245
CREATED:20240910T192133Z
LAST-MODIFIED:20240910T192135Z
UID:10003837-1756233000-1756240200@www.orovalley.org
SUMMARY:Resurrection Card Players
DESCRIPTION:RLC Card Players meets every second and fourth Tuesday of the month. No reservation necessary. Please bring a snack to share and your own beverage. We play a variety of card games and we’re happy to teach you if you don’t know how to play. Everyone is welcome.
URL:https://www.orovalley.org/event/resurrection-card-players-2/2025-08-26/
LOCATION:Luther’s Lair
END:VEVENT
BEGIN:VEVENT
DTSTART;TZID=UTC:20250828T130000
DTEND;TZID=UTC:20250828T160000
DTSTAMP:20260421T203245
CREATED:20241213T002356Z
LAST-MODIFIED:20241213T002359Z
UID:10004084-1756386000-1756396800@www.orovalley.org
SUMMARY:Matching Dragons Mah Jongg
DESCRIPTION:Do you play the game of (American) Mah Jongg and have been looking for a group to play with? Join us on Thursday afternoons 1:00-4:00 PM in Luther’s Lair in the Outreach Center. These are friendly games. We do NOT play for money but we ALWAYS have a good time. This group is for those who already know how to play the game. However\, anyone is invited to come observe to see if they would like to learn to play the game. Questions? Contact Jackie Verdick at jackieverdick@gmail.com or 612-554-0111.
URL:https://www.orovalley.org/event/matching-dragons-mah-jongg/2025-08-28/
END:VEVENT
BEGIN:VEVENT
DTSTART;TZID=UTC:20250830T080000
DTEND;TZID=UTC:20250830T090000
DTSTAMP:20260421T203245
CREATED:20240808T201836Z
LAST-MODIFIED:20260210T201221Z
UID:10004318-1756540800-1756544400@www.orovalley.org
SUMMARY:Men's Bible Study
DESCRIPTION:Uses the Serendipity Bible\, copies are available. All men of the church are welcome to attend. Meets in Luther’s Lair.
URL:https://www.orovalley.org/event/mens-bible-study/2025-08-30/
END:VEVENT
BEGIN:VEVENT
DTSTART;TZID=UTC:20250830T083000
DTEND;TZID=UTC:20250830T133000
DTSTAMP:20260421T203245
CREATED:20250701T211839Z
LAST-MODIFIED:20250701T211848Z
UID:10005130-1756542600-1756560600@www.orovalley.org
SUMMARY:Parent-Educator Collaborative Learning Session
DESCRIPTION:Register online at https://www.orovalley.org/parenteducatorcollaborative/
URL:https://www.orovalley.org/event/parent-educator-collaborative-learning-session/
END:VEVENT
BEGIN:VEVENT
DTSTART;TZID=UTC:20250830T170000
DTEND;TZID=UTC:20250830T180000
DTSTAMP:20260421T203245
CREATED:20240130T000623Z
LAST-MODIFIED:20240228T201059Z
UID:10002328-1756573200-1756576800@www.orovalley.org
SUMMARY:5:00 Worship
DESCRIPTION:Join us for worship!  \n\n\n\n\nWorship Online Here\n\n\n\nOnline Bulletins Here
URL:https://www.orovalley.org/event/500-worship-2/2025-08-30/
LOCATION:Oro Valley Sanctuary
CATEGORIES:Worship
ATTACH;FMTTYPE=image/jpeg:https://www.orovalley.org/wp-content/uploads/2023/08/CopyrightTaylorNoelPhotography2021-175-354e5a6-scaled.jpg
END:VEVENT
BEGIN:VEVENT
DTSTART;TZID=UTC:20250831T074500
DTEND;TZID=UTC:20250831T084500
DTSTAMP:20260421T203245
CREATED:20250605T233406Z
LAST-MODIFIED:20250605T233413Z
UID:10000092-1756626300-1756629900@www.orovalley.org
SUMMARY:7:45 Worship
DESCRIPTION:Traditional Worship. Music provided by Resurrection’s Chancel Choir \n\n\n\n\nWorship Online Here\n\n\n\n\n \n\n\n\n\nOnline Bulletins Here
URL:https://www.orovalley.org/event/745-worship-9/2025-08-31/
LOCATION:Oro Valley Sanctuary
CATEGORIES:Worship
ATTACH;FMTTYPE=image/jpeg:https://www.orovalley.org/wp-content/uploads/2023/12/CopyrightTaylorNoelPhotography2021-158-scaled.jpg
END:VEVENT
BEGIN:VEVENT
DTSTART;TZID=UTC:20250831T090000
DTEND;TZID=UTC:20250831T100000
DTSTAMP:20260421T203245
CREATED:20240106T184634Z
LAST-MODIFIED:20240228T200602Z
UID:10001710-1756630800-1756634400@www.orovalley.org
SUMMARY:Worship at SaddleBrooke
DESCRIPTION:Worship Online Here\n\n\n\nOnline Bulletin Here
URL:https://www.orovalley.org/event/worship-at-saddlebrooke/2025-08-31/
LOCATION:SaddleBrooke\, SaddleBrooke HOA2 Clubhouse\, Tucson\, Arizona\, 85739
CATEGORIES:Worship
ATTACH;FMTTYPE=image/jpeg:https://www.orovalley.org/wp-content/uploads/2023/08/sb-worship-pic_3.jpg
END:VEVENT
BEGIN:VEVENT
DTSTART;TZID=UTC:20250831T091500
DTEND;TZID=UTC:20250831T101500
DTSTAMP:20260421T203245
CREATED:20250610T165422Z
LAST-MODIFIED:20250610T165427Z
UID:10005087-1756631700-1756635300@www.orovalley.org
SUMMARY:09:15 Worship - Contemporary
DESCRIPTION:Sunday School\, Confirmation\, High School Sunday School \n\n\n\nChildcare Available \n\n\n\n\nWorship Online Here
URL:https://www.orovalley.org/event/0915-worship-contemporary/2025-08-31/
LOCATION:Oro Valley Sanctuary
CATEGORIES:Worship
ATTACH;FMTTYPE=image/jpeg:https://www.orovalley.org/wp-content/uploads/2023/11/CopyrightTaylorNoelPhotography2021-200-scaled.jpg
END:VEVENT
BEGIN:VEVENT
DTSTART;TZID=UTC:20250831T104500
DTEND;TZID=UTC:20250831T114500
DTSTAMP:20260421T203245
CREATED:20250610T165108Z
LAST-MODIFIED:20250610T165111Z
UID:10004999-1756637100-1756640700@www.orovalley.org
SUMMARY:10:45 Worship - Contemporary
DESCRIPTION:Sunday School\, Confirmation\, High School Sunday School \n\n\n\nChildcare Available \n\n\n\n\nWorship Online Here
URL:https://www.orovalley.org/event/1045-worship-contemporary-7/2025-08-31/
LOCATION:Oro Valley Sanctuary
CATEGORIES:Worship
ATTACH;FMTTYPE=image/jpeg:https://www.orovalley.org/wp-content/uploads/2023/11/CopyrightTaylorNoelPhotography2021-200-scaled.jpg
END:VEVENT
BEGIN:VEVENT
DTSTART;TZID=UTC:20250904T130000
DTEND;TZID=UTC:20250904T160000
DTSTAMP:20260421T203245
CREATED:20241213T002356Z
LAST-MODIFIED:20241213T002359Z
UID:10004085-1756990800-1757001600@www.orovalley.org
SUMMARY:Matching Dragons Mah Jongg
DESCRIPTION:Do you play the game of (American) Mah Jongg and have been looking for a group to play with? Join us on Thursday afternoons 1:00-4:00 PM in Luther’s Lair in the Outreach Center. These are friendly games. We do NOT play for money but we ALWAYS have a good time. This group is for those who already know how to play the game. However\, anyone is invited to come observe to see if they would like to learn to play the game. Questions? Contact Jackie Verdick at jackieverdick@gmail.com or 612-554-0111.
URL:https://www.orovalley.org/event/matching-dragons-mah-jongg/2025-09-04/
END:VEVENT
BEGIN:VEVENT
DTSTART;TZID=UTC:20250906T170000
DTEND;TZID=UTC:20250906T180000
DTSTAMP:20260421T203245
CREATED:20240130T000623Z
LAST-MODIFIED:20240228T201059Z
UID:10002329-1757178000-1757181600@www.orovalley.org
SUMMARY:5:00 Worship
DESCRIPTION:Join us for worship!  \n\n\n\n\nWorship Online Here\n\n\n\nOnline Bulletins Here
URL:https://www.orovalley.org/event/500-worship-2/2025-09-06/
LOCATION:Oro Valley Sanctuary
CATEGORIES:Worship
ATTACH;FMTTYPE=image/jpeg:https://www.orovalley.org/wp-content/uploads/2023/08/CopyrightTaylorNoelPhotography2021-175-354e5a6-scaled.jpg
END:VEVENT
BEGIN:VEVENT
DTSTART;TZID=UTC:20250907T074500
DTEND;TZID=UTC:20250907T084500
DTSTAMP:20260421T203245
CREATED:20250605T233406Z
LAST-MODIFIED:20250605T233413Z
UID:10000093-1757231100-1757234700@www.orovalley.org
SUMMARY:7:45 Worship
DESCRIPTION:Traditional Worship. Music provided by Resurrection’s Chancel Choir \n\n\n\n\nWorship Online Here\n\n\n\n\n \n\n\n\n\nOnline Bulletins Here
URL:https://www.orovalley.org/event/745-worship-9/2025-09-07/
LOCATION:Oro Valley Sanctuary
CATEGORIES:Worship
ATTACH;FMTTYPE=image/jpeg:https://www.orovalley.org/wp-content/uploads/2023/12/CopyrightTaylorNoelPhotography2021-158-scaled.jpg
END:VEVENT
BEGIN:VEVENT
DTSTART;TZID=UTC:20250907T090000
DTEND;TZID=UTC:20250907T100000
DTSTAMP:20260421T203245
CREATED:20240106T184634Z
LAST-MODIFIED:20240228T200602Z
UID:10001711-1757235600-1757239200@www.orovalley.org
SUMMARY:Worship at SaddleBrooke
DESCRIPTION:Worship Online Here\n\n\n\nOnline Bulletin Here
URL:https://www.orovalley.org/event/worship-at-saddlebrooke/2025-09-07/
LOCATION:SaddleBrooke\, SaddleBrooke HOA2 Clubhouse\, Tucson\, Arizona\, 85739
CATEGORIES:Worship
ATTACH;FMTTYPE=image/jpeg:https://www.orovalley.org/wp-content/uploads/2023/08/sb-worship-pic_3.jpg
END:VEVENT
BEGIN:VEVENT
DTSTART;TZID=UTC:20250907T091500
DTEND;TZID=UTC:20250907T101500
DTSTAMP:20260421T203245
CREATED:20250610T165422Z
LAST-MODIFIED:20250610T165427Z
UID:10005088-1757236500-1757240100@www.orovalley.org
SUMMARY:09:15 Worship - Contemporary
DESCRIPTION:Sunday School\, Confirmation\, High School Sunday School \n\n\n\nChildcare Available \n\n\n\n\nWorship Online Here
URL:https://www.orovalley.org/event/0915-worship-contemporary/2025-09-07/
LOCATION:Oro Valley Sanctuary
CATEGORIES:Worship
ATTACH;FMTTYPE=image/jpeg:https://www.orovalley.org/wp-content/uploads/2023/11/CopyrightTaylorNoelPhotography2021-200-scaled.jpg
END:VEVENT
BEGIN:VEVENT
DTSTART;TZID=UTC:20250907T104500
DTEND;TZID=UTC:20250907T114500
DTSTAMP:20260421T203245
CREATED:20250610T165108Z
LAST-MODIFIED:20250610T165111Z
UID:10005000-1757241900-1757245500@www.orovalley.org
SUMMARY:10:45 Worship - Contemporary
DESCRIPTION:Sunday School\, Confirmation\, High School Sunday School \n\n\n\nChildcare Available \n\n\n\n\nWorship Online Here
URL:https://www.orovalley.org/event/1045-worship-contemporary-7/2025-09-07/
LOCATION:Oro Valley Sanctuary
CATEGORIES:Worship
ATTACH;FMTTYPE=image/jpeg:https://www.orovalley.org/wp-content/uploads/2023/11/CopyrightTaylorNoelPhotography2021-200-scaled.jpg
END:VEVENT
BEGIN:VEVENT
DTSTART;TZID=UTC:20250907T120000
DTEND;TZID=UTC:20250907T130000
DTSTAMP:20260421T203245
CREATED:20250801T171722Z
LAST-MODIFIED:20250801T171725Z
UID:10005170-1757246400-1757250000@www.orovalley.org
SUMMARY:Congregation Meeting
DESCRIPTION:Oro Valley Sanctuary
URL:https://www.orovalley.org/event/congregation-meeting-2/
END:VEVENT
BEGIN:VEVENT
DTSTART;TZID=UTC:20250908T130000
DTEND;TZID=UTC:20250908T140000
DTSTAMP:20260421T203245
CREATED:20250829T203021Z
LAST-MODIFIED:20250829T203025Z
UID:10005220-1757336400-1757340000@www.orovalley.org
SUMMARY:PrimeTime Team Meeting
DESCRIPTION:High School Youth Room \n\n\n\nIf you are interested in learning more about this ministry and how to serve\, we would love for you to join us!
URL:https://www.orovalley.org/event/primetime-team-meeting/
END:VEVENT
BEGIN:VEVENT
DTSTART;TZID=UTC:20250908T173000
DTEND;TZID=UTC:20250908T183000
DTSTAMP:20260421T203245
CREATED:20250701T214218Z
LAST-MODIFIED:20250701T214221Z
UID:10005137-1757352600-1757356200@www.orovalley.org
SUMMARY:Desert Wanderers Team Meeting
DESCRIPTION:Meet and Luther’s Lair
URL:https://www.orovalley.org/event/desert-wanderers-team-meeting/
LOCATION:Luther’s Lair
END:VEVENT
BEGIN:VEVENT
DTSTART;TZID=UTC:20250909T183000
DTEND;TZID=UTC:20250909T203000
DTSTAMP:20260421T203245
CREATED:20240910T191442Z
LAST-MODIFIED:20240910T191955Z
UID:10003778-1757442600-1757449800@www.orovalley.org
SUMMARY:Resurrection Card Players
DESCRIPTION:RLC Card Players meets every second and fourth Tuesday of the month. No reservation necessary. Please bring a snack to share and your own beverage. We play a variety of card games and we’re happy to teach you if you don’t know how to play. Everyone is welcome.
URL:https://www.orovalley.org/event/resurrection-card-players/2025-09-09/
LOCATION:Luther’s Lair
END:VEVENT
BEGIN:VEVENT
DTSTART;TZID=UTC:20250910T100000
DTEND;TZID=UTC:20250910T113000
DTSTAMP:20260421T203245
CREATED:20250829T185819Z
LAST-MODIFIED:20250829T185823Z
UID:10005178-1757498400-1757503800@www.orovalley.org
SUMMARY:Apostles’ Creed Class
DESCRIPTION:Oro Valley Sanctuary \n\n\n\nTogether with the pastors\, we’ll explore the history of the creeds and wrestle with what it means to confess them in today’s world. Join us in person on Wednesdays or tune in online at your own pace.
URL:https://www.orovalley.org/event/apostles-creed-class/
END:VEVENT
END:VCALENDAR