BEGIN:VCALENDAR
VERSION:2.0
PRODID:-//Resurrection Lutheran Church - ECPv6.15.20//NONSGML v1.0//EN
CALSCALE:GREGORIAN
METHOD:PUBLISH
X-ORIGINAL-URL:https://www.orovalley.org
X-WR-CALDESC:Events for Resurrection Lutheran Church
REFRESH-INTERVAL;VALUE=DURATION:PT1H
X-Robots-Tag:noindex
X-PUBLISHED-TTL:PT1H
BEGIN:VTIMEZONE
TZID:UTC
BEGIN:STANDARD
TZOFFSETFROM:+0000
TZOFFSETTO:+0000
TZNAME:UTC
DTSTART:20240101T000000
END:STANDARD
END:VTIMEZONE
BEGIN:VEVENT
DTSTART;TZID=UTC:20251012T091500
DTEND;TZID=UTC:20251012T101500
DTSTAMP:20260422T225914
CREATED:20250610T165422Z
LAST-MODIFIED:20250610T165427Z
UID:10005093-1760260500-1760264100@www.orovalley.org
SUMMARY:09:15 Worship - Contemporary
DESCRIPTION:Sunday School\, Confirmation\, High School Sunday School \n\n\n\nChildcare Available \n\n\n\n\nWorship Online Here
URL:https://www.orovalley.org/event/0915-worship-contemporary/2025-10-12/
LOCATION:Oro Valley Sanctuary
CATEGORIES:Worship
ATTACH;FMTTYPE=image/jpeg:https://www.orovalley.org/wp-content/uploads/2023/11/CopyrightTaylorNoelPhotography2021-200-scaled.jpg
END:VEVENT
BEGIN:VEVENT
DTSTART;TZID=UTC:20251012T104500
DTEND;TZID=UTC:20251012T114500
DTSTAMP:20260422T225914
CREATED:20250610T165108Z
LAST-MODIFIED:20250610T165111Z
UID:10005005-1760265900-1760269500@www.orovalley.org
SUMMARY:10:45 Worship - Contemporary
DESCRIPTION:Sunday School\, Confirmation\, High School Sunday School \n\n\n\nChildcare Available \n\n\n\n\nWorship Online Here
URL:https://www.orovalley.org/event/1045-worship-contemporary-7/2025-10-12/
LOCATION:Oro Valley Sanctuary
CATEGORIES:Worship
ATTACH;FMTTYPE=image/jpeg:https://www.orovalley.org/wp-content/uploads/2023/11/CopyrightTaylorNoelPhotography2021-200-scaled.jpg
END:VEVENT
BEGIN:VEVENT
DTSTART;TZID=UTC:20251013T103000
DTEND;TZID=UTC:20251013T113000
DTSTAMP:20260422T225914
CREATED:20251008T005716Z
LAST-MODIFIED:20251008T005719Z
UID:10005227-1760351400-1760355000@www.orovalley.org
SUMMARY:Centering Prayer Life Group
DESCRIPTION:Prayer Room \n\n\n\nMondays. In addition to our prayer session\, we will be reading and discussing the book Eager to Love by Richard Rohr.
URL:https://www.orovalley.org/event/centering-prayer-life-group/
END:VEVENT
BEGIN:VEVENT
DTSTART;TZID=UTC:20251014T183000
DTEND;TZID=UTC:20251014T203000
DTSTAMP:20260422T225914
CREATED:20240910T191442Z
LAST-MODIFIED:20240910T191955Z
UID:10003779-1760466600-1760473800@www.orovalley.org
SUMMARY:Resurrection Card Players
DESCRIPTION:RLC Card Players meets every second and fourth Tuesday of the month. No reservation necessary. Please bring a snack to share and your own beverage. We play a variety of card games and we’re happy to teach you if you don’t know how to play. Everyone is welcome.
URL:https://www.orovalley.org/event/resurrection-card-players/2025-10-14/
LOCATION:Luther’s Lair
END:VEVENT
BEGIN:VEVENT
DTSTART;TZID=UTC:20251015T100000
DTEND;TZID=UTC:20251015T113000
DTSTAMP:20260422T225914
CREATED:20250829T190629Z
LAST-MODIFIED:20250829T190634Z
UID:10005183-1760522400-1760527800@www.orovalley.org
SUMMARY:Apostles’ Creed Class
DESCRIPTION:Oro Valley Sanctuary \n\n\n\nTogether with the pastors\, we’ll explore the history of the creeds and wrestle with what it means to confess them in today’s world. Join us in person on Wednesdays or tune in online at your own pace.
URL:https://www.orovalley.org/event/apostles-creed-class-6/
END:VEVENT
BEGIN:VEVENT
DTSTART;TZID=UTC:20251015T103000
DTEND;TZID=UTC:20251015T120000
DTSTAMP:20260422T225914
CREATED:20240617T222009Z
LAST-MODIFIED:20240617T222059Z
UID:10003544-1760524200-1760529600@www.orovalley.org
SUMMARY:Parkinson's Support Group
DESCRIPTION:This support group provides encouragement from meeting with others who have Parkinson’s disease\, and for the care givers of those with Parkinson’s. The meetings provide an opportunity to discuss experiences and feelings and to share solutions to common problems.  Meets every 3rd Wednesday of the month in the High School Youth Room.
URL:https://www.orovalley.org/event/parkinsons-support-group-3/2025-10-15/
LOCATION:Youth Room
CATEGORIES:Congregational Care,Serve
ATTACH;FMTTYPE=image/jpeg:https://www.orovalley.org/wp-content/uploads/2024/06/Graphics-3.jpg
END:VEVENT
BEGIN:VEVENT
DTSTART;TZID=UTC:20251015T113000
DTEND;TZID=UTC:20251015T133000
DTSTAMP:20260422T225914
CREATED:20250829T193648Z
LAST-MODIFIED:20250829T193654Z
UID:10005203-1760527800-1760535000@www.orovalley.org
SUMMARY:PrimeTime Wednesday
DESCRIPTION:Oro Valley Outreach Center \n\n\n\nJoin us for Fun\, Food\, and Fellowship! A delicious homecooked meal of roasted pork loin\, mashed potatoes with pork gravy\, chunky apple sauce\, rolls and a delicious dessert. October’s activity is BINGO with great prizes\, called by the amazing Ron Esposito! \n\n\n\nAll are welcome. Invite your friends and make new friends! $10.00 per person. Kindly make reservations here: https://rsvp.church/r/ztKN2dJ9
URL:https://www.orovalley.org/event/primetime-wednesday-3/
END:VEVENT
BEGIN:VEVENT
DTSTART;TZID=UTC:20251015T150000
DTEND;TZID=UTC:20251015T160000
DTSTAMP:20260422T225915
CREATED:20250701T214646Z
LAST-MODIFIED:20250701T214652Z
UID:10004474-1760540400-1760544000@www.orovalley.org
SUMMARY:Scripture & Salsa
DESCRIPTION:You are invited to join Pastor Carol every Wednesday from 3:00 – 4:00 PM at Mi Tierra Mexican Restaurant in Catalina starting January 8th for an informal discussion of the Bible texts for the upcoming weekend’s worship. No registration is required and there is no long-term commitment. Just grab your Bible and drop by.
URL:https://www.orovalley.org/event/scripture-salsa-2/2025-10-15/
END:VEVENT
BEGIN:VEVENT
DTSTART;TZID=UTC:20251016T130000
DTEND;TZID=UTC:20251016T160000
DTSTAMP:20260422T225915
CREATED:20241213T002356Z
LAST-MODIFIED:20241213T002359Z
UID:10004091-1760619600-1760630400@www.orovalley.org
SUMMARY:Matching Dragons Mah Jongg
DESCRIPTION:Do you play the game of (American) Mah Jongg and have been looking for a group to play with? Join us on Thursday afternoons 1:00-4:00 PM in Luther’s Lair in the Outreach Center. These are friendly games. We do NOT play for money but we ALWAYS have a good time. This group is for those who already know how to play the game. However\, anyone is invited to come observe to see if they would like to learn to play the game. Questions? Contact Jackie Verdick at jackieverdick@gmail.com or 612-554-0111.
URL:https://www.orovalley.org/event/matching-dragons-mah-jongg/2025-10-16/
END:VEVENT
BEGIN:VEVENT
DTSTART;TZID=UTC:20251018T170000
DTEND;TZID=UTC:20251018T180000
DTSTAMP:20260422T225915
CREATED:20240130T000623Z
LAST-MODIFIED:20240228T201059Z
UID:10002335-1760806800-1760810400@www.orovalley.org
SUMMARY:5:00 Worship
DESCRIPTION:Join us for worship!  \n\n\n\n\nWorship Online Here\n\n\n\nOnline Bulletins Here
URL:https://www.orovalley.org/event/500-worship-2/2025-10-18/
LOCATION:Oro Valley Sanctuary
CATEGORIES:Worship
ATTACH;FMTTYPE=image/jpeg:https://www.orovalley.org/wp-content/uploads/2023/08/CopyrightTaylorNoelPhotography2021-175-354e5a6-scaled.jpg
END:VEVENT
BEGIN:VEVENT
DTSTART;TZID=UTC:20251018T170000
DTEND;TZID=UTC:20251018T200000
DTSTAMP:20260422T225915
CREATED:20250829T202905Z
LAST-MODIFIED:20250829T202908Z
UID:10005219-1760806800-1760817600@www.orovalley.org
SUMMARY:Fall Fest
DESCRIPTION:Oro Valley
URL:https://www.orovalley.org/event/fall-fest/
END:VEVENT
BEGIN:VEVENT
DTSTART;TZID=UTC:20251019T074500
DTEND;TZID=UTC:20251019T084500
DTSTAMP:20260422T225915
CREATED:20250605T233406Z
LAST-MODIFIED:20250605T233413Z
UID:10000099-1760859900-1760863500@www.orovalley.org
SUMMARY:7:45 Worship
DESCRIPTION:Traditional Worship. Music provided by Resurrection’s Chancel Choir \n\n\n\n\nWorship Online Here\n\n\n\n\n \n\n\n\n\nOnline Bulletins Here
URL:https://www.orovalley.org/event/745-worship-9/2025-10-19/
LOCATION:Oro Valley Sanctuary
CATEGORIES:Worship
ATTACH;FMTTYPE=image/jpeg:https://www.orovalley.org/wp-content/uploads/2023/12/CopyrightTaylorNoelPhotography2021-158-scaled.jpg
END:VEVENT
BEGIN:VEVENT
DTSTART;TZID=UTC:20251019T090000
DTEND;TZID=UTC:20251019T100000
DTSTAMP:20260422T225915
CREATED:20240106T184634Z
LAST-MODIFIED:20240228T200602Z
UID:10001717-1760864400-1760868000@www.orovalley.org
SUMMARY:Worship at SaddleBrooke
DESCRIPTION:Worship Online Here\n\n\n\nOnline Bulletin Here
URL:https://www.orovalley.org/event/worship-at-saddlebrooke/2025-10-19/
LOCATION:SaddleBrooke\, SaddleBrooke HOA2 Clubhouse\, Tucson\, Arizona\, 85739
CATEGORIES:Worship
ATTACH;FMTTYPE=image/jpeg:https://www.orovalley.org/wp-content/uploads/2023/08/sb-worship-pic_3.jpg
END:VEVENT
BEGIN:VEVENT
DTSTART;TZID=UTC:20251019T091500
DTEND;TZID=UTC:20251019T101500
DTSTAMP:20260422T225915
CREATED:20250610T165422Z
LAST-MODIFIED:20250610T165427Z
UID:10005094-1760865300-1760868900@www.orovalley.org
SUMMARY:09:15 Worship - Contemporary
DESCRIPTION:Sunday School\, Confirmation\, High School Sunday School \n\n\n\nChildcare Available \n\n\n\n\nWorship Online Here
URL:https://www.orovalley.org/event/0915-worship-contemporary/2025-10-19/
LOCATION:Oro Valley Sanctuary
CATEGORIES:Worship
ATTACH;FMTTYPE=image/jpeg:https://www.orovalley.org/wp-content/uploads/2023/11/CopyrightTaylorNoelPhotography2021-200-scaled.jpg
END:VEVENT
BEGIN:VEVENT
DTSTART;TZID=UTC:20251019T104500
DTEND;TZID=UTC:20251019T114500
DTSTAMP:20260422T225915
CREATED:20250610T165108Z
LAST-MODIFIED:20250610T165111Z
UID:10005006-1760870700-1760874300@www.orovalley.org
SUMMARY:10:45 Worship - Contemporary
DESCRIPTION:Sunday School\, Confirmation\, High School Sunday School \n\n\n\nChildcare Available \n\n\n\n\nWorship Online Here
URL:https://www.orovalley.org/event/1045-worship-contemporary-7/2025-10-19/
LOCATION:Oro Valley Sanctuary
CATEGORIES:Worship
ATTACH;FMTTYPE=image/jpeg:https://www.orovalley.org/wp-content/uploads/2023/11/CopyrightTaylorNoelPhotography2021-200-scaled.jpg
END:VEVENT
BEGIN:VEVENT
DTSTART;TZID=UTC:20251021T080000
DTEND;TZID=UTC:20251021T133000
DTSTAMP:20260422T225915
CREATED:20251008T011730Z
LAST-MODIFIED:20251008T011733Z
UID:10005328-1761033600-1761053400@www.orovalley.org
SUMMARY:American Red Cross Blood Drive
DESCRIPTION:Katie’s Quarters \n\n\n\nGive the gift of life\, donate blood! Register online: \n\n\n\nhttps://www.redcrossblood.org/give.html/drive-results?zipSponsor=RESURRECTION
URL:https://www.orovalley.org/event/american-red-cross-blood-drive-11/
END:VEVENT
BEGIN:VEVENT
DTSTART;TZID=UTC:20251022T100000
DTEND;TZID=UTC:20251022T113000
DTSTAMP:20260422T225915
CREATED:20250829T190757Z
LAST-MODIFIED:20250829T190805Z
UID:10005184-1761127200-1761132600@www.orovalley.org
SUMMARY:Apostles’ Creed Class
DESCRIPTION:Oro Valley Sanctuary \n\n\n\nTogether with the pastors\, we’ll explore the history of the creeds and wrestle with what it means to confess them in today’s world. Join us in person on Wednesdays or tune in online at your own pace.
URL:https://www.orovalley.org/event/apostles-creed-class-7/
END:VEVENT
BEGIN:VEVENT
DTSTART;TZID=UTC:20251022T150000
DTEND;TZID=UTC:20251022T160000
DTSTAMP:20260422T225915
CREATED:20250701T214646Z
LAST-MODIFIED:20250701T214652Z
UID:10004490-1761145200-1761148800@www.orovalley.org
SUMMARY:Scripture & Salsa
DESCRIPTION:You are invited to join Pastor Carol every Wednesday from 3:00 – 4:00 PM at Mi Tierra Mexican Restaurant in Catalina starting January 8th for an informal discussion of the Bible texts for the upcoming weekend’s worship. No registration is required and there is no long-term commitment. Just grab your Bible and drop by.
URL:https://www.orovalley.org/event/scripture-salsa-2/2025-10-22/
END:VEVENT
BEGIN:VEVENT
DTSTART;TZID=UTC:20251023T100000
DTEND;TZID=UTC:20251023T120000
DTSTAMP:20260422T225915
CREATED:20250829T191402Z
LAST-MODIFIED:20251017T203357Z
UID:10005186-1761213600-1761220800@www.orovalley.org
SUMMARY:Faithfully Addressing Polarization – Adult Study Class
DESCRIPTION:Oro Valley Sanctuary \n\n\n\nWe will examine the causes and consequences of polarization in our communities. We will explore our own motivations and internal triggers\, practice talking through tough topics\, and gain fresh perspectives on handling disagreements in the Church and in society. \n\n\n\nLearn more about this class and how to register here: https://www.orovalley.org/study/
URL:https://www.orovalley.org/event/faithfully-addressing-polarization-adult-study-class/
END:VEVENT
BEGIN:VEVENT
DTSTART;TZID=UTC:20251023T130000
DTEND;TZID=UTC:20251023T160000
DTSTAMP:20260422T225915
CREATED:20241213T002356Z
LAST-MODIFIED:20241213T002359Z
UID:10004092-1761224400-1761235200@www.orovalley.org
SUMMARY:Matching Dragons Mah Jongg
DESCRIPTION:Do you play the game of (American) Mah Jongg and have been looking for a group to play with? Join us on Thursday afternoons 1:00-4:00 PM in Luther’s Lair in the Outreach Center. These are friendly games. We do NOT play for money but we ALWAYS have a good time. This group is for those who already know how to play the game. However\, anyone is invited to come observe to see if they would like to learn to play the game. Questions? Contact Jackie Verdick at jackieverdick@gmail.com or 612-554-0111.
URL:https://www.orovalley.org/event/matching-dragons-mah-jongg/2025-10-23/
END:VEVENT
BEGIN:VEVENT
DTSTART;TZID=UTC:20251025T080000
DTEND;TZID=UTC:20251025T090000
DTSTAMP:20260422T225915
CREATED:20240808T201836Z
LAST-MODIFIED:20260210T201221Z
UID:10004322-1761379200-1761382800@www.orovalley.org
SUMMARY:Men's Bible Study
DESCRIPTION:Uses the Serendipity Bible\, copies are available. All men of the church are welcome to attend. Meets in Luther’s Lair.
URL:https://www.orovalley.org/event/mens-bible-study/2025-10-25/
END:VEVENT
BEGIN:VEVENT
DTSTART;TZID=UTC:20251025T121500
DTEND;TZID=UTC:20251025T133000
DTSTAMP:20260422T225915
CREATED:20251008T004309Z
LAST-MODIFIED:20251008T004447Z
UID:10005223-1761394500-1761399000@www.orovalley.org
SUMMARY:Holy Smokes Cookout
DESCRIPTION:Oro Valley Outreach Center Gym \n\n\n\n\nCelebrate the Pastors and Deacon Emma!\n\n\n\nMust RSVP to attend. Bring sidedish to share.\n\n\n\nhttps://rsvp.church/r/ztKN2dJ9
URL:https://www.orovalley.org/event/holy-smokes-cookout/
END:VEVENT
BEGIN:VEVENT
DTSTART;TZID=UTC:20251025T170000
DTEND;TZID=UTC:20251025T180000
DTSTAMP:20260422T225915
CREATED:20240130T000623Z
LAST-MODIFIED:20240228T201059Z
UID:10002336-1761411600-1761415200@www.orovalley.org
SUMMARY:5:00 Worship
DESCRIPTION:Join us for worship!  \n\n\n\n\nWorship Online Here\n\n\n\nOnline Bulletins Here
URL:https://www.orovalley.org/event/500-worship-2/2025-10-25/
LOCATION:Oro Valley Sanctuary
CATEGORIES:Worship
ATTACH;FMTTYPE=image/jpeg:https://www.orovalley.org/wp-content/uploads/2023/08/CopyrightTaylorNoelPhotography2021-175-354e5a6-scaled.jpg
END:VEVENT
BEGIN:VEVENT
DTSTART;TZID=UTC:20251026T074500
DTEND;TZID=UTC:20251026T084500
DTSTAMP:20260422T225915
CREATED:20250605T233406Z
LAST-MODIFIED:20250605T233413Z
UID:10000100-1761464700-1761468300@www.orovalley.org
SUMMARY:7:45 Worship
DESCRIPTION:Traditional Worship. Music provided by Resurrection’s Chancel Choir \n\n\n\n\nWorship Online Here\n\n\n\n\n \n\n\n\n\nOnline Bulletins Here
URL:https://www.orovalley.org/event/745-worship-9/2025-10-26/
LOCATION:Oro Valley Sanctuary
CATEGORIES:Worship
ATTACH;FMTTYPE=image/jpeg:https://www.orovalley.org/wp-content/uploads/2023/12/CopyrightTaylorNoelPhotography2021-158-scaled.jpg
END:VEVENT
BEGIN:VEVENT
DTSTART;TZID=UTC:20251026T090000
DTEND;TZID=UTC:20251026T100000
DTSTAMP:20260422T225915
CREATED:20240106T184634Z
LAST-MODIFIED:20240228T200602Z
UID:10001718-1761469200-1761472800@www.orovalley.org
SUMMARY:Worship at SaddleBrooke
DESCRIPTION:Worship Online Here\n\n\n\nOnline Bulletin Here
URL:https://www.orovalley.org/event/worship-at-saddlebrooke/2025-10-26/
LOCATION:SaddleBrooke\, SaddleBrooke HOA2 Clubhouse\, Tucson\, Arizona\, 85739
CATEGORIES:Worship
ATTACH;FMTTYPE=image/jpeg:https://www.orovalley.org/wp-content/uploads/2023/08/sb-worship-pic_3.jpg
END:VEVENT
BEGIN:VEVENT
DTSTART;TZID=UTC:20251026T091500
DTEND;TZID=UTC:20251026T101500
DTSTAMP:20260422T225915
CREATED:20250610T165422Z
LAST-MODIFIED:20250610T165427Z
UID:10005095-1761470100-1761473700@www.orovalley.org
SUMMARY:09:15 Worship - Contemporary
DESCRIPTION:Sunday School\, Confirmation\, High School Sunday School \n\n\n\nChildcare Available \n\n\n\n\nWorship Online Here
URL:https://www.orovalley.org/event/0915-worship-contemporary/2025-10-26/
LOCATION:Oro Valley Sanctuary
CATEGORIES:Worship
ATTACH;FMTTYPE=image/jpeg:https://www.orovalley.org/wp-content/uploads/2023/11/CopyrightTaylorNoelPhotography2021-200-scaled.jpg
END:VEVENT
BEGIN:VEVENT
DTSTART;TZID=UTC:20251026T104500
DTEND;TZID=UTC:20251026T114500
DTSTAMP:20260422T225915
CREATED:20250610T165108Z
LAST-MODIFIED:20250610T165111Z
UID:10005007-1761475500-1761479100@www.orovalley.org
SUMMARY:10:45 Worship - Contemporary
DESCRIPTION:Sunday School\, Confirmation\, High School Sunday School \n\n\n\nChildcare Available \n\n\n\n\nWorship Online Here
URL:https://www.orovalley.org/event/1045-worship-contemporary-7/2025-10-26/
LOCATION:Oro Valley Sanctuary
CATEGORIES:Worship
ATTACH;FMTTYPE=image/jpeg:https://www.orovalley.org/wp-content/uploads/2023/11/CopyrightTaylorNoelPhotography2021-200-scaled.jpg
END:VEVENT
BEGIN:VEVENT
DTSTART;TZID=UTC:20251027T103000
DTEND;TZID=UTC:20251027T113000
DTSTAMP:20260422T225915
CREATED:20250829T193335Z
LAST-MODIFIED:20250829T204730Z
UID:10005201-1761561000-1761564600@www.orovalley.org
SUMMARY:Medicare Workshop
DESCRIPTION:Oro Valley Sanctuary \n\n\n\nMore information in the September Vision.
URL:https://www.orovalley.org/event/medicare-workshop/
END:VEVENT
BEGIN:VEVENT
DTSTART;TZID=UTC:20251028T100000
DTEND;TZID=UTC:20251028T120000
DTSTAMP:20260422T225915
CREATED:20250829T191523Z
LAST-MODIFIED:20251017T203438Z
UID:10005187-1761645600-1761652800@www.orovalley.org
SUMMARY:Faithfully Addressing Polarization – Adult Study Class
DESCRIPTION:Oro Valley Sanctuary \n\n\n\nWe will examine the causes and consequences of polarization in our communities. We will explore our own motivations and internal triggers\, practice talking through tough topics\, and gain fresh perspectives on handling disagreements in the Church and in society. \n\n\n\nLearn more about this class and how to register here: https://www.orovalley.org/study/
URL:https://www.orovalley.org/event/faithfully-addressing-polarization-adult-study-class-2/
END:VEVENT
BEGIN:VEVENT
DTSTART;TZID=UTC:20251028T183000
DTEND;TZID=UTC:20251028T203000
DTSTAMP:20260422T225915
CREATED:20240910T192133Z
LAST-MODIFIED:20240910T192135Z
UID:10003839-1761676200-1761683400@www.orovalley.org
SUMMARY:Resurrection Card Players
DESCRIPTION:RLC Card Players meets every second and fourth Tuesday of the month. No reservation necessary. Please bring a snack to share and your own beverage. We play a variety of card games and we’re happy to teach you if you don’t know how to play. Everyone is welcome.
URL:https://www.orovalley.org/event/resurrection-card-players-2/2025-10-28/
LOCATION:Luther’s Lair
END:VEVENT
END:VCALENDAR