BEGIN:VCALENDAR
VERSION:2.0
PRODID:-//Resurrection Lutheran Church - ECPv6.15.20//NONSGML v1.0//EN
CALSCALE:GREGORIAN
METHOD:PUBLISH
X-WR-CALNAME:Resurrection Lutheran Church
X-ORIGINAL-URL:https://www.orovalley.org
X-WR-CALDESC:Events for Resurrection Lutheran Church
REFRESH-INTERVAL;VALUE=DURATION:PT1H
X-Robots-Tag:noindex
X-PUBLISHED-TTL:PT1H
BEGIN:VTIMEZONE
TZID:UTC
BEGIN:STANDARD
TZOFFSETFROM:+0000
TZOFFSETTO:+0000
TZNAME:UTC
DTSTART:20230101T000000
END:STANDARD
END:VTIMEZONE
BEGIN:VEVENT
DTSTART;TZID=UTC:20240428T090000
DTEND;TZID=UTC:20240428T100000
DTSTAMP:20260422T035329
CREATED:20240106T184634Z
LAST-MODIFIED:20240228T200602Z
UID:10001640-1714294800-1714298400@www.orovalley.org
SUMMARY:Worship at SaddleBrooke
DESCRIPTION:Worship Online Here\n\n\n\nOnline Bulletin Here
URL:https://www.orovalley.org/event/worship-at-saddlebrooke/2024-04-28/
LOCATION:SaddleBrooke\, SaddleBrooke HOA2 Clubhouse\, Tucson\, Arizona\, 85739
CATEGORIES:Worship
ATTACH;FMTTYPE=image/jpeg:https://www.orovalley.org/wp-content/uploads/2023/08/sb-worship-pic_3.jpg
END:VEVENT
BEGIN:VEVENT
DTSTART;TZID=UTC:20240428T074500
DTEND;TZID=UTC:20240428T084500
DTSTAMP:20260422T035329
CREATED:20240228T194309Z
LAST-MODIFIED:20240513T201331Z
UID:10002935-1714290300-1714293900@www.orovalley.org
SUMMARY:7:45 Worship
DESCRIPTION:Traditional Worship. Music provided by Resurrection’s Chancel Choir \n\n\n\n\nWorship Online Here\n\n\n\n\n \n\n\n\n\nOnline Bulletins Here
URL:https://www.orovalley.org/event/745-worship-4/2024-04-28/
LOCATION:Oro Valley Sanctuary
CATEGORIES:Worship
ATTACH;FMTTYPE=image/jpeg:https://www.orovalley.org/wp-content/uploads/2023/12/CopyrightTaylorNoelPhotography2021-158-scaled.jpg
END:VEVENT
BEGIN:VEVENT
DTSTART;TZID=UTC:20240427T170000
DTEND;TZID=UTC:20240427T180000
DTSTAMP:20260422T035329
CREATED:20240130T000623Z
LAST-MODIFIED:20240228T201059Z
UID:10002258-1714237200-1714240800@www.orovalley.org
SUMMARY:5:00 Worship
DESCRIPTION:Join us for worship!  \n\n\n\n\nWorship Online Here\n\n\n\nOnline Bulletins Here
URL:https://www.orovalley.org/event/500-worship-2/2024-04-27/
LOCATION:Oro Valley Sanctuary
CATEGORIES:Worship
ATTACH;FMTTYPE=image/jpeg:https://www.orovalley.org/wp-content/uploads/2023/08/CopyrightTaylorNoelPhotography2021-175-354e5a6-scaled.jpg
END:VEVENT
BEGIN:VEVENT
DTSTART;TZID=UTC:20240427T070000
DTEND;TZID=UTC:20240427T090000
DTSTAMP:20260422T035329
CREATED:20240213T204522Z
LAST-MODIFIED:20240410T202229Z
UID:10002856-1714201200-1714208400@www.orovalley.org
SUMMARY:World Vision 6K Walk
DESCRIPTION:World Vision 6k Walk\n\n\n\n\n\nIt is that time of year again to register for RLC’s 6k Walk for Water. As always your support\, both in walking and donations. Help bring clean water to thousands around the world. We would love for you to register again\, not just to walk but to also fundraise. Our fundraising goal is $18\,000! We know together we can make a difference.  If you can’t walk you can still donate or raise money. Every dollar counts and every $50 gives water to one person in need! Your $50 registration will go towards that cause as well. \n\n\n\nOur event will be held on Saturday\, April 27 at RLC from 7am-9am. The link will show a May date\, but we Tucsonans prefer to walk in April so we don’t have to fight the heat. \n\n\n\nAlong with the 6k (3.7 miles) we will offer a 1.3 mile walk for those that want a shorter walk. Everyone is welcome! Invite your neighbors\, family\, co-workers.
URL:https://www.orovalley.org/event/six-k-walk/
CATEGORIES:Community Care,Serve
ATTACH;FMTTYPE=image/jpeg:https://www.orovalley.org/wp-content/uploads/2024/02/worldvision-logo.jpg
END:VEVENT
BEGIN:VEVENT
DTSTART;TZID=UTC:20240425T190000
DTEND;TZID=UTC:20240425T203000
DTSTAMP:20260422T035329
CREATED:20240212T222150Z
LAST-MODIFIED:20240212T230708Z
UID:10002830-1714071600-1714077000@www.orovalley.org
SUMMARY:Chancel Choir
DESCRIPTION:The Chancel Choir is a small ensemble and rehearses in the Choir Loft on Thursdays from 7-8:30 PM\, and sings in the 7:45 AM service\, September through May.  \n\n\n\n\nLearn More About Chancel Choir Here
URL:https://www.orovalley.org/event/chancel-choir-3/2024-04-25/
LOCATION:Oro Valley Sanctuary
CATEGORIES:Music Ministry
ATTACH;FMTTYPE=image/jpeg:https://www.orovalley.org/wp-content/uploads/2023/12/qtq80-sMxHqZ-scaled.jpeg
END:VEVENT
BEGIN:VEVENT
DTSTART;TZID=UTC:20240424T190000
DTEND;TZID=UTC:20240424T203000
DTSTAMP:20260422T035329
CREATED:20240212T224350Z
LAST-MODIFIED:20240212T225817Z
UID:10002847-1713985200-1713990600@www.orovalley.org
SUMMARY:Spirit Singers
DESCRIPTION:The Spirit Singers choir is a large ensemble and rehearses in the Choir Loft on Wednesdays\, and sings on Sundays at the Sunday\, 9:15 AM service\, September through May. \n\n\n\n\nLearn More about Spirit Singers Here
URL:https://www.orovalley.org/event/spirit-singers/2024-04-24/
LOCATION:Oro Valley Sanctuary
CATEGORIES:Music Ministry
ATTACH;FMTTYPE=image/jpeg:https://www.orovalley.org/wp-content/uploads/2023/12/qtq80-sMxHqZ-scaled.jpeg
END:VEVENT
BEGIN:VEVENT
DTSTART;TZID=UTC:20240421T104500
DTEND;TZID=UTC:20240421T114500
DTSTAMP:20260422T035329
CREATED:20240106T065411Z
LAST-MODIFIED:20240228T200844Z
UID:10001314-1713696300-1713699900@www.orovalley.org
SUMMARY:10:45 Worship - Contemporary
DESCRIPTION:Sunday School\, Confirmation\, High School Sunday School \n\n\n\nChildcare Available \n\n\n\n\nWorship Online Here
URL:https://www.orovalley.org/event/worship-3/2024-04-21/
LOCATION:Oro Valley Sanctuary
CATEGORIES:Worship
ATTACH;FMTTYPE=image/jpeg:https://www.orovalley.org/wp-content/uploads/2023/11/CopyrightTaylorNoelPhotography2021-200-scaled.jpg
END:VEVENT
BEGIN:VEVENT
DTSTART;TZID=UTC:20240421T091500
DTEND;TZID=UTC:20240421T101500
DTSTAMP:20260422T035329
CREATED:20240301T214931Z
LAST-MODIFIED:20240513T202409Z
UID:10002950-1713690900-1713694500@www.orovalley.org
SUMMARY:9:15 Worship
DESCRIPTION:Join us each Sunday at 9:15 AM in the Oro Valley Sanctuary for our traditional worship service! Music is provided by Resurrection’s Spirit Singers. \n\n\n\nChildcare available \n\n\n\n\nWorship Online Here\n\n\n\n\n\nOnline Bulletins Here
URL:https://www.orovalley.org/event/915-worship-3/2024-04-21/
LOCATION:Oro Valley Sanctuary
CATEGORIES:Worship
ATTACH;FMTTYPE=image/jpeg:https://www.orovalley.org/wp-content/uploads/2023/10/842051488-scaled.jpg
END:VEVENT
BEGIN:VEVENT
DTSTART;TZID=UTC:20240421T090000
DTEND;TZID=UTC:20240421T100000
DTSTAMP:20260422T035329
CREATED:20240106T184634Z
LAST-MODIFIED:20240228T200602Z
UID:10001639-1713690000-1713693600@www.orovalley.org
SUMMARY:Worship at SaddleBrooke
DESCRIPTION:Worship Online Here\n\n\n\nOnline Bulletin Here
URL:https://www.orovalley.org/event/worship-at-saddlebrooke/2024-04-21/
LOCATION:SaddleBrooke\, SaddleBrooke HOA2 Clubhouse\, Tucson\, Arizona\, 85739
CATEGORIES:Worship
ATTACH;FMTTYPE=image/jpeg:https://www.orovalley.org/wp-content/uploads/2023/08/sb-worship-pic_3.jpg
END:VEVENT
BEGIN:VEVENT
DTSTART;TZID=UTC:20240421T074500
DTEND;TZID=UTC:20240421T084500
DTSTAMP:20260422T035330
CREATED:20240228T194309Z
LAST-MODIFIED:20240513T201331Z
UID:10002934-1713685500-1713689100@www.orovalley.org
SUMMARY:7:45 Worship
DESCRIPTION:Traditional Worship. Music provided by Resurrection’s Chancel Choir \n\n\n\n\nWorship Online Here\n\n\n\n\n \n\n\n\n\nOnline Bulletins Here
URL:https://www.orovalley.org/event/745-worship-4/2024-04-21/
LOCATION:Oro Valley Sanctuary
CATEGORIES:Worship
ATTACH;FMTTYPE=image/jpeg:https://www.orovalley.org/wp-content/uploads/2023/12/CopyrightTaylorNoelPhotography2021-158-scaled.jpg
END:VEVENT
BEGIN:VEVENT
DTSTART;TZID=UTC:20240420T170000
DTEND;TZID=UTC:20240420T180000
DTSTAMP:20260422T035330
CREATED:20240130T000623Z
LAST-MODIFIED:20240228T201059Z
UID:10002257-1713632400-1713636000@www.orovalley.org
SUMMARY:5:00 Worship
DESCRIPTION:Join us for worship!  \n\n\n\n\nWorship Online Here\n\n\n\nOnline Bulletins Here
URL:https://www.orovalley.org/event/500-worship-2/2024-04-20/
LOCATION:Oro Valley Sanctuary
CATEGORIES:Worship
ATTACH;FMTTYPE=image/jpeg:https://www.orovalley.org/wp-content/uploads/2023/08/CopyrightTaylorNoelPhotography2021-175-354e5a6-scaled.jpg
END:VEVENT
BEGIN:VEVENT
DTSTART;TZID=UTC:20240418T190000
DTEND;TZID=UTC:20240418T203000
DTSTAMP:20260422T035330
CREATED:20240212T222150Z
LAST-MODIFIED:20240212T230708Z
UID:10002829-1713466800-1713472200@www.orovalley.org
SUMMARY:Chancel Choir
DESCRIPTION:The Chancel Choir is a small ensemble and rehearses in the Choir Loft on Thursdays from 7-8:30 PM\, and sings in the 7:45 AM service\, September through May.  \n\n\n\n\nLearn More About Chancel Choir Here
URL:https://www.orovalley.org/event/chancel-choir-3/2024-04-18/
LOCATION:Oro Valley Sanctuary
CATEGORIES:Music Ministry
ATTACH;FMTTYPE=image/jpeg:https://www.orovalley.org/wp-content/uploads/2023/12/qtq80-sMxHqZ-scaled.jpeg
END:VEVENT
BEGIN:VEVENT
DTSTART;TZID=UTC:20240417T181500
DTEND;TZID=UTC:20240417T203000
DTSTAMP:20260422T035330
CREATED:20240320T215417Z
LAST-MODIFIED:20240402T215701Z
UID:10002889-1713377700-1713385800@www.orovalley.org
SUMMARY:Pastor Carol's Installation
DESCRIPTION:Join us in welcoming Pastor Carol to Resurrection! Pastor Carol will be installed at a worship service where the Bishop of the Grand Canyon Synod will be preaching\, which will be followed by a dessert reception. If you would like to welcome Pastor Carol with a gift\, please consider gift cards to local restaurants or grocery stores! \n\n\n\nAll are welcome to the service. If you would like to also attend the reception\, kindly RSVP below! \n\n\n\n\n\n\n\n\nRSVP Here!
URL:https://www.orovalley.org/event/pastor-carols-instillation/
CATEGORIES:Churchwide Events,Worship
ATTACH;FMTTYPE=image/jpeg:https://www.orovalley.org/wp-content/uploads/2024/01/Pastor-Carol-George-e1706674610825.jpg
END:VEVENT
BEGIN:VEVENT
DTSTART;TZID=UTC:20240414T104500
DTEND;TZID=UTC:20240414T114500
DTSTAMP:20260422T035330
CREATED:20240301T214643Z
LAST-MODIFIED:20240301T214716Z
UID:10001313-1713091500-1713095100@www.orovalley.org
SUMMARY:10:45 Worship - Contemporary
DESCRIPTION:Join us as we send off and bless Pastor Tim as he leaves for his Sabbatical! \n\n\n\nSunday School\, Confirmation\, High School Sunday School \n\n\n\nChildcare Available \n\n\n\n\nWorship Online Here
URL:https://www.orovalley.org/event/1045-worship-contemporary-3/
LOCATION:Oro Valley Sanctuary
CATEGORIES:Worship
ATTACH;FMTTYPE=image/jpeg:https://www.orovalley.org/wp-content/uploads/2023/11/CopyrightTaylorNoelPhotography2021-200-scaled.jpg
END:VEVENT
BEGIN:VEVENT
DTSTART;TZID=UTC:20240414T091500
DTEND;TZID=UTC:20240414T101500
DTSTAMP:20260422T035330
CREATED:20240301T214931Z
LAST-MODIFIED:20240513T202409Z
UID:10000536-1713086100-1713089700@www.orovalley.org
SUMMARY:9:15 Worship
DESCRIPTION:Join us each Sunday at 9:15 AM in the Oro Valley Sanctuary for our traditional worship service! Music is provided by Resurrection’s Spirit Singers. \n\n\n\nChildcare available \n\n\n\n\nWorship Online Here\n\n\n\n\n\nOnline Bulletins Here
URL:https://www.orovalley.org/event/915-worship-3/2024-04-14/
LOCATION:Oro Valley Sanctuary
CATEGORIES:Worship
ATTACH;FMTTYPE=image/jpeg:https://www.orovalley.org/wp-content/uploads/2023/10/842051488-scaled.jpg
END:VEVENT
BEGIN:VEVENT
DTSTART;TZID=UTC:20240414T090000
DTEND;TZID=UTC:20240414T100000
DTSTAMP:20260422T035330
CREATED:20240301T214605Z
LAST-MODIFIED:20240301T214754Z
UID:10001638-1713085200-1713088800@www.orovalley.org
SUMMARY:Worship at SaddleBrooke
DESCRIPTION:Join us as we send off and bless Pastor Tim as he leaves for his Sabbatical! \n\n\n\n\nWorship Online Here\n\n\n\nOnline Bulletin Here
URL:https://www.orovalley.org/event/worship-at-saddlebrooke-3/
LOCATION:SaddleBrooke\, SaddleBrooke HOA2 Clubhouse\, Tucson\, Arizona\, 85739
CATEGORIES:Worship
ATTACH;FMTTYPE=image/jpeg:https://www.orovalley.org/wp-content/uploads/2023/08/sb-worship-pic_3.jpg
END:VEVENT
BEGIN:VEVENT
DTSTART;TZID=UTC:20240414T074500
DTEND;TZID=UTC:20240414T084500
DTSTAMP:20260422T035330
CREATED:20240301T214417Z
LAST-MODIFIED:20240301T214531Z
UID:10000020-1713080700-1713084300@www.orovalley.org
SUMMARY:7:45 Worship
DESCRIPTION:Join us as we send off and bless Pastor Tim as he leaves for his Sabbatical! Traditional Worship. Music provided by Resurrection’s Chancel Choir. \n\n\n\n\nWorship Online Here\n\n\n\n\n \n\n\n\n\nOnline Bulletins Here
URL:https://www.orovalley.org/event/745-worship-6/
LOCATION:Oro Valley Sanctuary
CATEGORIES:Worship
ATTACH;FMTTYPE=image/jpeg:https://www.orovalley.org/wp-content/uploads/2023/12/CopyrightTaylorNoelPhotography2021-158-scaled.jpg
END:VEVENT
BEGIN:VEVENT
DTSTART;TZID=UTC:20240414T074500
DTEND;TZID=UTC:20240414T084500
DTSTAMP:20260422T035330
CREATED:20240228T194309Z
LAST-MODIFIED:20240513T201331Z
UID:10002933-1713080700-1713084300@www.orovalley.org
SUMMARY:7:45 Worship
DESCRIPTION:Traditional Worship. Music provided by Resurrection’s Chancel Choir \n\n\n\n\nWorship Online Here\n\n\n\n\n \n\n\n\n\nOnline Bulletins Here
URL:https://www.orovalley.org/event/745-worship-4/2024-04-14/
LOCATION:Oro Valley Sanctuary
CATEGORIES:Worship
ATTACH;FMTTYPE=image/jpeg:https://www.orovalley.org/wp-content/uploads/2023/12/CopyrightTaylorNoelPhotography2021-158-scaled.jpg
END:VEVENT
BEGIN:VEVENT
DTSTART;TZID=UTC:20240413T180000
DTEND;TZID=UTC:20240413T200000
DTSTAMP:20260422T035330
CREATED:20240208T190303Z
LAST-MODIFIED:20240320T222022Z
UID:10002555-1713031200-1713038400@www.orovalley.org
SUMMARY:Meats & Eats
DESCRIPTION:Meats and Eats\n\n\n\n\n\nHello and thank you for being willing to invest in our youth! This Summer\, we have amazing trips planned for your youth to DIVE DEEPER into their faith. With our High Schoolers going to New Orleans to attend the ELCA Youth Gathering and our Middle School youth going to Flagstaff to serve\, this will certainly be a Summer of deepening our faith and relationships with each other and with God. To help afford these trips\, we are inviting you to our very first\, Resurrection Meats and Eats. Join us on April 13th from 6 to 8 PM for some smoked pork\, beans\, and other amazing food\, amazing music by the Wild Cats Jazz Band\, and other opportunities to support our youth. At the low price of $15 per ticket (or however much you’d like to donate)\, it will be an event to remember. Please RSVP below. We will be collecting cash at the door.
URL:https://www.orovalley.org/event/meats-eats/
LOCATION:The Patio\, 11575 N 1st Ave\, Oro Valley\, AZ\, 85737\, United States
CATEGORIES:Children, Youth, and Family Events,Churchwide Events,Serve
ATTACH;FMTTYPE=image/png:https://www.orovalley.org/wp-content/uploads/2024/02/Meets-and-Eats-Logo.png
END:VEVENT
BEGIN:VEVENT
DTSTART;TZID=UTC:20240413T170000
DTEND;TZID=UTC:20240413T180000
DTSTAMP:20260422T035330
CREATED:20240301T213939Z
LAST-MODIFIED:20240301T214339Z
UID:10002256-1713027600-1713031200@www.orovalley.org
SUMMARY:5:00 Worship
DESCRIPTION:Join us as we send off and bless Pastor Tim as he leaves for his Sabbatical! \n\n\n\n\nWorship Online Here\n\n\n\nOnline Bulletins Here
URL:https://www.orovalley.org/event/500-worship-5/
LOCATION:Oro Valley Sanctuary
CATEGORIES:Worship
ATTACH;FMTTYPE=image/jpeg:https://www.orovalley.org/wp-content/uploads/2023/08/CopyrightTaylorNoelPhotography2021-175-354e5a6-scaled.jpg
END:VEVENT
BEGIN:VEVENT
DTSTART;TZID=UTC:20240411T190000
DTEND;TZID=UTC:20240411T203000
DTSTAMP:20260422T035330
CREATED:20240212T222150Z
LAST-MODIFIED:20240212T230708Z
UID:10002828-1712862000-1712867400@www.orovalley.org
SUMMARY:Chancel Choir
DESCRIPTION:The Chancel Choir is a small ensemble and rehearses in the Choir Loft on Thursdays from 7-8:30 PM\, and sings in the 7:45 AM service\, September through May.  \n\n\n\n\nLearn More About Chancel Choir Here
URL:https://www.orovalley.org/event/chancel-choir-3/2024-04-11/
LOCATION:Oro Valley Sanctuary
CATEGORIES:Music Ministry
ATTACH;FMTTYPE=image/jpeg:https://www.orovalley.org/wp-content/uploads/2023/12/qtq80-sMxHqZ-scaled.jpeg
END:VEVENT
BEGIN:VEVENT
DTSTART;TZID=UTC:20240410T190000
DTEND;TZID=UTC:20240410T203000
DTSTAMP:20260422T035330
CREATED:20240212T224350Z
LAST-MODIFIED:20240212T225817Z
UID:10002845-1712775600-1712781000@www.orovalley.org
SUMMARY:Spirit Singers
DESCRIPTION:The Spirit Singers choir is a large ensemble and rehearses in the Choir Loft on Wednesdays\, and sings on Sundays at the Sunday\, 9:15 AM service\, September through May. \n\n\n\n\nLearn More about Spirit Singers Here
URL:https://www.orovalley.org/event/spirit-singers/2024-04-10/
LOCATION:Oro Valley Sanctuary
CATEGORIES:Music Ministry
ATTACH;FMTTYPE=image/jpeg:https://www.orovalley.org/wp-content/uploads/2023/12/qtq80-sMxHqZ-scaled.jpeg
END:VEVENT
BEGIN:VEVENT
DTSTART;TZID=UTC:20240407T104500
DTEND;TZID=UTC:20240407T114500
DTSTAMP:20260422T035330
CREATED:20240106T065411Z
LAST-MODIFIED:20240228T200844Z
UID:10001312-1712486700-1712490300@www.orovalley.org
SUMMARY:10:45 Worship - Contemporary
DESCRIPTION:Sunday School\, Confirmation\, High School Sunday School \n\n\n\nChildcare Available \n\n\n\n\nWorship Online Here
URL:https://www.orovalley.org/event/worship-3/2024-04-07/
LOCATION:Oro Valley Sanctuary
CATEGORIES:Worship
ATTACH;FMTTYPE=image/jpeg:https://www.orovalley.org/wp-content/uploads/2023/11/CopyrightTaylorNoelPhotography2021-200-scaled.jpg
END:VEVENT
BEGIN:VEVENT
DTSTART;TZID=UTC:20240407T090000
DTEND;TZID=UTC:20240407T100000
DTSTAMP:20260422T035330
CREATED:20240106T184634Z
LAST-MODIFIED:20240228T200602Z
UID:10001637-1712480400-1712484000@www.orovalley.org
SUMMARY:Worship at SaddleBrooke
DESCRIPTION:Worship Online Here\n\n\n\nOnline Bulletin Here
URL:https://www.orovalley.org/event/worship-at-saddlebrooke/2024-04-07/
LOCATION:SaddleBrooke\, SaddleBrooke HOA2 Clubhouse\, Tucson\, Arizona\, 85739
CATEGORIES:Worship
ATTACH;FMTTYPE=image/jpeg:https://www.orovalley.org/wp-content/uploads/2023/08/sb-worship-pic_3.jpg
END:VEVENT
BEGIN:VEVENT
DTSTART;TZID=UTC:20240407T074500
DTEND;TZID=UTC:20240407T084500
DTSTAMP:20260422T035330
CREATED:20240228T194309Z
LAST-MODIFIED:20240513T201331Z
UID:10002932-1712475900-1712479500@www.orovalley.org
SUMMARY:7:45 Worship
DESCRIPTION:Traditional Worship. Music provided by Resurrection’s Chancel Choir \n\n\n\n\nWorship Online Here\n\n\n\n\n \n\n\n\n\nOnline Bulletins Here
URL:https://www.orovalley.org/event/745-worship-4/2024-04-07/
LOCATION:Oro Valley Sanctuary
CATEGORIES:Worship
ATTACH;FMTTYPE=image/jpeg:https://www.orovalley.org/wp-content/uploads/2023/12/CopyrightTaylorNoelPhotography2021-158-scaled.jpg
END:VEVENT
BEGIN:VEVENT
DTSTART;TZID=UTC:20240406T170000
DTEND;TZID=UTC:20240406T180000
DTSTAMP:20260422T035330
CREATED:20240130T000623Z
LAST-MODIFIED:20240228T201059Z
UID:10002255-1712422800-1712426400@www.orovalley.org
SUMMARY:5:00 Worship
DESCRIPTION:Join us for worship!  \n\n\n\n\nWorship Online Here\n\n\n\nOnline Bulletins Here
URL:https://www.orovalley.org/event/500-worship-2/2024-04-06/
LOCATION:Oro Valley Sanctuary
CATEGORIES:Worship
ATTACH;FMTTYPE=image/jpeg:https://www.orovalley.org/wp-content/uploads/2023/08/CopyrightTaylorNoelPhotography2021-175-354e5a6-scaled.jpg
END:VEVENT
BEGIN:VEVENT
DTSTART;TZID=UTC:20240406T150000
DTEND;TZID=UTC:20240406T170000
DTSTAMP:20260422T035330
CREATED:20240325T233707Z
LAST-MODIFIED:20240325T235314Z
UID:10002894-1712415600-1712422800@www.orovalley.org
SUMMARY:Generosity Opportunity
DESCRIPTION:Some families at Resurrection are examining opportunities to leave a legacy at RLC and other causes they believe in.  Fortunately\, our church is served by an expert in legacy planning: Lisa Higginbotham\, Regional Gift Planner with the ELCA Foundation.  You’ve probably seen Lisa in our services or on the campus.  She’s the one with practical ideas and tools for legacy giving.  And good news for us.  Lisa will be here next month to continue conversations with RLC families about planned gifts in estates to benefit RLC and other ministries and causes important to them\, AND Lisa will be available to chat with others at RLC who may be ready to think about their legacy.  Lisa’s services on behalf of RLC are free.  (Note: it’s tax time. Do you know that some types of legacy instruments may have significant tax deductions while providing a meaningful gift later?)  \n\n\n\nInterested?  You can schedule an introductory chat with Lisa\, or explore legacy giving in depth when Lisa is on campus on Saturday\, April 6\, from 3-5 p.m.  You may contact Lisa at lisa.higginbotham@elca.org or call her at 805 910-5048.  
URL:https://www.orovalley.org/event/generosity-opportunity/
LOCATION:Luther’s Lair
CATEGORIES:Serve
END:VEVENT
BEGIN:VEVENT
DTSTART;TZID=UTC:20240406T073000
DTEND;TZID=UTC:20240406T093000
DTSTAMP:20260422T035330
CREATED:20240325T193319Z
LAST-MODIFIED:20240325T193625Z
UID:10002527-1712388600-1712395800@www.orovalley.org
SUMMARY:Men's Breakfast
DESCRIPTION:Coffee is on at 7:00 AM!  \n\n\n\nGuest speaker RLC member Gary Adams\, retired FBI agent sharing experiences from Wounded Knee South Dakota\, to guarding Queen Elizabeth.  \n\n\n\nHot catered breakfast from Jerry Bob’s.
URL:https://www.orovalley.org/event/mens-breakfast-4/
LOCATION:Outreach Center Gymnasium\, 11575 N 1st Ave\, Oro Valley\, AZ\, 85737\, United States
CATEGORIES:Men's Breakfast
ATTACH;FMTTYPE=image/jpeg:https://www.orovalley.org/wp-content/uploads/2023/12/27.jpg
END:VEVENT
BEGIN:VEVENT
DTSTART;TZID=UTC:20240406T050000
DTEND;TZID=UTC:20240406T180000
DTSTAMP:20260422T035330
CREATED:20240320T213802Z
LAST-MODIFIED:20240325T233244Z
UID:10002888-1712379600-1712426400@www.orovalley.org
SUMMARY:Alleluia!: The Musical
DESCRIPTION:Presented by the Choirs of Resurrection\n\n\n\n\n\nPresented both April 5 @ 7:00 pm – 8 pm\, and again April 6 @ 5:00 pm – 6:00 pm. \n\n\n\nJoin us in the Oro Valley Sanctuary as the choirs of Resurrection present Alleluia: A Praise Gathering for Believers by Bill & Gloria Gaither. A reflection of Jesus’ birth\, life\, sacrifice on Calvary\, and His triumphant resurrection! Let us praise the Lord! No tickets necessary\, free will offering. 
URL:https://www.orovalley.org/event/alleluia-the-musical/2024-04-06/
LOCATION:Oro Valley Sanctuary
CATEGORIES:Music Ministry
ATTACH;FMTTYPE=image/jpeg:https://www.orovalley.org/wp-content/uploads/2024/03/Graphics-12.jpg
END:VEVENT
BEGIN:VEVENT
DTSTART;TZID=UTC:20240405T190000
DTEND;TZID=UTC:20240405T200000
DTSTAMP:20260422T035330
CREATED:20240320T213802Z
LAST-MODIFIED:20240325T233244Z
UID:10002887-1712343600-1712347200@www.orovalley.org
SUMMARY:Alleluia!: The Musical
DESCRIPTION:Presented by the Choirs of Resurrection\n\n\n\n\n\nPresented both April 5 @ 7:00 pm – 8 pm\, and again April 6 @ 5:00 pm – 6:00 pm. \n\n\n\nJoin us in the Oro Valley Sanctuary as the choirs of Resurrection present Alleluia: A Praise Gathering for Believers by Bill & Gloria Gaither. A reflection of Jesus’ birth\, life\, sacrifice on Calvary\, and His triumphant resurrection! Let us praise the Lord! No tickets necessary\, free will offering. 
URL:https://www.orovalley.org/event/alleluia-the-musical/2024-04-05/
LOCATION:Oro Valley Sanctuary
CATEGORIES:Music Ministry
ATTACH;FMTTYPE=image/jpeg:https://www.orovalley.org/wp-content/uploads/2024/03/Graphics-12.jpg
END:VEVENT
END:VCALENDAR