BEGIN:VCALENDAR
VERSION:2.0
PRODID:-//Resurrection Lutheran Church - ECPv6.15.17//NONSGML v1.0//EN
CALSCALE:GREGORIAN
METHOD:PUBLISH
X-WR-CALNAME:Resurrection Lutheran Church
X-ORIGINAL-URL:https://www.orovalley.org
X-WR-CALDESC:Events for Resurrection Lutheran Church
REFRESH-INTERVAL;VALUE=DURATION:PT1H
X-Robots-Tag:noindex
X-PUBLISHED-TTL:PT1H
BEGIN:VTIMEZONE
TZID:UTC
BEGIN:STANDARD
TZOFFSETFROM:+0000
TZOFFSETTO:+0000
TZNAME:UTC
DTSTART:20240101T000000
END:STANDARD
END:VTIMEZONE
BEGIN:VEVENT
DTSTART;TZID=UTC:20250220T130000
DTEND;TZID=UTC:20250220T160000
DTSTAMP:20260419T153130
CREATED:20241213T002356Z
LAST-MODIFIED:20241213T002359Z
UID:10004057-1740056400-1740067200@www.orovalley.org
SUMMARY:Matching Dragons Mah Jongg
DESCRIPTION:Do you play the game of (American) Mah Jongg and have been looking for a group to play with? Join us on Thursday afternoons 1:00-4:00 PM in Luther’s Lair in the Outreach Center. These are friendly games. We do NOT play for money but we ALWAYS have a good time. This group is for those who already know how to play the game. However\, anyone is invited to come observe to see if they would like to learn to play the game. Questions? Contact Jackie Verdick at jackieverdick@gmail.com or 612-554-0111.
URL:https://www.orovalley.org/event/matching-dragons-mah-jongg/2025-02-20/
END:VEVENT
BEGIN:VEVENT
DTSTART;TZID=UTC:20250219T180000
DTEND;TZID=UTC:20250219T193000
DTSTAMP:20260419T153130
CREATED:20250206T224355Z
LAST-MODIFIED:20250206T224400Z
UID:10004725-1739988000-1739993400@www.orovalley.org
SUMMARY:Pilgrimage To Italy Meeting
DESCRIPTION:We have almost reached capacity for our Pilgrimage and it is time to have our first meeting. Elias will be joining us via Zoom to answer questions and give us details. You can attend in person at church or online via Zoom. We will record the meeting and make it available afterwards.
URL:https://www.orovalley.org/event/pilgrimage-to-italy-meeting/
LOCATION:Luther’s Lair
END:VEVENT
BEGIN:VEVENT
DTSTART;TZID=UTC:20250219T150000
DTEND;TZID=UTC:20250219T160000
DTSTAMP:20260419T153130
CREATED:20250114T073956Z
LAST-MODIFIED:20250114T073958Z
UID:10004455-1739977200-1739980800@www.orovalley.org
SUMMARY:Scripture & Salsa
DESCRIPTION:You are invited to join Pastor Carol every Wednesday from 3:00 – 4:00 PM at Mi Tierra Mexican Restaurant in Catalina starting January 8th for an informal discussion of the Bible texts for the upcoming weekend’s worship. No registration is required and there is no long-term commitment. Just grab your Bible and drop by.
URL:https://www.orovalley.org/event/scripture-salsa/2025-02-19/
END:VEVENT
BEGIN:VEVENT
DTSTART;TZID=UTC:20250219T103000
DTEND;TZID=UTC:20250219T120000
DTSTAMP:20260419T153130
CREATED:20240617T222009Z
LAST-MODIFIED:20240617T222059Z
UID:10003536-1739961000-1739966400@www.orovalley.org
SUMMARY:Parkinson's Support Group
DESCRIPTION:This support group provides encouragement from meeting with others who have Parkinson’s disease\, and for the care givers of those with Parkinson’s. The meetings provide an opportunity to discuss experiences and feelings and to share solutions to common problems.  Meets every 3rd Wednesday of the month in the High School Youth Room.
URL:https://www.orovalley.org/event/parkinsons-support-group-3/2025-02-19/
LOCATION:Youth Room
CATEGORIES:Congregational Care,Serve
ATTACH;FMTTYPE=image/jpeg:https://www.orovalley.org/wp-content/uploads/2024/06/Graphics-3.jpg
END:VEVENT
BEGIN:VEVENT
DTSTART;TZID=UTC:20250219T100000
DTEND;TZID=UTC:20250219T113000
DTSTAMP:20260419T153130
CREATED:20250114T072254Z
LAST-MODIFIED:20250114T072257Z
UID:10004443-1739959200-1739964600@www.orovalley.org
SUMMARY:Confronting Death:  A Christian Approach to the End of Life
DESCRIPTION:Oro Valley Sanctuary\, Five Weekly Sessions \n\n\n\nYou and I\, sooner or later\, are going to experience what comes to all people: we are going to experience dying. But there is a difference between us and the world. The world looks away from that fact and tries to hide it as much as possible\, but we\, as people of faith\, have the power and ability to look death straight in the eye and understand it. ~Walter Wangerin\, Jr. \n\n\n\nThroughout our lives we are confronted with death. We lose loved ones\, friends\, and colleagues and with each confrontation we experience grief\, pain\, and confusion. We also come face to face with our own mortality. How\, as Christians\, do we deal with the physical\, emotional\, practical\, and spiritual realities of death and dying? \n\n\n\nJoin us to explore this important topic\, facilitated by Pastor Carol\, in five weekly sessions beginning Wednesday\, January 29th from 10:00-11:30 AM in the Sanctuary of our Oro Valley campus. Sessions include Aging & Dying in Our Culture\, Approaching Death in the Faith of Jesus Christ\, Family Conversations & Advanced Directives\, Palliative Care and Hospice\, Final Arrangements (funeral\, estate planning)\, Helping Adults\, Teens\, and Children Deal with Grief.
URL:https://www.orovalley.org/event/confronting-death-a-christian-approach-to-the-end-of-life/2025-02-19/
END:VEVENT
BEGIN:VEVENT
DTSTART;TZID=UTC:20250219T100000
DTEND;TZID=UTC:20250219T113000
DTSTAMP:20260419T153130
CREATED:20241205T000220Z
LAST-MODIFIED:20250114T073511Z
UID:10003974-1739959200-1739964600@www.orovalley.org
SUMMARY:Coping With Grief
DESCRIPTION:Coping With Grief will start its next group on Wednesday\, January 15th at 10:00 AM in the Prayer Room. The group will meet weekly for 10 weeks for 1 1/2 hours sessions and is limited to six participants. \n\n\n\nGrieving the loss of a loved one can be one of the most profound experiences individuals encounter in their lives. Others who have undergone a significant loss can understand well the depth of pain that grief brings. Sharing that experience in a group with others who are going through the same process could provide encouragement and hope for healing. \n\n\n\nCoping With Grief welcomes everyone. To sign up for the next group\, please contact either of the leaders\, Arlyn Norris at acwlnorris@gmail.com\, 402-960-9044 or Pilar Norris at bipiho90@aol.com\, 973-874-3677.
URL:https://www.orovalley.org/event/coping-with-grief/2025-02-19/
END:VEVENT
BEGIN:VEVENT
DTSTART;TZID=UTC:20250218T080000
DTEND;TZID=UTC:20250218T133000
DTSTAMP:20260419T153130
CREATED:20250206T225619Z
LAST-MODIFIED:20250206T225624Z
UID:10004732-1739865600-1739885400@www.orovalley.org
SUMMARY:American Red Cross Blood Drive
DESCRIPTION:Give the gift of life\, donate today! Sign up online: https://www.redcrossblood.org/give.html/drive-results?zipSponsor=RESURRECTION
URL:https://www.orovalley.org/event/american-red-cross-blood-drive-4/
LOCATION:Katie’s Quarters
END:VEVENT
BEGIN:VEVENT
DTSTART;TZID=UTC:20250217T183000
DTEND;TZID=UTC:20250217T200000
DTSTAMP:20260419T153130
CREATED:20241204T233634Z
LAST-MODIFIED:20241204T234546Z
UID:10003946-1739817000-1739822400@www.orovalley.org
SUMMARY:Book Discussion Group: "Simon Peter" by Adam Hamilton First
DESCRIPTION:Katie’s Quarters \n\n\n\nInterested in learning more about Simon Peter\, please join me as we walk through Adam Hamilton’s book\, “Simon Peter” together\, beginning in February\, 2025. We will meet on the first and third Mondays of February (2/3 and 2/17)\, March (3/3 and 3/17)\, and April (4/7 and 4/21) from 6:30 to 8:00 PM for this six-session study. If you are interested\, please contact Rob Hartmann (520-548-8564) or send me an email at rjhartmann70@msn.com
URL:https://www.orovalley.org/event/book-discussion-group-simon-peter-by-adam-hamilton-first/2025-02-17/
END:VEVENT
BEGIN:VEVENT
DTSTART;TZID=UTC:20250216T150000
DTEND;TZID=UTC:20250216T163000
DTSTAMP:20260419T153130
CREATED:20250206T223634Z
LAST-MODIFIED:20250206T223637Z
UID:10004722-1739718000-1739723400@www.orovalley.org
SUMMARY:When I Was In Egypt
DESCRIPTION:Pastor Erin shares about her recent trip to Egypt. Come and see pictures\, learn about how the culture\, history and archeology of Egypt interface with the Bible.
URL:https://www.orovalley.org/event/when-i-was-in-egypt/
LOCATION:Katie’s Quarters
END:VEVENT
BEGIN:VEVENT
DTSTART;TZID=UTC:20250216T104500
DTEND;TZID=UTC:20250216T114500
DTSTAMP:20260419T153130
CREATED:20240513T203112Z
LAST-MODIFIED:20240513T203139Z
UID:10001357-1739702700-1739706300@www.orovalley.org
SUMMARY:10:45 Worship - Contemporary
DESCRIPTION:Sunday School\, Confirmation\, High School Sunday School \n\n\n\nChildcare Available \n\n\n\n\nWorship Online Here
URL:https://www.orovalley.org/event/1045-worship-contemporary-4/2025-02-16/
LOCATION:Oro Valley Sanctuary
CATEGORIES:Worship
ATTACH;FMTTYPE=image/jpeg:https://www.orovalley.org/wp-content/uploads/2023/11/CopyrightTaylorNoelPhotography2021-200-scaled.jpg
END:VEVENT
BEGIN:VEVENT
DTSTART;TZID=UTC:20250216T090000
DTEND;TZID=UTC:20250216T100000
DTSTAMP:20260419T153130
CREATED:20240106T184634Z
LAST-MODIFIED:20240228T200602Z
UID:10001682-1739696400-1739700000@www.orovalley.org
SUMMARY:Worship at SaddleBrooke
DESCRIPTION:Worship Online Here\n\n\n\nOnline Bulletin Here
URL:https://www.orovalley.org/event/worship-at-saddlebrooke/2025-02-16/
LOCATION:SaddleBrooke\, SaddleBrooke HOA2 Clubhouse\, Tucson\, Arizona\, 85739
CATEGORIES:Worship
ATTACH;FMTTYPE=image/jpeg:https://www.orovalley.org/wp-content/uploads/2023/08/sb-worship-pic_3.jpg
END:VEVENT
BEGIN:VEVENT
DTSTART;TZID=UTC:20250216T074500
DTEND;TZID=UTC:20250216T084500
DTSTAMP:20260419T153130
CREATED:20240513T202737Z
LAST-MODIFIED:20240513T202749Z
UID:10000064-1739691900-1739695500@www.orovalley.org
SUMMARY:7:45 Worship
DESCRIPTION:Traditional Worship. Music provided by Resurrection’s Chancel Choir \n\n\n\n\nWorship Online Here\n\n\n\n\n \n\n\n\n\nOnline Bulletins Here
URL:https://www.orovalley.org/event/745-worship-7/2025-02-16/
LOCATION:Oro Valley Sanctuary
CATEGORIES:Worship
ATTACH;FMTTYPE=image/jpeg:https://www.orovalley.org/wp-content/uploads/2023/12/CopyrightTaylorNoelPhotography2021-158-scaled.jpg
END:VEVENT
BEGIN:VEVENT
DTSTART;TZID=UTC:20250215T170000
DTEND;TZID=UTC:20250215T180000
DTSTAMP:20260419T153130
CREATED:20240130T000623Z
LAST-MODIFIED:20240228T201059Z
UID:10002300-1739638800-1739642400@www.orovalley.org
SUMMARY:5:00 Worship
DESCRIPTION:Join us for worship!  \n\n\n\n\nWorship Online Here\n\n\n\nOnline Bulletins Here
URL:https://www.orovalley.org/event/500-worship-2/2025-02-15/
LOCATION:Oro Valley Sanctuary
CATEGORIES:Worship
ATTACH;FMTTYPE=image/jpeg:https://www.orovalley.org/wp-content/uploads/2023/08/CopyrightTaylorNoelPhotography2021-175-354e5a6-scaled.jpg
END:VEVENT
BEGIN:VEVENT
DTSTART;TZID=UTC:20250215T080000
DTEND;TZID=UTC:20250215T090000
DTSTAMP:20260419T153130
CREATED:20240808T201836Z
LAST-MODIFIED:20260210T201221Z
UID:10003638-1739606400-1739610000@www.orovalley.org
SUMMARY:Men's Bible Study
DESCRIPTION:Uses the Serendipity Bible\, copies are available. All men of the church are welcome to attend. Meets in Luther’s Lair.
URL:https://www.orovalley.org/event/mens-bible-study/2025-02-15/
END:VEVENT
BEGIN:VEVENT
DTSTART;TZID=UTC:20250214T081500
DTEND;TZID=UTC:20250214T100000
DTSTAMP:20260419T153130
CREATED:20250206T225215Z
LAST-MODIFIED:20250206T225219Z
UID:10004731-1739520900-1739527200@www.orovalley.org
SUMMARY:Primavera Men’s Shelter Lunch Prep
DESCRIPTION:Prep and pack sack lunches for the men’s job program of the Primavera Men’s Shelter. Donations of boxes of snack chips\, apples or oranges\, and homemade cookies are also GREATLY appreciated. Sign-up sheet on the patio or call the church office for more info.
URL:https://www.orovalley.org/event/primavera-mens-shelter-lunch-prep/
LOCATION:Outreach Center Gymnasium\, 11575 N 1st Ave\, Oro Valley\, AZ\, 85737\, United States
END:VEVENT
BEGIN:VEVENT
DTSTART;TZID=UTC:20250213T130000
DTEND;TZID=UTC:20250213T160000
DTSTAMP:20260419T153130
CREATED:20241213T002356Z
LAST-MODIFIED:20241213T002359Z
UID:10004056-1739451600-1739462400@www.orovalley.org
SUMMARY:Matching Dragons Mah Jongg
DESCRIPTION:Do you play the game of (American) Mah Jongg and have been looking for a group to play with? Join us on Thursday afternoons 1:00-4:00 PM in Luther’s Lair in the Outreach Center. These are friendly games. We do NOT play for money but we ALWAYS have a good time. This group is for those who already know how to play the game. However\, anyone is invited to come observe to see if they would like to learn to play the game. Questions? Contact Jackie Verdick at jackieverdick@gmail.com or 612-554-0111.
URL:https://www.orovalley.org/event/matching-dragons-mah-jongg/2025-02-13/
END:VEVENT
BEGIN:VEVENT
DTSTART;TZID=UTC:20250213T123000
DTEND;TZID=UTC:20250213T140000
DTSTAMP:20260419T153130
CREATED:20250206T224524Z
LAST-MODIFIED:20250206T224527Z
UID:10004726-1739449800-1739455200@www.orovalley.org
SUMMARY:Ladies Luncheon
DESCRIPTION:* Please note the change of date for this month only. Kindly make reservations here https://rsvp.church/r/ztKN2dJ9  
URL:https://www.orovalley.org/event/ladies-luncheon-6/
LOCATION:Pita Jungle
END:VEVENT
BEGIN:VEVENT
DTSTART;TZID=UTC:20250212T150000
DTEND;TZID=UTC:20250212T160000
DTSTAMP:20260419T153130
CREATED:20250114T073956Z
LAST-MODIFIED:20250114T073958Z
UID:10004454-1739372400-1739376000@www.orovalley.org
SUMMARY:Scripture & Salsa
DESCRIPTION:You are invited to join Pastor Carol every Wednesday from 3:00 – 4:00 PM at Mi Tierra Mexican Restaurant in Catalina starting January 8th for an informal discussion of the Bible texts for the upcoming weekend’s worship. No registration is required and there is no long-term commitment. Just grab your Bible and drop by.
URL:https://www.orovalley.org/event/scripture-salsa/2025-02-12/
END:VEVENT
BEGIN:VEVENT
DTSTART;TZID=UTC:20250212T113000
DTEND;TZID=UTC:20250212T133000
DTSTAMP:20260419T153130
CREATED:20250206T223754Z
LAST-MODIFIED:20250206T224037Z
UID:10004723-1739359800-1739367000@www.orovalley.org
SUMMARY:PrimeTime With Trivia!
DESCRIPTION:We will be serving Chicken Pot Pie\, Glazed Carrots\, Salad\, Rolls and Valentine Cupcakes! \n\n\n\n$10.00 per person. Kindly make your reservations here https://rsvp.church/r/ztKN2dJ9 no later than Monday\, February 10th. Invite a friend and bring a food item to donate to the Assembly of God food bank. We look forward to you joining us!
URL:https://www.orovalley.org/event/primetime-with-trivia/
LOCATION:Outreach Center Gymnasium\, 11575 N 1st Ave\, Oro Valley\, AZ\, 85737\, United States
END:VEVENT
BEGIN:VEVENT
DTSTART;TZID=UTC:20250212T100000
DTEND;TZID=UTC:20250212T113000
DTSTAMP:20260419T153130
CREATED:20250114T072254Z
LAST-MODIFIED:20250114T072257Z
UID:10004442-1739354400-1739359800@www.orovalley.org
SUMMARY:Confronting Death:  A Christian Approach to the End of Life
DESCRIPTION:Oro Valley Sanctuary\, Five Weekly Sessions \n\n\n\nYou and I\, sooner or later\, are going to experience what comes to all people: we are going to experience dying. But there is a difference between us and the world. The world looks away from that fact and tries to hide it as much as possible\, but we\, as people of faith\, have the power and ability to look death straight in the eye and understand it. ~Walter Wangerin\, Jr. \n\n\n\nThroughout our lives we are confronted with death. We lose loved ones\, friends\, and colleagues and with each confrontation we experience grief\, pain\, and confusion. We also come face to face with our own mortality. How\, as Christians\, do we deal with the physical\, emotional\, practical\, and spiritual realities of death and dying? \n\n\n\nJoin us to explore this important topic\, facilitated by Pastor Carol\, in five weekly sessions beginning Wednesday\, January 29th from 10:00-11:30 AM in the Sanctuary of our Oro Valley campus. Sessions include Aging & Dying in Our Culture\, Approaching Death in the Faith of Jesus Christ\, Family Conversations & Advanced Directives\, Palliative Care and Hospice\, Final Arrangements (funeral\, estate planning)\, Helping Adults\, Teens\, and Children Deal with Grief.
URL:https://www.orovalley.org/event/confronting-death-a-christian-approach-to-the-end-of-life/2025-02-12/
END:VEVENT
BEGIN:VEVENT
DTSTART;TZID=UTC:20250212T100000
DTEND;TZID=UTC:20250212T113000
DTSTAMP:20260419T153130
CREATED:20241205T000220Z
LAST-MODIFIED:20250114T073511Z
UID:10003973-1739354400-1739359800@www.orovalley.org
SUMMARY:Coping With Grief
DESCRIPTION:Coping With Grief will start its next group on Wednesday\, January 15th at 10:00 AM in the Prayer Room. The group will meet weekly for 10 weeks for 1 1/2 hours sessions and is limited to six participants. \n\n\n\nGrieving the loss of a loved one can be one of the most profound experiences individuals encounter in their lives. Others who have undergone a significant loss can understand well the depth of pain that grief brings. Sharing that experience in a group with others who are going through the same process could provide encouragement and hope for healing. \n\n\n\nCoping With Grief welcomes everyone. To sign up for the next group\, please contact either of the leaders\, Arlyn Norris at acwlnorris@gmail.com\, 402-960-9044 or Pilar Norris at bipiho90@aol.com\, 973-874-3677.
URL:https://www.orovalley.org/event/coping-with-grief/2025-02-12/
END:VEVENT
BEGIN:VEVENT
DTSTART;TZID=UTC:20250211T183000
DTEND;TZID=UTC:20250211T203000
DTSTAMP:20260419T153130
CREATED:20240910T191442Z
LAST-MODIFIED:20240910T191955Z
UID:10003771-1739298600-1739305800@www.orovalley.org
SUMMARY:Resurrection Card Players
DESCRIPTION:RLC Card Players meets every second and fourth Tuesday of the month. No reservation necessary. Please bring a snack to share and your own beverage. We play a variety of card games and we’re happy to teach you if you don’t know how to play. Everyone is welcome.
URL:https://www.orovalley.org/event/resurrection-card-players/2025-02-11/
LOCATION:Luther’s Lair
END:VEVENT
BEGIN:VEVENT
DTSTART;TZID=UTC:20250209T104500
DTEND;TZID=UTC:20250209T114500
DTSTAMP:20260419T153130
CREATED:20240513T203112Z
LAST-MODIFIED:20240513T203139Z
UID:10001356-1739097900-1739101500@www.orovalley.org
SUMMARY:10:45 Worship - Contemporary
DESCRIPTION:Sunday School\, Confirmation\, High School Sunday School \n\n\n\nChildcare Available \n\n\n\n\nWorship Online Here
URL:https://www.orovalley.org/event/1045-worship-contemporary-4/2025-02-09/
LOCATION:Oro Valley Sanctuary
CATEGORIES:Worship
ATTACH;FMTTYPE=image/jpeg:https://www.orovalley.org/wp-content/uploads/2023/11/CopyrightTaylorNoelPhotography2021-200-scaled.jpg
END:VEVENT
BEGIN:VEVENT
DTSTART;TZID=UTC:20250209T090000
DTEND;TZID=UTC:20250209T100000
DTSTAMP:20260419T153130
CREATED:20240106T184634Z
LAST-MODIFIED:20240228T200602Z
UID:10001681-1739091600-1739095200@www.orovalley.org
SUMMARY:Worship at SaddleBrooke
DESCRIPTION:Worship Online Here\n\n\n\nOnline Bulletin Here
URL:https://www.orovalley.org/event/worship-at-saddlebrooke/2025-02-09/
LOCATION:SaddleBrooke\, SaddleBrooke HOA2 Clubhouse\, Tucson\, Arizona\, 85739
CATEGORIES:Worship
ATTACH;FMTTYPE=image/jpeg:https://www.orovalley.org/wp-content/uploads/2023/08/sb-worship-pic_3.jpg
END:VEVENT
BEGIN:VEVENT
DTSTART;TZID=UTC:20250209T074500
DTEND;TZID=UTC:20250209T084500
DTSTAMP:20260419T153130
CREATED:20240513T202737Z
LAST-MODIFIED:20240513T202749Z
UID:10000063-1739087100-1739090700@www.orovalley.org
SUMMARY:7:45 Worship
DESCRIPTION:Traditional Worship. Music provided by Resurrection’s Chancel Choir \n\n\n\n\nWorship Online Here\n\n\n\n\n \n\n\n\n\nOnline Bulletins Here
URL:https://www.orovalley.org/event/745-worship-7/2025-02-09/
LOCATION:Oro Valley Sanctuary
CATEGORIES:Worship
ATTACH;FMTTYPE=image/jpeg:https://www.orovalley.org/wp-content/uploads/2023/12/CopyrightTaylorNoelPhotography2021-158-scaled.jpg
END:VEVENT
BEGIN:VEVENT
DTSTART;TZID=UTC:20250208T170000
DTEND;TZID=UTC:20250208T180000
DTSTAMP:20260419T153130
CREATED:20240130T000623Z
LAST-MODIFIED:20240228T201059Z
UID:10002299-1739034000-1739037600@www.orovalley.org
SUMMARY:5:00 Worship
DESCRIPTION:Join us for worship!  \n\n\n\n\nWorship Online Here\n\n\n\nOnline Bulletins Here
URL:https://www.orovalley.org/event/500-worship-2/2025-02-08/
LOCATION:Oro Valley Sanctuary
CATEGORIES:Worship
ATTACH;FMTTYPE=image/jpeg:https://www.orovalley.org/wp-content/uploads/2023/08/CopyrightTaylorNoelPhotography2021-175-354e5a6-scaled.jpg
END:VEVENT
BEGIN:VEVENT
DTSTART;TZID=UTC:20250208T154500
DTEND;TZID=UTC:20250208T164500
DTSTAMP:20260419T153130
CREATED:20250203T103051Z
LAST-MODIFIED:20250203T103056Z
UID:10004720-1739029500-1739033100@www.orovalley.org
SUMMARY:Life Group Social
DESCRIPTION:Luther’s Lair \n\n\n\nAnyone new to RLC\, member or non-member are invited to attend. Join us for refreshments and to learn more about what Life Groups have to offer. If you are interested in attending our social\, please email Robert Hartmann at rjhartmann70@msn.com by Thursday\, February 6th.
URL:https://www.orovalley.org/event/life-group-social/
END:VEVENT
BEGIN:VEVENT
DTSTART;TZID=UTC:20250208T090000
DTEND;TZID=UTC:20250208T110000
DTSTAMP:20260419T153130
CREATED:20241204T235925Z
LAST-MODIFIED:20241205T000850Z
UID:10003960-1739005200-1739012400@www.orovalley.org
SUMMARY:Women's Faithful Living Fellowship
DESCRIPTION:Join us for a 10-session study which meets every third Saturday from 9:00 AM – 11:00 AM for coffee\, snacks and fellowship\, followed by a film and small discussion groups. We will study the book “Having a Mary Heart in a Martha World: Finding Intimacy with God in the Business of Life” by Joanna Weaver. \n\n\n\nSign up on orovalley.org. Space is limited.
URL:https://www.orovalley.org/event/womens-faithful-living-fellowship-2/2025-02-08/
END:VEVENT
BEGIN:VEVENT
DTSTART;TZID=UTC:20250208T073000
DTEND;TZID=UTC:20250208T080000
DTSTAMP:20260419T153130
CREATED:20250203T103345Z
LAST-MODIFIED:20250203T103348Z
UID:10004721-1738999800-1739001600@www.orovalley.org
SUMMARY:Desert Wanderers: Feed My Starving Children Mobile Pack
DESCRIPTION:Oro Valley Church of the Nazarene \n\n\n\nWe will wear our Desert Wanderers shirts and pack as a team. We have an opportunity to make a difference for malnourished children worldwide. Each person registers individually at https://ovcn.church/FMSC\, under Lutheran Churches\, Shift 18. Let Elisabeth know\, hikerelisabeth@gmail.com\, that you will be on the team.
URL:https://www.orovalley.org/event/desert-wanderers-feed-my-starving-children-mobile-pack/
END:VEVENT
BEGIN:VEVENT
DTSTART;TZID=UTC:20250206T130000
DTEND;TZID=UTC:20250206T160000
DTSTAMP:20260419T153130
CREATED:20241213T002356Z
LAST-MODIFIED:20241213T002359Z
UID:10004055-1738846800-1738857600@www.orovalley.org
SUMMARY:Matching Dragons Mah Jongg
DESCRIPTION:Do you play the game of (American) Mah Jongg and have been looking for a group to play with? Join us on Thursday afternoons 1:00-4:00 PM in Luther’s Lair in the Outreach Center. These are friendly games. We do NOT play for money but we ALWAYS have a good time. This group is for those who already know how to play the game. However\, anyone is invited to come observe to see if they would like to learn to play the game. Questions? Contact Jackie Verdick at jackieverdick@gmail.com or 612-554-0111.
URL:https://www.orovalley.org/event/matching-dragons-mah-jongg/2025-02-06/
END:VEVENT
END:VCALENDAR