BEGIN:VCALENDAR
VERSION:2.0
PRODID:-//Resurrection Lutheran Church - ECPv6.15.17//NONSGML v1.0//EN
CALSCALE:GREGORIAN
METHOD:PUBLISH
X-WR-CALNAME:Resurrection Lutheran Church
X-ORIGINAL-URL:https://www.orovalley.org
X-WR-CALDESC:Events for Resurrection Lutheran Church
REFRESH-INTERVAL;VALUE=DURATION:PT1H
X-Robots-Tag:noindex
X-PUBLISHED-TTL:PT1H
BEGIN:VTIMEZONE
TZID:UTC
BEGIN:STANDARD
TZOFFSETFROM:+0000
TZOFFSETTO:+0000
TZNAME:UTC
DTSTART:20270101T000000
END:STANDARD
END:VTIMEZONE
BEGIN:VEVENT
DTSTART;TZID=UTC:20280115T090000
DTEND;TZID=UTC:20280115T110000
DTSTAMP:20260419T205123
CREATED:20260210T201725Z
LAST-MODIFIED:20260210T201733Z
UID:10006788-1831539600-1831546800@www.orovalley.org
SUMMARY:Faithful Living Fellowship
DESCRIPTION:Oro Valley \n\n\n\nWe meet for coffee\, snacks and fellowship\, followed by a film and small discussion groups. We will study the book “Embracing Trust” by Joanna Weaver. Sign up on the website under the Learn section.
URL:https://www.orovalley.org/event/faithful-living-fellowship-3/2028-01-15/
END:VEVENT
BEGIN:VEVENT
DTSTART;TZID=UTC:20280219T090000
DTEND;TZID=UTC:20280219T110000
DTSTAMP:20260419T205123
CREATED:20260210T201725Z
LAST-MODIFIED:20260210T201733Z
UID:10006789-1834563600-1834570800@www.orovalley.org
SUMMARY:Faithful Living Fellowship
DESCRIPTION:Oro Valley \n\n\n\nWe meet for coffee\, snacks and fellowship\, followed by a film and small discussion groups. We will study the book “Embracing Trust” by Joanna Weaver. Sign up on the website under the Learn section.
URL:https://www.orovalley.org/event/faithful-living-fellowship-3/2028-02-19/
END:VEVENT
BEGIN:VEVENT
DTSTART;TZID=UTC:20280318T090000
DTEND;TZID=UTC:20280318T110000
DTSTAMP:20260419T205123
CREATED:20260210T201725Z
LAST-MODIFIED:20260210T201733Z
UID:10006790-1836982800-1836990000@www.orovalley.org
SUMMARY:Faithful Living Fellowship
DESCRIPTION:Oro Valley \n\n\n\nWe meet for coffee\, snacks and fellowship\, followed by a film and small discussion groups. We will study the book “Embracing Trust” by Joanna Weaver. Sign up on the website under the Learn section.
URL:https://www.orovalley.org/event/faithful-living-fellowship-3/2028-03-18/
END:VEVENT
BEGIN:VEVENT
DTSTART;TZID=UTC:20280415T090000
DTEND;TZID=UTC:20280415T110000
DTSTAMP:20260419T205123
CREATED:20260210T201725Z
LAST-MODIFIED:20260210T201733Z
UID:10005279-1839402000-1839409200@www.orovalley.org
SUMMARY:Faithful Living Fellowship
DESCRIPTION:Oro Valley \n\n\n\nWe meet for coffee\, snacks and fellowship\, followed by a film and small discussion groups. We will study the book “Embracing Trust” by Joanna Weaver. Sign up on the website under the Learn section.
URL:https://www.orovalley.org/event/faithful-living-fellowship-3/2028-04-15/
END:VEVENT
BEGIN:VEVENT
DTSTART;TZID=UTC:20280520T090000
DTEND;TZID=UTC:20280520T110000
DTSTAMP:20260419T205123
CREATED:20260210T201725Z
LAST-MODIFIED:20260210T201733Z
UID:10006791-1842426000-1842433200@www.orovalley.org
SUMMARY:Faithful Living Fellowship
DESCRIPTION:Oro Valley \n\n\n\nWe meet for coffee\, snacks and fellowship\, followed by a film and small discussion groups. We will study the book “Embracing Trust” by Joanna Weaver. Sign up on the website under the Learn section.
URL:https://www.orovalley.org/event/faithful-living-fellowship-3/2028-05-20/
END:VEVENT
BEGIN:VEVENT
DTSTART;TZID=UTC:20280617T090000
DTEND;TZID=UTC:20280617T110000
DTSTAMP:20260419T205123
CREATED:20260210T201725Z
LAST-MODIFIED:20260210T201733Z
UID:10005282-1844845200-1844852400@www.orovalley.org
SUMMARY:Faithful Living Fellowship
DESCRIPTION:Oro Valley \n\n\n\nWe meet for coffee\, snacks and fellowship\, followed by a film and small discussion groups. We will study the book “Embracing Trust” by Joanna Weaver. Sign up on the website under the Learn section.
URL:https://www.orovalley.org/event/faithful-living-fellowship-3/2028-06-17/
END:VEVENT
BEGIN:VEVENT
DTSTART;TZID=UTC:20280715T090000
DTEND;TZID=UTC:20280715T110000
DTSTAMP:20260419T205123
CREATED:20260210T201725Z
LAST-MODIFIED:20260210T201733Z
UID:10006792-1847264400-1847271600@www.orovalley.org
SUMMARY:Faithful Living Fellowship
DESCRIPTION:Oro Valley \n\n\n\nWe meet for coffee\, snacks and fellowship\, followed by a film and small discussion groups. We will study the book “Embracing Trust” by Joanna Weaver. Sign up on the website under the Learn section.
URL:https://www.orovalley.org/event/faithful-living-fellowship-3/2028-07-15/
END:VEVENT
BEGIN:VEVENT
DTSTART;TZID=UTC:20280819T090000
DTEND;TZID=UTC:20280819T110000
DTSTAMP:20260419T205123
CREATED:20260210T201725Z
LAST-MODIFIED:20260210T201733Z
UID:10005285-1850288400-1850295600@www.orovalley.org
SUMMARY:Faithful Living Fellowship
DESCRIPTION:Oro Valley \n\n\n\nWe meet for coffee\, snacks and fellowship\, followed by a film and small discussion groups. We will study the book “Embracing Trust” by Joanna Weaver. Sign up on the website under the Learn section.
URL:https://www.orovalley.org/event/faithful-living-fellowship-3/2028-08-19/
END:VEVENT
BEGIN:VEVENT
DTSTART;TZID=UTC:20280916T090000
DTEND;TZID=UTC:20280916T110000
DTSTAMP:20260419T205123
CREATED:20260210T201725Z
LAST-MODIFIED:20260210T201733Z
UID:10006793-1852707600-1852714800@www.orovalley.org
SUMMARY:Faithful Living Fellowship
DESCRIPTION:Oro Valley \n\n\n\nWe meet for coffee\, snacks and fellowship\, followed by a film and small discussion groups. We will study the book “Embracing Trust” by Joanna Weaver. Sign up on the website under the Learn section.
URL:https://www.orovalley.org/event/faithful-living-fellowship-3/2028-09-16/
END:VEVENT
BEGIN:VEVENT
DTSTART;TZID=UTC:20281021T090000
DTEND;TZID=UTC:20281021T110000
DTSTAMP:20260419T205123
CREATED:20260210T201725Z
LAST-MODIFIED:20260210T201733Z
UID:10005288-1855731600-1855738800@www.orovalley.org
SUMMARY:Faithful Living Fellowship
DESCRIPTION:Oro Valley \n\n\n\nWe meet for coffee\, snacks and fellowship\, followed by a film and small discussion groups. We will study the book “Embracing Trust” by Joanna Weaver. Sign up on the website under the Learn section.
URL:https://www.orovalley.org/event/faithful-living-fellowship-3/2028-10-21/
END:VEVENT
BEGIN:VEVENT
DTSTART;TZID=UTC:20281118T090000
DTEND;TZID=UTC:20281118T110000
DTSTAMP:20260419T205123
CREATED:20260210T201725Z
LAST-MODIFIED:20260210T201733Z
UID:10006794-1858150800-1858158000@www.orovalley.org
SUMMARY:Faithful Living Fellowship
DESCRIPTION:Oro Valley \n\n\n\nWe meet for coffee\, snacks and fellowship\, followed by a film and small discussion groups. We will study the book “Embracing Trust” by Joanna Weaver. Sign up on the website under the Learn section.
URL:https://www.orovalley.org/event/faithful-living-fellowship-3/2028-11-18/
END:VEVENT
BEGIN:VEVENT
DTSTART;TZID=UTC:20281216T090000
DTEND;TZID=UTC:20281216T110000
DTSTAMP:20260419T205123
CREATED:20260210T201725Z
LAST-MODIFIED:20260210T201733Z
UID:10006795-1860570000-1860577200@www.orovalley.org
SUMMARY:Faithful Living Fellowship
DESCRIPTION:Oro Valley \n\n\n\nWe meet for coffee\, snacks and fellowship\, followed by a film and small discussion groups. We will study the book “Embracing Trust” by Joanna Weaver. Sign up on the website under the Learn section.
URL:https://www.orovalley.org/event/faithful-living-fellowship-3/2028-12-16/
END:VEVENT
BEGIN:VEVENT
DTSTART;TZID=UTC:20290120T090000
DTEND;TZID=UTC:20290120T110000
DTSTAMP:20260419T205123
CREATED:20260210T201725Z
LAST-MODIFIED:20260210T201733Z
UID:10006796-1863594000-1863601200@www.orovalley.org
SUMMARY:Faithful Living Fellowship
DESCRIPTION:Oro Valley \n\n\n\nWe meet for coffee\, snacks and fellowship\, followed by a film and small discussion groups. We will study the book “Embracing Trust” by Joanna Weaver. Sign up on the website under the Learn section.
URL:https://www.orovalley.org/event/faithful-living-fellowship-3/2029-01-20/
END:VEVENT
BEGIN:VEVENT
DTSTART;TZID=UTC:20290217T090000
DTEND;TZID=UTC:20290217T110000
DTSTAMP:20260419T205123
CREATED:20260210T201725Z
LAST-MODIFIED:20260210T201733Z
UID:10006797-1866013200-1866020400@www.orovalley.org
SUMMARY:Faithful Living Fellowship
DESCRIPTION:Oro Valley \n\n\n\nWe meet for coffee\, snacks and fellowship\, followed by a film and small discussion groups. We will study the book “Embracing Trust” by Joanna Weaver. Sign up on the website under the Learn section.
URL:https://www.orovalley.org/event/faithful-living-fellowship-3/2029-02-17/
END:VEVENT
BEGIN:VEVENT
DTSTART;TZID=UTC:20290317T090000
DTEND;TZID=UTC:20290317T110000
DTSTAMP:20260419T205123
CREATED:20260210T201725Z
LAST-MODIFIED:20260210T201733Z
UID:10005295-1868432400-1868439600@www.orovalley.org
SUMMARY:Faithful Living Fellowship
DESCRIPTION:Oro Valley \n\n\n\nWe meet for coffee\, snacks and fellowship\, followed by a film and small discussion groups. We will study the book “Embracing Trust” by Joanna Weaver. Sign up on the website under the Learn section.
URL:https://www.orovalley.org/event/faithful-living-fellowship-3/2029-03-17/
END:VEVENT
BEGIN:VEVENT
DTSTART;TZID=UTC:20290421T090000
DTEND;TZID=UTC:20290421T110000
DTSTAMP:20260419T205123
CREATED:20260210T201725Z
LAST-MODIFIED:20260210T201733Z
UID:10006798-1871456400-1871463600@www.orovalley.org
SUMMARY:Faithful Living Fellowship
DESCRIPTION:Oro Valley \n\n\n\nWe meet for coffee\, snacks and fellowship\, followed by a film and small discussion groups. We will study the book “Embracing Trust” by Joanna Weaver. Sign up on the website under the Learn section.
URL:https://www.orovalley.org/event/faithful-living-fellowship-3/2029-04-21/
END:VEVENT
BEGIN:VEVENT
DTSTART;TZID=UTC:20290519T090000
DTEND;TZID=UTC:20290519T110000
DTSTAMP:20260419T205123
CREATED:20260210T201725Z
LAST-MODIFIED:20260210T201733Z
UID:10005298-1873875600-1873882800@www.orovalley.org
SUMMARY:Faithful Living Fellowship
DESCRIPTION:Oro Valley \n\n\n\nWe meet for coffee\, snacks and fellowship\, followed by a film and small discussion groups. We will study the book “Embracing Trust” by Joanna Weaver. Sign up on the website under the Learn section.
URL:https://www.orovalley.org/event/faithful-living-fellowship-3/2029-05-19/
END:VEVENT
BEGIN:VEVENT
DTSTART;TZID=UTC:20290616T090000
DTEND;TZID=UTC:20290616T110000
DTSTAMP:20260419T205123
CREATED:20260210T201725Z
LAST-MODIFIED:20260210T201733Z
UID:10006799-1876294800-1876302000@www.orovalley.org
SUMMARY:Faithful Living Fellowship
DESCRIPTION:Oro Valley \n\n\n\nWe meet for coffee\, snacks and fellowship\, followed by a film and small discussion groups. We will study the book “Embracing Trust” by Joanna Weaver. Sign up on the website under the Learn section.
URL:https://www.orovalley.org/event/faithful-living-fellowship-3/2029-06-16/
END:VEVENT
BEGIN:VEVENT
DTSTART;TZID=UTC:20290721T090000
DTEND;TZID=UTC:20290721T110000
DTSTAMP:20260419T205123
CREATED:20260210T201725Z
LAST-MODIFIED:20260210T201733Z
UID:10005301-1879318800-1879326000@www.orovalley.org
SUMMARY:Faithful Living Fellowship
DESCRIPTION:Oro Valley \n\n\n\nWe meet for coffee\, snacks and fellowship\, followed by a film and small discussion groups. We will study the book “Embracing Trust” by Joanna Weaver. Sign up on the website under the Learn section.
URL:https://www.orovalley.org/event/faithful-living-fellowship-3/2029-07-21/
END:VEVENT
BEGIN:VEVENT
DTSTART;TZID=UTC:20290818T090000
DTEND;TZID=UTC:20290818T110000
DTSTAMP:20260419T205123
CREATED:20260210T201725Z
LAST-MODIFIED:20260210T201733Z
UID:10006800-1881738000-1881745200@www.orovalley.org
SUMMARY:Faithful Living Fellowship
DESCRIPTION:Oro Valley \n\n\n\nWe meet for coffee\, snacks and fellowship\, followed by a film and small discussion groups. We will study the book “Embracing Trust” by Joanna Weaver. Sign up on the website under the Learn section.
URL:https://www.orovalley.org/event/faithful-living-fellowship-3/2029-08-18/
END:VEVENT
BEGIN:VEVENT
DTSTART;TZID=UTC:20290915T090000
DTEND;TZID=UTC:20290915T110000
DTSTAMP:20260419T205123
CREATED:20260210T201725Z
LAST-MODIFIED:20260210T201733Z
UID:10006801-1884157200-1884164400@www.orovalley.org
SUMMARY:Faithful Living Fellowship
DESCRIPTION:Oro Valley \n\n\n\nWe meet for coffee\, snacks and fellowship\, followed by a film and small discussion groups. We will study the book “Embracing Trust” by Joanna Weaver. Sign up on the website under the Learn section.
URL:https://www.orovalley.org/event/faithful-living-fellowship-3/2029-09-15/
END:VEVENT
BEGIN:VEVENT
DTSTART;TZID=UTC:20291020T090000
DTEND;TZID=UTC:20291020T110000
DTSTAMP:20260419T205123
CREATED:20260210T201725Z
LAST-MODIFIED:20260210T201733Z
UID:10006802-1887181200-1887188400@www.orovalley.org
SUMMARY:Faithful Living Fellowship
DESCRIPTION:Oro Valley \n\n\n\nWe meet for coffee\, snacks and fellowship\, followed by a film and small discussion groups. We will study the book “Embracing Trust” by Joanna Weaver. Sign up on the website under the Learn section.
URL:https://www.orovalley.org/event/faithful-living-fellowship-3/2029-10-20/
END:VEVENT
BEGIN:VEVENT
DTSTART;TZID=UTC:20291117T090000
DTEND;TZID=UTC:20291117T110000
DTSTAMP:20260419T205123
CREATED:20260210T201725Z
LAST-MODIFIED:20260210T201733Z
UID:10006803-1889600400-1889607600@www.orovalley.org
SUMMARY:Faithful Living Fellowship
DESCRIPTION:Oro Valley \n\n\n\nWe meet for coffee\, snacks and fellowship\, followed by a film and small discussion groups. We will study the book “Embracing Trust” by Joanna Weaver. Sign up on the website under the Learn section.
URL:https://www.orovalley.org/event/faithful-living-fellowship-3/2029-11-17/
END:VEVENT
BEGIN:VEVENT
DTSTART;TZID=UTC:20291215T090000
DTEND;TZID=UTC:20291215T110000
DTSTAMP:20260419T205123
CREATED:20260210T201725Z
LAST-MODIFIED:20260210T201733Z
UID:10005308-1892019600-1892026800@www.orovalley.org
SUMMARY:Faithful Living Fellowship
DESCRIPTION:Oro Valley \n\n\n\nWe meet for coffee\, snacks and fellowship\, followed by a film and small discussion groups. We will study the book “Embracing Trust” by Joanna Weaver. Sign up on the website under the Learn section.
URL:https://www.orovalley.org/event/faithful-living-fellowship-3/2029-12-15/
END:VEVENT
BEGIN:VEVENT
DTSTART;TZID=UTC:20300119T090000
DTEND;TZID=UTC:20300119T110000
DTSTAMP:20260419T205123
CREATED:20260210T201725Z
LAST-MODIFIED:20260210T201733Z
UID:10006804-1895043600-1895050800@www.orovalley.org
SUMMARY:Faithful Living Fellowship
DESCRIPTION:Oro Valley \n\n\n\nWe meet for coffee\, snacks and fellowship\, followed by a film and small discussion groups. We will study the book “Embracing Trust” by Joanna Weaver. Sign up on the website under the Learn section.
URL:https://www.orovalley.org/event/faithful-living-fellowship-3/2030-01-19/
END:VEVENT
BEGIN:VEVENT
DTSTART;TZID=UTC:20300216T090000
DTEND;TZID=UTC:20300216T110000
DTSTAMP:20260419T205123
CREATED:20260210T201725Z
LAST-MODIFIED:20260210T201733Z
UID:10005311-1897462800-1897470000@www.orovalley.org
SUMMARY:Faithful Living Fellowship
DESCRIPTION:Oro Valley \n\n\n\nWe meet for coffee\, snacks and fellowship\, followed by a film and small discussion groups. We will study the book “Embracing Trust” by Joanna Weaver. Sign up on the website under the Learn section.
URL:https://www.orovalley.org/event/faithful-living-fellowship-3/2030-02-16/
END:VEVENT
BEGIN:VEVENT
DTSTART;TZID=UTC:20300316T090000
DTEND;TZID=UTC:20300316T110000
DTSTAMP:20260419T205123
CREATED:20260210T201725Z
LAST-MODIFIED:20260210T201733Z
UID:10006805-1899882000-1899889200@www.orovalley.org
SUMMARY:Faithful Living Fellowship
DESCRIPTION:Oro Valley \n\n\n\nWe meet for coffee\, snacks and fellowship\, followed by a film and small discussion groups. We will study the book “Embracing Trust” by Joanna Weaver. Sign up on the website under the Learn section.
URL:https://www.orovalley.org/event/faithful-living-fellowship-3/2030-03-16/
END:VEVENT
BEGIN:VEVENT
DTSTART;TZID=UTC:20300420T090000
DTEND;TZID=UTC:20300420T110000
DTSTAMP:20260419T205123
CREATED:20260210T201725Z
LAST-MODIFIED:20260210T201733Z
UID:10005314-1902906000-1902913200@www.orovalley.org
SUMMARY:Faithful Living Fellowship
DESCRIPTION:Oro Valley \n\n\n\nWe meet for coffee\, snacks and fellowship\, followed by a film and small discussion groups. We will study the book “Embracing Trust” by Joanna Weaver. Sign up on the website under the Learn section.
URL:https://www.orovalley.org/event/faithful-living-fellowship-3/2030-04-20/
END:VEVENT
BEGIN:VEVENT
DTSTART;TZID=UTC:20300518T090000
DTEND;TZID=UTC:20300518T110000
DTSTAMP:20260419T205123
CREATED:20260210T201725Z
LAST-MODIFIED:20260210T201733Z
UID:10006806-1905325200-1905332400@www.orovalley.org
SUMMARY:Faithful Living Fellowship
DESCRIPTION:Oro Valley \n\n\n\nWe meet for coffee\, snacks and fellowship\, followed by a film and small discussion groups. We will study the book “Embracing Trust” by Joanna Weaver. Sign up on the website under the Learn section.
URL:https://www.orovalley.org/event/faithful-living-fellowship-3/2030-05-18/
END:VEVENT
BEGIN:VEVENT
DTSTART;TZID=UTC:20300615T090000
DTEND;TZID=UTC:20300615T110000
DTSTAMP:20260419T205123
CREATED:20260210T201725Z
LAST-MODIFIED:20260210T201733Z
UID:10006807-1907744400-1907751600@www.orovalley.org
SUMMARY:Faithful Living Fellowship
DESCRIPTION:Oro Valley \n\n\n\nWe meet for coffee\, snacks and fellowship\, followed by a film and small discussion groups. We will study the book “Embracing Trust” by Joanna Weaver. Sign up on the website under the Learn section.
URL:https://www.orovalley.org/event/faithful-living-fellowship-3/2030-06-15/
END:VEVENT
END:VCALENDAR