BEGIN:VCALENDAR
VERSION:2.0
PRODID:-//Resurrection Lutheran Church - ECPv6.15.20//NONSGML v1.0//EN
CALSCALE:GREGORIAN
METHOD:PUBLISH
X-ORIGINAL-URL:https://www.orovalley.org
X-WR-CALDESC:Events for Resurrection Lutheran Church
REFRESH-INTERVAL;VALUE=DURATION:PT1H
X-Robots-Tag:noindex
X-PUBLISHED-TTL:PT1H
BEGIN:VTIMEZONE
TZID:UTC
BEGIN:STANDARD
TZOFFSETFROM:+0000
TZOFFSETTO:+0000
TZNAME:UTC
DTSTART:20240101T000000
END:STANDARD
END:VTIMEZONE
BEGIN:VEVENT
DTSTART;TZID=UTC:20251216T080000
DTEND;TZID=UTC:20251216T133000
DTSTAMP:20260422T222714
CREATED:20251204T211517Z
LAST-MODIFIED:20251204T211523Z
UID:10006051-1765872000-1765891800@www.orovalley.org
SUMMARY:Blood Drive
DESCRIPTION:This event is held at Katie’s Quarters.
URL:https://www.orovalley.org/event/blood-drive-3/
END:VEVENT
BEGIN:VEVENT
DTSTART;TZID=UTC:20251217T103000
DTEND;TZID=UTC:20251217T120000
DTSTAMP:20260422T222714
CREATED:20240617T222009Z
LAST-MODIFIED:20240617T222059Z
UID:10003546-1765967400-1765972800@www.orovalley.org
SUMMARY:Parkinson's Support Group
DESCRIPTION:This support group provides encouragement from meeting with others who have Parkinson’s disease\, and for the care givers of those with Parkinson’s. The meetings provide an opportunity to discuss experiences and feelings and to share solutions to common problems.  Meets every 3rd Wednesday of the month in the High School Youth Room.
URL:https://www.orovalley.org/event/parkinsons-support-group-3/2025-12-17/
LOCATION:Youth Room
CATEGORIES:Congregational Care,Serve
ATTACH;FMTTYPE=image/jpeg:https://www.orovalley.org/wp-content/uploads/2024/06/Graphics-3.jpg
END:VEVENT
BEGIN:VEVENT
DTSTART;TZID=UTC:20251217T120000
DTEND;TZID=UTC:20251217T130000
DTSTAMP:20260422T222714
CREATED:20251107T182128Z
LAST-MODIFIED:20251107T182135Z
UID:10005335-1765972800-1765976400@www.orovalley.org
SUMMARY:Mid-Week Advent Service
DESCRIPTION:
URL:https://www.orovalley.org/event/mid-week-advent-service/2025-12-17/
END:VEVENT
BEGIN:VEVENT
DTSTART;TZID=UTC:20251217T150000
DTEND;TZID=UTC:20251217T160000
DTSTAMP:20260422T222714
CREATED:20250701T214646Z
LAST-MODIFIED:20250701T214652Z
UID:10004498-1765983600-1765987200@www.orovalley.org
SUMMARY:Scripture & Salsa
DESCRIPTION:You are invited to join Pastor Carol every Wednesday from 3:00 – 4:00 PM at Mi Tierra Mexican Restaurant in Catalina starting January 8th for an informal discussion of the Bible texts for the upcoming weekend’s worship. No registration is required and there is no long-term commitment. Just grab your Bible and drop by.
URL:https://www.orovalley.org/event/scripture-salsa-2/2025-12-17/
END:VEVENT
BEGIN:VEVENT
DTSTART;TZID=UTC:20251218T130000
DTEND;TZID=UTC:20251218T160000
DTSTAMP:20260422T222714
CREATED:20241213T002356Z
LAST-MODIFIED:20241213T002359Z
UID:10004100-1766062800-1766073600@www.orovalley.org
SUMMARY:Matching Dragons Mah Jongg
DESCRIPTION:Do you play the game of (American) Mah Jongg and have been looking for a group to play with? Join us on Thursday afternoons 1:00-4:00 PM in Luther’s Lair in the Outreach Center. These are friendly games. We do NOT play for money but we ALWAYS have a good time. This group is for those who already know how to play the game. However\, anyone is invited to come observe to see if they would like to learn to play the game. Questions? Contact Jackie Verdick at jackieverdick@gmail.com or 612-554-0111.
URL:https://www.orovalley.org/event/matching-dragons-mah-jongg/2025-12-18/
END:VEVENT
BEGIN:VEVENT
DTSTART;TZID=UTC:20251218T130000
DTEND;TZID=UTC:20251218T160000
DTSTAMP:20260422T222714
CREATED:20251107T191455Z
LAST-MODIFIED:20251107T191616Z
UID:10005750-1766062800-1766073600@www.orovalley.org
SUMMARY:Art by Heart Open Studio
DESCRIPTION:
URL:https://www.orovalley.org/event/art-by-heart-open-studio/2025-12-18/
END:VEVENT
BEGIN:VEVENT
DTSTART;TZID=UTC:20251220T080000
DTEND;TZID=UTC:20251220T090000
DTSTAMP:20260422T222714
CREATED:20240808T201836Z
LAST-MODIFIED:20260210T201221Z
UID:10004326-1766217600-1766221200@www.orovalley.org
SUMMARY:Men's Bible Study
DESCRIPTION:Uses the Serendipity Bible\, copies are available. All men of the church are welcome to attend. Meets in Luther’s Lair.
URL:https://www.orovalley.org/event/mens-bible-study/2025-12-20/
END:VEVENT
BEGIN:VEVENT
DTSTART;TZID=UTC:20251220T170000
DTEND;TZID=UTC:20251220T180000
DTSTAMP:20260422T222714
CREATED:20240130T000623Z
LAST-MODIFIED:20240228T201059Z
UID:10002344-1766250000-1766253600@www.orovalley.org
SUMMARY:5:00 Worship
DESCRIPTION:Join us for worship!  \n\n\n\n\nWorship Online Here\n\n\n\nOnline Bulletins Here
URL:https://www.orovalley.org/event/500-worship-2/2025-12-20/
LOCATION:Oro Valley Sanctuary
CATEGORIES:Worship
ATTACH;FMTTYPE=image/jpeg:https://www.orovalley.org/wp-content/uploads/2023/08/CopyrightTaylorNoelPhotography2021-175-354e5a6-scaled.jpg
END:VEVENT
BEGIN:VEVENT
DTSTART;TZID=UTC:20251221T074500
DTEND;TZID=UTC:20251221T084500
DTSTAMP:20260422T222714
CREATED:20250605T233406Z
LAST-MODIFIED:20250605T233413Z
UID:10000108-1766303100-1766306700@www.orovalley.org
SUMMARY:7:45 Worship
DESCRIPTION:Traditional Worship. Music provided by Resurrection’s Chancel Choir \n\n\n\n\nWorship Online Here\n\n\n\n\n \n\n\n\n\nOnline Bulletins Here
URL:https://www.orovalley.org/event/745-worship-9/2025-12-21/
LOCATION:Oro Valley Sanctuary
CATEGORIES:Worship
ATTACH;FMTTYPE=image/jpeg:https://www.orovalley.org/wp-content/uploads/2023/12/CopyrightTaylorNoelPhotography2021-158-scaled.jpg
END:VEVENT
BEGIN:VEVENT
DTSTART;TZID=UTC:20251221T090000
DTEND;TZID=UTC:20251221T100000
DTSTAMP:20260422T222714
CREATED:20240106T184634Z
LAST-MODIFIED:20240228T200602Z
UID:10001726-1766307600-1766311200@www.orovalley.org
SUMMARY:Worship at SaddleBrooke
DESCRIPTION:Worship Online Here\n\n\n\nOnline Bulletin Here
URL:https://www.orovalley.org/event/worship-at-saddlebrooke/2025-12-21/
LOCATION:SaddleBrooke\, SaddleBrooke HOA2 Clubhouse\, Tucson\, Arizona\, 85739
CATEGORIES:Worship
ATTACH;FMTTYPE=image/jpeg:https://www.orovalley.org/wp-content/uploads/2023/08/sb-worship-pic_3.jpg
END:VEVENT
BEGIN:VEVENT
DTSTART;TZID=UTC:20251221T091500
DTEND;TZID=UTC:20251221T101500
DTSTAMP:20260422T222714
CREATED:20250610T165422Z
LAST-MODIFIED:20250610T165427Z
UID:10005103-1766308500-1766312100@www.orovalley.org
SUMMARY:09:15 Worship - Contemporary
DESCRIPTION:Sunday School\, Confirmation\, High School Sunday School \n\n\n\nChildcare Available \n\n\n\n\nWorship Online Here
URL:https://www.orovalley.org/event/0915-worship-contemporary/2025-12-21/
LOCATION:Oro Valley Sanctuary
CATEGORIES:Worship
ATTACH;FMTTYPE=image/jpeg:https://www.orovalley.org/wp-content/uploads/2023/11/CopyrightTaylorNoelPhotography2021-200-scaled.jpg
END:VEVENT
BEGIN:VEVENT
DTSTART;TZID=UTC:20251221T104500
DTEND;TZID=UTC:20251221T114500
DTSTAMP:20260422T222714
CREATED:20250610T165108Z
LAST-MODIFIED:20250610T165111Z
UID:10005015-1766313900-1766317500@www.orovalley.org
SUMMARY:10:45 Worship - Contemporary
DESCRIPTION:Sunday School\, Confirmation\, High School Sunday School \n\n\n\nChildcare Available \n\n\n\n\nWorship Online Here
URL:https://www.orovalley.org/event/1045-worship-contemporary-7/2025-12-21/
LOCATION:Oro Valley Sanctuary
CATEGORIES:Worship
ATTACH;FMTTYPE=image/jpeg:https://www.orovalley.org/wp-content/uploads/2023/11/CopyrightTaylorNoelPhotography2021-200-scaled.jpg
END:VEVENT
BEGIN:VEVENT
DTSTART;TZID=UTC:20251221T160000
DTEND;TZID=UTC:20251221T170000
DTSTAMP:20260422T222714
CREATED:20251107T182719Z
LAST-MODIFIED:20251107T182726Z
UID:10005338-1766332800-1766336400@www.orovalley.org
SUMMARY:Blue Christmas Service
DESCRIPTION:
URL:https://www.orovalley.org/event/blue-christmas-service/
END:VEVENT
BEGIN:VEVENT
DTSTART;TZID=UTC:20251223T183000
DTEND;TZID=UTC:20251223T203000
DTSTAMP:20260422T222714
CREATED:20240910T192133Z
LAST-MODIFIED:20240910T192135Z
UID:10003841-1766514600-1766521800@www.orovalley.org
SUMMARY:Resurrection Card Players
DESCRIPTION:RLC Card Players meets every second and fourth Tuesday of the month. No reservation necessary. Please bring a snack to share and your own beverage. We play a variety of card games and we’re happy to teach you if you don’t know how to play. Everyone is welcome.
URL:https://www.orovalley.org/event/resurrection-card-players-2/2025-12-23/
LOCATION:Luther’s Lair
END:VEVENT
BEGIN:VEVENT
DTSTART;TZID=UTC:20251224T110000
DTEND;TZID=UTC:20251224T120000
DTSTAMP:20260422T222714
CREATED:20251204T202823Z
LAST-MODIFIED:20251204T202830Z
UID:10006026-1766574000-1766577600@www.orovalley.org
SUMMARY:Christmas Eve Worship Services
DESCRIPTION:
URL:https://www.orovalley.org/event/christmas-eve-worship-services/2025-12-24/1/
END:VEVENT
BEGIN:VEVENT
DTSTART;TZID=UTC:20251224T120000
DTEND;TZID=UTC:20251224T170000
DTSTAMP:20260422T222714
CREATED:20251204T210753Z
LAST-MODIFIED:20251204T210756Z
UID:10006045-1766577600-1766595600@www.orovalley.org
SUMMARY:Offices Closed
DESCRIPTION:
URL:https://www.orovalley.org/event/offices-closed-2/2025-12-24/
END:VEVENT
BEGIN:VEVENT
DTSTART;TZID=UTC:20251224T150000
DTEND;TZID=UTC:20251224T160000
DTSTAMP:20260422T222714
CREATED:20250701T214646Z
LAST-MODIFIED:20250701T214652Z
UID:10004499-1766588400-1766592000@www.orovalley.org
SUMMARY:Scripture & Salsa
DESCRIPTION:You are invited to join Pastor Carol every Wednesday from 3:00 – 4:00 PM at Mi Tierra Mexican Restaurant in Catalina starting January 8th for an informal discussion of the Bible texts for the upcoming weekend’s worship. No registration is required and there is no long-term commitment. Just grab your Bible and drop by.
URL:https://www.orovalley.org/event/scripture-salsa-2/2025-12-24/
END:VEVENT
BEGIN:VEVENT
DTSTART;TZID=UTC:20251224T150000
DTEND;TZID=UTC:20251224T160000
DTSTAMP:20260422T222714
CREATED:20251204T202823Z
LAST-MODIFIED:20251204T202830Z
UID:10006027-1766588400-1766592000@www.orovalley.org
SUMMARY:Christmas Eve Worship Services
DESCRIPTION:
URL:https://www.orovalley.org/event/christmas-eve-worship-services/2025-12-24/2/
END:VEVENT
BEGIN:VEVENT
DTSTART;TZID=UTC:20251224T170000
DTEND;TZID=UTC:20251224T180000
DTSTAMP:20260422T222714
CREATED:20251204T202823Z
LAST-MODIFIED:20251204T202830Z
UID:10006028-1766595600-1766599200@www.orovalley.org
SUMMARY:Christmas Eve Worship Services
DESCRIPTION:
URL:https://www.orovalley.org/event/christmas-eve-worship-services/2025-12-24/3/
END:VEVENT
BEGIN:VEVENT
DTSTART;TZID=UTC:20251224T190000
DTEND;TZID=UTC:20251224T200000
DTSTAMP:20260422T222714
CREATED:20251204T202823Z
LAST-MODIFIED:20251204T202830Z
UID:10006029-1766602800-1766606400@www.orovalley.org
SUMMARY:Christmas Eve Worship Services
DESCRIPTION:
URL:https://www.orovalley.org/event/christmas-eve-worship-services/2025-12-24/4/
END:VEVENT
BEGIN:VEVENT
DTSTART;TZID=UTC:20251224T210000
DTEND;TZID=UTC:20251224T220000
DTSTAMP:20260422T222714
CREATED:20251204T202823Z
LAST-MODIFIED:20251204T202830Z
UID:10006030-1766610000-1766613600@www.orovalley.org
SUMMARY:Christmas Eve Worship Services
DESCRIPTION:
URL:https://www.orovalley.org/event/christmas-eve-worship-services/2025-12-24/5/
END:VEVENT
BEGIN:VEVENT
DTSTART;TZID=UTC:20251225T080000
DTEND;TZID=UTC:20251226T170000
DTSTAMP:20260422T222714
CREATED:20251204T210753Z
LAST-MODIFIED:20251204T210756Z
UID:10006046-1766649600-1766768400@www.orovalley.org
SUMMARY:Offices Closed
DESCRIPTION:
URL:https://www.orovalley.org/event/offices-closed-2/2025-12-25/
END:VEVENT
BEGIN:VEVENT
DTSTART;TZID=UTC:20251225T130000
DTEND;TZID=UTC:20251225T160000
DTSTAMP:20260422T222714
CREATED:20241213T002356Z
LAST-MODIFIED:20241213T002359Z
UID:10004101-1766667600-1766678400@www.orovalley.org
SUMMARY:Matching Dragons Mah Jongg
DESCRIPTION:Do you play the game of (American) Mah Jongg and have been looking for a group to play with? Join us on Thursday afternoons 1:00-4:00 PM in Luther’s Lair in the Outreach Center. These are friendly games. We do NOT play for money but we ALWAYS have a good time. This group is for those who already know how to play the game. However\, anyone is invited to come observe to see if they would like to learn to play the game. Questions? Contact Jackie Verdick at jackieverdick@gmail.com or 612-554-0111.
URL:https://www.orovalley.org/event/matching-dragons-mah-jongg/2025-12-25/
END:VEVENT
BEGIN:VEVENT
DTSTART;TZID=UTC:20251225T130000
DTEND;TZID=UTC:20251225T160000
DTSTAMP:20260422T222714
CREATED:20251107T191455Z
LAST-MODIFIED:20251107T191616Z
UID:10005751-1766667600-1766678400@www.orovalley.org
SUMMARY:Art by Heart Open Studio
DESCRIPTION:
URL:https://www.orovalley.org/event/art-by-heart-open-studio/2025-12-25/
END:VEVENT
BEGIN:VEVENT
DTSTART;TZID=UTC:20251227T170000
DTEND;TZID=UTC:20251227T180000
DTSTAMP:20260422T222714
CREATED:20240130T000623Z
LAST-MODIFIED:20240228T201059Z
UID:10002345-1766854800-1766858400@www.orovalley.org
SUMMARY:5:00 Worship
DESCRIPTION:Join us for worship!  \n\n\n\n\nWorship Online Here\n\n\n\nOnline Bulletins Here
URL:https://www.orovalley.org/event/500-worship-2/2025-12-27/
LOCATION:Oro Valley Sanctuary
CATEGORIES:Worship
ATTACH;FMTTYPE=image/jpeg:https://www.orovalley.org/wp-content/uploads/2023/08/CopyrightTaylorNoelPhotography2021-175-354e5a6-scaled.jpg
END:VEVENT
BEGIN:VEVENT
DTSTART;TZID=UTC:20251227T170000
DTEND;TZID=UTC:20251227T180000
DTSTAMP:20260422T222714
CREATED:20251204T204303Z
LAST-MODIFIED:20251204T204308Z
UID:10006034-1766854800-1766858400@www.orovalley.org
SUMMARY:Lessons & Carols Service
DESCRIPTION:
URL:https://www.orovalley.org/event/lessons-carols-service/
END:VEVENT
BEGIN:VEVENT
DTSTART;TZID=UTC:20251228T074500
DTEND;TZID=UTC:20251228T084500
DTSTAMP:20260422T222714
CREATED:20250605T233406Z
LAST-MODIFIED:20250605T233413Z
UID:10000109-1766907900-1766911500@www.orovalley.org
SUMMARY:7:45 Worship
DESCRIPTION:Traditional Worship. Music provided by Resurrection’s Chancel Choir \n\n\n\n\nWorship Online Here\n\n\n\n\n \n\n\n\n\nOnline Bulletins Here
URL:https://www.orovalley.org/event/745-worship-9/2025-12-28/
LOCATION:Oro Valley Sanctuary
CATEGORIES:Worship
ATTACH;FMTTYPE=image/jpeg:https://www.orovalley.org/wp-content/uploads/2023/12/CopyrightTaylorNoelPhotography2021-158-scaled.jpg
END:VEVENT
BEGIN:VEVENT
DTSTART;TZID=UTC:20251228T090000
DTEND;TZID=UTC:20251228T100000
DTSTAMP:20260422T222714
CREATED:20240106T184634Z
LAST-MODIFIED:20240228T200602Z
UID:10001727-1766912400-1766916000@www.orovalley.org
SUMMARY:Worship at SaddleBrooke
DESCRIPTION:Worship Online Here\n\n\n\nOnline Bulletin Here
URL:https://www.orovalley.org/event/worship-at-saddlebrooke/2025-12-28/
LOCATION:SaddleBrooke\, SaddleBrooke HOA2 Clubhouse\, Tucson\, Arizona\, 85739
CATEGORIES:Worship
ATTACH;FMTTYPE=image/jpeg:https://www.orovalley.org/wp-content/uploads/2023/08/sb-worship-pic_3.jpg
END:VEVENT
BEGIN:VEVENT
DTSTART;TZID=UTC:20251228T090000
DTEND;TZID=UTC:20251228T100000
DTSTAMP:20260422T222714
CREATED:20251209T181250Z
LAST-MODIFIED:20251209T181443Z
UID:10006056-1766912400-1766916000@www.orovalley.org
SUMMARY:Lessons & Carols Service - Saddlebrooke
DESCRIPTION:
URL:https://www.orovalley.org/event/lessons-carols-saddlebrooke/
END:VEVENT
BEGIN:VEVENT
DTSTART;TZID=UTC:20251228T091500
DTEND;TZID=UTC:20251228T101500
DTSTAMP:20260422T222714
CREATED:20250610T165422Z
LAST-MODIFIED:20250610T165427Z
UID:10005104-1766913300-1766916900@www.orovalley.org
SUMMARY:09:15 Worship - Contemporary
DESCRIPTION:Sunday School\, Confirmation\, High School Sunday School \n\n\n\nChildcare Available \n\n\n\n\nWorship Online Here
URL:https://www.orovalley.org/event/0915-worship-contemporary/2025-12-28/
LOCATION:Oro Valley Sanctuary
CATEGORIES:Worship
ATTACH;FMTTYPE=image/jpeg:https://www.orovalley.org/wp-content/uploads/2023/11/CopyrightTaylorNoelPhotography2021-200-scaled.jpg
END:VEVENT
END:VCALENDAR