BEGIN:VCALENDAR
VERSION:2.0
PRODID:-//Resurrection Lutheran Church - ECPv6.15.20//NONSGML v1.0//EN
CALSCALE:GREGORIAN
METHOD:PUBLISH
X-WR-CALNAME:Resurrection Lutheran Church
X-ORIGINAL-URL:https://www.orovalley.org
X-WR-CALDESC:Events for Resurrection Lutheran Church
REFRESH-INTERVAL;VALUE=DURATION:PT1H
X-Robots-Tag:noindex
X-PUBLISHED-TTL:PT1H
BEGIN:VTIMEZONE
TZID:UTC
BEGIN:STANDARD
TZOFFSETFROM:+0000
TZOFFSETTO:+0000
TZNAME:UTC
DTSTART:20230101T000000
END:STANDARD
END:VTIMEZONE
BEGIN:VEVENT
DTSTART;TZID=UTC:20240129T103000
DTEND;TZID=UTC:20240129T120000
DTSTAMP:20260424T090835
CREATED:20240129T224533Z
LAST-MODIFIED:20240212T232425Z
UID:10001969-1706524200-1706529600@www.orovalley.org
SUMMARY:Bible 101
DESCRIPTION:​Using Making Sense of the Bible by Adam Hamilton this in-person class will explore how the Bible came to be\, work through the inerrant and inspired Word of God\, create a place to seek to understand one another and discuss how we interpret scripture in our lives. This class meets weekly and is about 11 weeks long.   \n\n\n\n\nStream Class Here
URL:https://www.orovalley.org/event/bible-101/2024-01-29/
LOCATION:Oro Valley Sanctuary
CATEGORIES:Bible Study,Learn
ATTACH;FMTTYPE=image/jpeg:https://www.orovalley.org/wp-content/uploads/2024/01/Bible-101.jpg
END:VEVENT
BEGIN:VEVENT
DTSTART;TZID=UTC:20240129T080000
DTEND;TZID=UTC:20240129T170000
DTSTAMP:20260424T090835
CREATED:20240130T161852Z
LAST-MODIFIED:20240130T161903Z
UID:10002509-1706515200-1706547600@www.orovalley.org
SUMMARY:Parkinson's Support Group
DESCRIPTION:This support group provides encouragement from meeting with others who have Parkinson’s disease. The meetings provide an opportunity to discuss experiences and feelings and to share solutions to common problems.  
URL:https://www.orovalley.org/event/parkinsons-support-group-2/
CATEGORIES:Congregational Care
ATTACH;FMTTYPE=image/jpeg:https://www.orovalley.org/wp-content/uploads/2023/12/6.jpg
END:VEVENT
BEGIN:VEVENT
DTSTART;TZID=UTC:20240128T104500
DTEND;TZID=UTC:20240128T114500
DTSTAMP:20260424T090835
CREATED:20240106T065411Z
LAST-MODIFIED:20240228T200844Z
UID:10001302-1706438700-1706442300@www.orovalley.org
SUMMARY:10:45 Worship - Contemporary
DESCRIPTION:Sunday School\, Confirmation\, High School Sunday School \n\n\n\nChildcare Available \n\n\n\n\nWorship Online Here
URL:https://www.orovalley.org/event/worship-3/2024-01-28/
LOCATION:Oro Valley Sanctuary
CATEGORIES:Worship
ATTACH;FMTTYPE=image/jpeg:https://www.orovalley.org/wp-content/uploads/2023/11/CopyrightTaylorNoelPhotography2021-200-scaled.jpg
END:VEVENT
BEGIN:VEVENT
DTSTART;TZID=UTC:20240128T090000
DTEND;TZID=UTC:20240128T100000
DTSTAMP:20260424T090835
CREATED:20240106T184634Z
LAST-MODIFIED:20240228T200602Z
UID:10001627-1706432400-1706436000@www.orovalley.org
SUMMARY:Worship at SaddleBrooke
DESCRIPTION:Worship Online Here\n\n\n\nOnline Bulletin Here
URL:https://www.orovalley.org/event/worship-at-saddlebrooke/2024-01-28/
LOCATION:SaddleBrooke\, SaddleBrooke HOA2 Clubhouse\, Tucson\, Arizona\, 85739
CATEGORIES:Worship
ATTACH;FMTTYPE=image/jpeg:https://www.orovalley.org/wp-content/uploads/2023/08/sb-worship-pic_3.jpg
END:VEVENT
BEGIN:VEVENT
DTSTART;TZID=UTC:20240128T074500
DTEND;TZID=UTC:20240128T084500
DTSTAMP:20260424T090835
CREATED:20240131T013709Z
LAST-MODIFIED:20240228T185718Z
UID:10000009-1706427900-1706431500@www.orovalley.org
SUMMARY:7:45 Worship
DESCRIPTION:Traditional Worship. Music provided by Resurrection’s Chancel Choir
URL:https://www.orovalley.org/event/745-worship-traditional/2024-01-28/
LOCATION:Oro Valley Sanctuary
CATEGORIES:Worship
ATTACH;FMTTYPE=image/jpeg:https://www.orovalley.org/wp-content/uploads/2023/12/CopyrightTaylorNoelPhotography2021-158-scaled.jpg
END:VEVENT
BEGIN:VEVENT
DTSTART;TZID=UTC:20240121T104500
DTEND;TZID=UTC:20240121T114500
DTSTAMP:20260424T090835
CREATED:20240106T065411Z
LAST-MODIFIED:20240228T200844Z
UID:10001301-1705833900-1705837500@www.orovalley.org
SUMMARY:10:45 Worship - Contemporary
DESCRIPTION:Sunday School\, Confirmation\, High School Sunday School \n\n\n\nChildcare Available \n\n\n\n\nWorship Online Here
URL:https://www.orovalley.org/event/worship-3/2024-01-21/
LOCATION:Oro Valley Sanctuary
CATEGORIES:Worship
ATTACH;FMTTYPE=image/jpeg:https://www.orovalley.org/wp-content/uploads/2023/11/CopyrightTaylorNoelPhotography2021-200-scaled.jpg
END:VEVENT
BEGIN:VEVENT
DTSTART;TZID=UTC:20240121T090000
DTEND;TZID=UTC:20240121T100000
DTSTAMP:20260424T090835
CREATED:20240106T184634Z
LAST-MODIFIED:20240228T200602Z
UID:10001626-1705827600-1705831200@www.orovalley.org
SUMMARY:Worship at SaddleBrooke
DESCRIPTION:Worship Online Here\n\n\n\nOnline Bulletin Here
URL:https://www.orovalley.org/event/worship-at-saddlebrooke/2024-01-21/
LOCATION:SaddleBrooke\, SaddleBrooke HOA2 Clubhouse\, Tucson\, Arizona\, 85739
CATEGORIES:Worship
ATTACH;FMTTYPE=image/jpeg:https://www.orovalley.org/wp-content/uploads/2023/08/sb-worship-pic_3.jpg
END:VEVENT
BEGIN:VEVENT
DTSTART;TZID=UTC:20240121T074500
DTEND;TZID=UTC:20240121T084500
DTSTAMP:20260424T090835
CREATED:20231212T221125Z
LAST-MODIFIED:20240131T021157Z
UID:10000008-1705823100-1705826700@www.orovalley.org
SUMMARY:7:45 Worship - Traditional
DESCRIPTION:7:45 AM Traditional Worship
URL:https://www.orovalley.org/event/worship/2024-01-21/
LOCATION:Oro Valley Sanctuary
CATEGORIES:Worship
ATTACH;FMTTYPE=image/jpeg:https://www.orovalley.org/wp-content/uploads/2023/12/CopyrightTaylorNoelPhotography2021-158-scaled.jpg
END:VEVENT
BEGIN:VEVENT
DTSTART;TZID=UTC:20240114T104500
DTEND;TZID=UTC:20240114T114500
DTSTAMP:20260424T090835
CREATED:20240106T065411Z
LAST-MODIFIED:20240228T200844Z
UID:10001300-1705229100-1705232700@www.orovalley.org
SUMMARY:10:45 Worship - Contemporary
DESCRIPTION:Sunday School\, Confirmation\, High School Sunday School \n\n\n\nChildcare Available \n\n\n\n\nWorship Online Here
URL:https://www.orovalley.org/event/worship-3/2024-01-14/
LOCATION:Oro Valley Sanctuary
CATEGORIES:Worship
ATTACH;FMTTYPE=image/jpeg:https://www.orovalley.org/wp-content/uploads/2023/11/CopyrightTaylorNoelPhotography2021-200-scaled.jpg
END:VEVENT
BEGIN:VEVENT
DTSTART;TZID=UTC:20240114T090000
DTEND;TZID=UTC:20240114T100000
DTSTAMP:20260424T090835
CREATED:20240106T184634Z
LAST-MODIFIED:20240228T200602Z
UID:10001625-1705222800-1705226400@www.orovalley.org
SUMMARY:Worship at SaddleBrooke
DESCRIPTION:Worship Online Here\n\n\n\nOnline Bulletin Here
URL:https://www.orovalley.org/event/worship-at-saddlebrooke/2024-01-14/
LOCATION:SaddleBrooke\, SaddleBrooke HOA2 Clubhouse\, Tucson\, Arizona\, 85739
CATEGORIES:Worship
ATTACH;FMTTYPE=image/jpeg:https://www.orovalley.org/wp-content/uploads/2023/08/sb-worship-pic_3.jpg
END:VEVENT
BEGIN:VEVENT
DTSTART;TZID=UTC:20240114T074500
DTEND;TZID=UTC:20240114T084500
DTSTAMP:20260424T090835
CREATED:20231212T221125Z
LAST-MODIFIED:20240131T021157Z
UID:10000007-1705218300-1705221900@www.orovalley.org
SUMMARY:7:45 Worship - Traditional
DESCRIPTION:7:45 AM Traditional Worship
URL:https://www.orovalley.org/event/worship/2024-01-14/
LOCATION:Oro Valley Sanctuary
CATEGORIES:Worship
ATTACH;FMTTYPE=image/jpeg:https://www.orovalley.org/wp-content/uploads/2023/12/CopyrightTaylorNoelPhotography2021-158-scaled.jpg
END:VEVENT
BEGIN:VEVENT
DTSTART;TZID=UTC:20240110T113000
DTEND;TZID=UTC:20240110T133000
DTSTAMP:20260424T090835
CREATED:20240106T041226Z
LAST-MODIFIED:20240131T013300Z
UID:10001564-1704886200-1704893400@www.orovalley.org
SUMMARY:PrimeTime
DESCRIPTION:Immediately following the Ash Wednesday Service. \nLunch will be served at 1 PMChicken Pot Pie\, salad\, rolls\, and a delicious dessert. \nPrime Time is such a fun event\, there is lots of laughter and good food!  Come and get to know one another better! Lunch is catered at a $10/ticket and entertainment is provided. Prime Time is held on a Wednesday once a month from October through May.
URL:https://www.orovalley.org/event/primetime/
LOCATION:Church\, 11575 N 1st Ave.\, Oro Valley\, AZ\, 85737
ATTACH;FMTTYPE=image/jpeg:https://www.orovalley.org/wp-content/uploads/2024/01/Graphics-5-1.jpg
END:VEVENT
BEGIN:VEVENT
DTSTART;TZID=UTC:20240107T104500
DTEND;TZID=UTC:20240107T114500
DTSTAMP:20260424T090835
CREATED:20240106T065411Z
LAST-MODIFIED:20240228T200844Z
UID:10001299-1704624300-1704627900@www.orovalley.org
SUMMARY:10:45 Worship - Contemporary
DESCRIPTION:Sunday School\, Confirmation\, High School Sunday School \n\n\n\nChildcare Available \n\n\n\n\nWorship Online Here
URL:https://www.orovalley.org/event/worship-3/2024-01-07/
LOCATION:Oro Valley Sanctuary
CATEGORIES:Worship
ATTACH;FMTTYPE=image/jpeg:https://www.orovalley.org/wp-content/uploads/2023/11/CopyrightTaylorNoelPhotography2021-200-scaled.jpg
END:VEVENT
BEGIN:VEVENT
DTSTART;TZID=UTC:20240107T090000
DTEND;TZID=UTC:20240107T100000
DTSTAMP:20260424T090835
CREATED:20240106T184634Z
LAST-MODIFIED:20240228T200602Z
UID:10001624-1704618000-1704621600@www.orovalley.org
SUMMARY:Worship at SaddleBrooke
DESCRIPTION:Worship Online Here\n\n\n\nOnline Bulletin Here
URL:https://www.orovalley.org/event/worship-at-saddlebrooke/2024-01-07/
LOCATION:SaddleBrooke\, SaddleBrooke HOA2 Clubhouse\, Tucson\, Arizona\, 85739
CATEGORIES:Worship
ATTACH;FMTTYPE=image/jpeg:https://www.orovalley.org/wp-content/uploads/2023/08/sb-worship-pic_3.jpg
END:VEVENT
BEGIN:VEVENT
DTSTART;TZID=UTC:20240107T074500
DTEND;TZID=UTC:20240107T084500
DTSTAMP:20260424T090835
CREATED:20231212T221125Z
LAST-MODIFIED:20240131T021157Z
UID:10000006-1704613500-1704617100@www.orovalley.org
SUMMARY:7:45 Worship - Traditional
DESCRIPTION:7:45 AM Traditional Worship
URL:https://www.orovalley.org/event/worship/2024-01-07/
LOCATION:Oro Valley Sanctuary
CATEGORIES:Worship
ATTACH;FMTTYPE=image/jpeg:https://www.orovalley.org/wp-content/uploads/2023/12/CopyrightTaylorNoelPhotography2021-158-scaled.jpg
END:VEVENT
END:VCALENDAR