BEGIN:VCALENDAR
VERSION:2.0
PRODID:-//Resurrection Lutheran Church - ECPv6.15.17//NONSGML v1.0//EN
CALSCALE:GREGORIAN
METHOD:PUBLISH
X-WR-CALNAME:Resurrection Lutheran Church
X-ORIGINAL-URL:https://www.orovalley.org
X-WR-CALDESC:Events for Resurrection Lutheran Church
REFRESH-INTERVAL;VALUE=DURATION:PT1H
X-Robots-Tag:noindex
X-PUBLISHED-TTL:PT1H
BEGIN:VTIMEZONE
TZID:UTC
BEGIN:STANDARD
TZOFFSETFROM:+0000
TZOFFSETTO:+0000
TZNAME:UTC
DTSTART:20280101T000000
END:STANDARD
END:VTIMEZONE
BEGIN:VEVENT
DTSTART;TZID=UTC:20290915T090000
DTEND;TZID=UTC:20290915T110000
DTSTAMP:20260419T222529
CREATED:20260210T201725Z
LAST-MODIFIED:20260210T201733Z
UID:10006801-1884157200-1884164400@www.orovalley.org
SUMMARY:Faithful Living Fellowship
DESCRIPTION:Oro Valley \n\n\n\nWe meet for coffee\, snacks and fellowship\, followed by a film and small discussion groups. We will study the book “Embracing Trust” by Joanna Weaver. Sign up on the website under the Learn section.
URL:https://www.orovalley.org/event/faithful-living-fellowship-3/2029-09-15/
END:VEVENT
BEGIN:VEVENT
DTSTART;TZID=UTC:20291020T090000
DTEND;TZID=UTC:20291020T110000
DTSTAMP:20260419T222529
CREATED:20260210T201725Z
LAST-MODIFIED:20260210T201733Z
UID:10006802-1887181200-1887188400@www.orovalley.org
SUMMARY:Faithful Living Fellowship
DESCRIPTION:Oro Valley \n\n\n\nWe meet for coffee\, snacks and fellowship\, followed by a film and small discussion groups. We will study the book “Embracing Trust” by Joanna Weaver. Sign up on the website under the Learn section.
URL:https://www.orovalley.org/event/faithful-living-fellowship-3/2029-10-20/
END:VEVENT
BEGIN:VEVENT
DTSTART;TZID=UTC:20291117T090000
DTEND;TZID=UTC:20291117T110000
DTSTAMP:20260419T222529
CREATED:20260210T201725Z
LAST-MODIFIED:20260210T201733Z
UID:10006803-1889600400-1889607600@www.orovalley.org
SUMMARY:Faithful Living Fellowship
DESCRIPTION:Oro Valley \n\n\n\nWe meet for coffee\, snacks and fellowship\, followed by a film and small discussion groups. We will study the book “Embracing Trust” by Joanna Weaver. Sign up on the website under the Learn section.
URL:https://www.orovalley.org/event/faithful-living-fellowship-3/2029-11-17/
END:VEVENT
BEGIN:VEVENT
DTSTART;TZID=UTC:20291215T090000
DTEND;TZID=UTC:20291215T110000
DTSTAMP:20260419T222529
CREATED:20260210T201725Z
LAST-MODIFIED:20260210T201733Z
UID:10005308-1892019600-1892026800@www.orovalley.org
SUMMARY:Faithful Living Fellowship
DESCRIPTION:Oro Valley \n\n\n\nWe meet for coffee\, snacks and fellowship\, followed by a film and small discussion groups. We will study the book “Embracing Trust” by Joanna Weaver. Sign up on the website under the Learn section.
URL:https://www.orovalley.org/event/faithful-living-fellowship-3/2029-12-15/
END:VEVENT
BEGIN:VEVENT
DTSTART;TZID=UTC:20300119T090000
DTEND;TZID=UTC:20300119T110000
DTSTAMP:20260419T222529
CREATED:20260210T201725Z
LAST-MODIFIED:20260210T201733Z
UID:10006804-1895043600-1895050800@www.orovalley.org
SUMMARY:Faithful Living Fellowship
DESCRIPTION:Oro Valley \n\n\n\nWe meet for coffee\, snacks and fellowship\, followed by a film and small discussion groups. We will study the book “Embracing Trust” by Joanna Weaver. Sign up on the website under the Learn section.
URL:https://www.orovalley.org/event/faithful-living-fellowship-3/2030-01-19/
END:VEVENT
BEGIN:VEVENT
DTSTART;TZID=UTC:20300216T090000
DTEND;TZID=UTC:20300216T110000
DTSTAMP:20260419T222529
CREATED:20260210T201725Z
LAST-MODIFIED:20260210T201733Z
UID:10005311-1897462800-1897470000@www.orovalley.org
SUMMARY:Faithful Living Fellowship
DESCRIPTION:Oro Valley \n\n\n\nWe meet for coffee\, snacks and fellowship\, followed by a film and small discussion groups. We will study the book “Embracing Trust” by Joanna Weaver. Sign up on the website under the Learn section.
URL:https://www.orovalley.org/event/faithful-living-fellowship-3/2030-02-16/
END:VEVENT
BEGIN:VEVENT
DTSTART;TZID=UTC:20300316T090000
DTEND;TZID=UTC:20300316T110000
DTSTAMP:20260419T222529
CREATED:20260210T201725Z
LAST-MODIFIED:20260210T201733Z
UID:10006805-1899882000-1899889200@www.orovalley.org
SUMMARY:Faithful Living Fellowship
DESCRIPTION:Oro Valley \n\n\n\nWe meet for coffee\, snacks and fellowship\, followed by a film and small discussion groups. We will study the book “Embracing Trust” by Joanna Weaver. Sign up on the website under the Learn section.
URL:https://www.orovalley.org/event/faithful-living-fellowship-3/2030-03-16/
END:VEVENT
BEGIN:VEVENT
DTSTART;TZID=UTC:20300420T090000
DTEND;TZID=UTC:20300420T110000
DTSTAMP:20260419T222529
CREATED:20260210T201725Z
LAST-MODIFIED:20260210T201733Z
UID:10005314-1902906000-1902913200@www.orovalley.org
SUMMARY:Faithful Living Fellowship
DESCRIPTION:Oro Valley \n\n\n\nWe meet for coffee\, snacks and fellowship\, followed by a film and small discussion groups. We will study the book “Embracing Trust” by Joanna Weaver. Sign up on the website under the Learn section.
URL:https://www.orovalley.org/event/faithful-living-fellowship-3/2030-04-20/
END:VEVENT
BEGIN:VEVENT
DTSTART;TZID=UTC:20300518T090000
DTEND;TZID=UTC:20300518T110000
DTSTAMP:20260419T222529
CREATED:20260210T201725Z
LAST-MODIFIED:20260210T201733Z
UID:10006806-1905325200-1905332400@www.orovalley.org
SUMMARY:Faithful Living Fellowship
DESCRIPTION:Oro Valley \n\n\n\nWe meet for coffee\, snacks and fellowship\, followed by a film and small discussion groups. We will study the book “Embracing Trust” by Joanna Weaver. Sign up on the website under the Learn section.
URL:https://www.orovalley.org/event/faithful-living-fellowship-3/2030-05-18/
END:VEVENT
BEGIN:VEVENT
DTSTART;TZID=UTC:20300615T090000
DTEND;TZID=UTC:20300615T110000
DTSTAMP:20260419T222529
CREATED:20260210T201725Z
LAST-MODIFIED:20260210T201733Z
UID:10006807-1907744400-1907751600@www.orovalley.org
SUMMARY:Faithful Living Fellowship
DESCRIPTION:Oro Valley \n\n\n\nWe meet for coffee\, snacks and fellowship\, followed by a film and small discussion groups. We will study the book “Embracing Trust” by Joanna Weaver. Sign up on the website under the Learn section.
URL:https://www.orovalley.org/event/faithful-living-fellowship-3/2030-06-15/
END:VEVENT
BEGIN:VEVENT
DTSTART;TZID=UTC:20300720T090000
DTEND;TZID=UTC:20300720T110000
DTSTAMP:20260419T222529
CREATED:20260210T201725Z
LAST-MODIFIED:20260210T201733Z
UID:10006808-1910768400-1910775600@www.orovalley.org
SUMMARY:Faithful Living Fellowship
DESCRIPTION:Oro Valley \n\n\n\nWe meet for coffee\, snacks and fellowship\, followed by a film and small discussion groups. We will study the book “Embracing Trust” by Joanna Weaver. Sign up on the website under the Learn section.
URL:https://www.orovalley.org/event/faithful-living-fellowship-3/2030-07-20/
END:VEVENT
BEGIN:VEVENT
DTSTART;TZID=UTC:20300817T090000
DTEND;TZID=UTC:20300817T110000
DTSTAMP:20260419T222529
CREATED:20260210T201725Z
LAST-MODIFIED:20260210T201733Z
UID:10006809-1913187600-1913194800@www.orovalley.org
SUMMARY:Faithful Living Fellowship
DESCRIPTION:Oro Valley \n\n\n\nWe meet for coffee\, snacks and fellowship\, followed by a film and small discussion groups. We will study the book “Embracing Trust” by Joanna Weaver. Sign up on the website under the Learn section.
URL:https://www.orovalley.org/event/faithful-living-fellowship-3/2030-08-17/
END:VEVENT
BEGIN:VEVENT
DTSTART;TZID=UTC:20300921T090000
DTEND;TZID=UTC:20300921T110000
DTSTAMP:20260419T222529
CREATED:20260210T201725Z
LAST-MODIFIED:20260210T201733Z
UID:10006810-1916211600-1916218800@www.orovalley.org
SUMMARY:Faithful Living Fellowship
DESCRIPTION:Oro Valley \n\n\n\nWe meet for coffee\, snacks and fellowship\, followed by a film and small discussion groups. We will study the book “Embracing Trust” by Joanna Weaver. Sign up on the website under the Learn section.
URL:https://www.orovalley.org/event/faithful-living-fellowship-3/2030-09-21/
END:VEVENT
BEGIN:VEVENT
DTSTART;TZID=UTC:20301019T090000
DTEND;TZID=UTC:20301019T110000
DTSTAMP:20260419T222529
CREATED:20260210T201725Z
LAST-MODIFIED:20260210T201733Z
UID:10006811-1918630800-1918638000@www.orovalley.org
SUMMARY:Faithful Living Fellowship
DESCRIPTION:Oro Valley \n\n\n\nWe meet for coffee\, snacks and fellowship\, followed by a film and small discussion groups. We will study the book “Embracing Trust” by Joanna Weaver. Sign up on the website under the Learn section.
URL:https://www.orovalley.org/event/faithful-living-fellowship-3/2030-10-19/
END:VEVENT
BEGIN:VEVENT
DTSTART;TZID=UTC:20301116T090000
DTEND;TZID=UTC:20301116T110000
DTSTAMP:20260419T222529
CREATED:20260210T201725Z
LAST-MODIFIED:20260210T201733Z
UID:10006812-1921050000-1921057200@www.orovalley.org
SUMMARY:Faithful Living Fellowship
DESCRIPTION:Oro Valley \n\n\n\nWe meet for coffee\, snacks and fellowship\, followed by a film and small discussion groups. We will study the book “Embracing Trust” by Joanna Weaver. Sign up on the website under the Learn section.
URL:https://www.orovalley.org/event/faithful-living-fellowship-3/2030-11-16/
END:VEVENT
BEGIN:VEVENT
DTSTART;TZID=UTC:20301221T090000
DTEND;TZID=UTC:20301221T110000
DTSTAMP:20260419T222529
CREATED:20260210T201725Z
LAST-MODIFIED:20260210T201733Z
UID:10006813-1924074000-1924081200@www.orovalley.org
SUMMARY:Faithful Living Fellowship
DESCRIPTION:Oro Valley \n\n\n\nWe meet for coffee\, snacks and fellowship\, followed by a film and small discussion groups. We will study the book “Embracing Trust” by Joanna Weaver. Sign up on the website under the Learn section.
URL:https://www.orovalley.org/event/faithful-living-fellowship-3/2030-12-21/
END:VEVENT
BEGIN:VEVENT
DTSTART;TZID=UTC:20310118T090000
DTEND;TZID=UTC:20310118T110000
DTSTAMP:20260419T222529
CREATED:20260210T201725Z
LAST-MODIFIED:20260210T201733Z
UID:10006814-1926493200-1926500400@www.orovalley.org
SUMMARY:Faithful Living Fellowship
DESCRIPTION:Oro Valley \n\n\n\nWe meet for coffee\, snacks and fellowship\, followed by a film and small discussion groups. We will study the book “Embracing Trust” by Joanna Weaver. Sign up on the website under the Learn section.
URL:https://www.orovalley.org/event/faithful-living-fellowship-3/2031-01-18/
END:VEVENT
END:VCALENDAR