BEGIN:VCALENDAR
VERSION:2.0
PRODID:-//Resurrection Lutheran Church - ECPv6.15.20//NONSGML v1.0//EN
CALSCALE:GREGORIAN
METHOD:PUBLISH
X-WR-CALNAME:Resurrection Lutheran Church
X-ORIGINAL-URL:https://www.orovalley.org
X-WR-CALDESC:Events for Resurrection Lutheran Church
REFRESH-INTERVAL;VALUE=DURATION:PT1H
X-Robots-Tag:noindex
X-PUBLISHED-TTL:PT1H
BEGIN:VTIMEZONE
TZID:UTC
BEGIN:STANDARD
TZOFFSETFROM:+0000
TZOFFSETTO:+0000
TZNAME:UTC
DTSTART:20250101T000000
END:STANDARD
END:VTIMEZONE
BEGIN:VEVENT
DTSTART;TZID=UTC:20260222T091500
DTEND;TZID=UTC:20260222T101500
DTSTAMP:20260423T091038
CREATED:20250610T165422Z
LAST-MODIFIED:20250610T165427Z
UID:10005112-1771751700-1771755300@www.orovalley.org
SUMMARY:09:15 Worship - Contemporary
DESCRIPTION:Sunday School\, Confirmation\, High School Sunday School \n\n\n\nChildcare Available \n\n\n\n\nWorship Online Here
URL:https://www.orovalley.org/event/0915-worship-contemporary/2026-02-22/
LOCATION:Oro Valley Sanctuary
CATEGORIES:Worship
ATTACH;FMTTYPE=image/jpeg:https://www.orovalley.org/wp-content/uploads/2023/11/CopyrightTaylorNoelPhotography2021-200-scaled.jpg
END:VEVENT
BEGIN:VEVENT
DTSTART;TZID=UTC:20260222T104500
DTEND;TZID=UTC:20260222T114500
DTSTAMP:20260423T091038
CREATED:20250610T165108Z
LAST-MODIFIED:20250610T165111Z
UID:10005024-1771757100-1771760700@www.orovalley.org
SUMMARY:10:45 Worship - Contemporary
DESCRIPTION:Sunday School\, Confirmation\, High School Sunday School \n\n\n\nChildcare Available \n\n\n\n\nWorship Online Here
URL:https://www.orovalley.org/event/1045-worship-contemporary-7/2026-02-22/
LOCATION:Oro Valley Sanctuary
CATEGORIES:Worship
ATTACH;FMTTYPE=image/jpeg:https://www.orovalley.org/wp-content/uploads/2023/11/CopyrightTaylorNoelPhotography2021-200-scaled.jpg
END:VEVENT
BEGIN:VEVENT
DTSTART;TZID=UTC:20260222T120000
DTEND;TZID=UTC:20260222T133000
DTSTAMP:20260423T091038
CREATED:20260210T184724Z
LAST-MODIFIED:20260210T184729Z
UID:10006101-1771761600-1771767000@www.orovalley.org
SUMMARY:Youth Ministry Summit
DESCRIPTION:Outreach Center
URL:https://www.orovalley.org/event/youth-ministry-summit/
END:VEVENT
BEGIN:VEVENT
DTSTART;TZID=UTC:20260223T183000
DTEND;TZID=UTC:20260223T200000
DTSTAMP:20260423T091038
CREATED:20251107T183956Z
LAST-MODIFIED:20260408T223906Z
UID:10005605-1771871400-1771876800@www.orovalley.org
SUMMARY:Half Truths Book Study
DESCRIPTION:The book study will be held in Katie’s Quarters.
URL:https://www.orovalley.org/event/half-truths-book-study/2026-02-23/
END:VEVENT
BEGIN:VEVENT
DTSTART;TZID=UTC:20260224T080000
DTEND;TZID=UTC:20260224T170000
DTSTAMP:20260423T091038
CREATED:20251008T010640Z
LAST-MODIFIED:20251008T010645Z
UID:10005239-1771920000-1771952400@www.orovalley.org
SUMMARY:Winter Book Discussion
DESCRIPTION:Oro Valley Sanctuary \n\n\n\nJoin us as we discuss Romans 8 through the eyes of N.T. Wright. We will use the book “Into the Heart of Romans.” Books available in the church office.
URL:https://www.orovalley.org/event/winter-book-discussion/2026-02-24/
END:VEVENT
BEGIN:VEVENT
DTSTART;TZID=UTC:20260224T100000
DTEND;TZID=UTC:20260224T113000
DTSTAMP:20260423T091038
CREATED:20251107T191217Z
LAST-MODIFIED:20251107T191224Z
UID:10005743-1771927200-1771932600@www.orovalley.org
SUMMARY:Into the Heart of Romans Book Study
DESCRIPTION:The study will be held in the Sanctuary.
URL:https://www.orovalley.org/event/into-the-heart-of-romans-book-study/2026-02-24/
END:VEVENT
BEGIN:VEVENT
DTSTART;TZID=UTC:20260224T130000
DTEND;TZID=UTC:20260224T160000
DTSTAMP:20260423T091038
CREATED:20260210T184404Z
LAST-MODIFIED:20260210T202351Z
UID:10006817-1771938000-1771948800@www.orovalley.org
SUMMARY:Art by Heart Glass Classes
DESCRIPTION:Art by Heart Studio
URL:https://www.orovalley.org/event/art-by-heart-glass-classes/2026-02-24/
END:VEVENT
BEGIN:VEVENT
DTSTART;TZID=UTC:20260224T183000
DTEND;TZID=UTC:20260224T203000
DTSTAMP:20260423T091038
CREATED:20240910T192133Z
LAST-MODIFIED:20240910T192135Z
UID:10003843-1771957800-1771965000@www.orovalley.org
SUMMARY:Resurrection Card Players
DESCRIPTION:RLC Card Players meets every second and fourth Tuesday of the month. No reservation necessary. Please bring a snack to share and your own beverage. We play a variety of card games and we’re happy to teach you if you don’t know how to play. Everyone is welcome.
URL:https://www.orovalley.org/event/resurrection-card-players-2/2026-02-24/
LOCATION:Luther’s Lair
END:VEVENT
BEGIN:VEVENT
DTSTART;TZID=UTC:20260224T183000
DTEND;TZID=UTC:20260224T203000
DTSTAMP:20260423T091038
CREATED:20260210T183126Z
LAST-MODIFIED:20260210T183131Z
UID:10006082-1771957800-1771965000@www.orovalley.org
SUMMARY:RLC Card Players
DESCRIPTION:Music Room
URL:https://www.orovalley.org/event/rlc-card-players-3/2026-02-24/
END:VEVENT
BEGIN:VEVENT
DTSTART;TZID=UTC:20260225T100000
DTEND;TZID=UTC:20260225T113000
DTSTAMP:20260423T091038
CREATED:20251209T181906Z
LAST-MODIFIED:20251209T181911Z
UID:10006063-1772013600-1772019000@www.orovalley.org
SUMMARY:Coping With Grief
DESCRIPTION:This event will be held in the Prayer Room.
URL:https://www.orovalley.org/event/coping-with-grief-2/2026-02-25/
END:VEVENT
BEGIN:VEVENT
DTSTART;TZID=UTC:20260225T120000
DTEND;TZID=UTC:20260225T130000
DTSTAMP:20260423T091038
CREATED:20260210T182728Z
LAST-MODIFIED:20260210T220005Z
UID:10007077-1772020800-1772024400@www.orovalley.org
SUMMARY:Mid-Week Lenten Worship Service
DESCRIPTION:Oro Valley Sanctuary
URL:https://www.orovalley.org/event/mid-week-lenten-worship-service-2/2026-02-25/
END:VEVENT
BEGIN:VEVENT
DTSTART;TZID=UTC:20260225T150000
DTEND;TZID=UTC:20260225T160000
DTSTAMP:20260423T091038
CREATED:20250701T214646Z
LAST-MODIFIED:20250701T214652Z
UID:10004508-1772031600-1772035200@www.orovalley.org
SUMMARY:Scripture & Salsa
DESCRIPTION:You are invited to join Pastor Carol every Wednesday from 3:00 – 4:00 PM at Mi Tierra Mexican Restaurant in Catalina starting January 8th for an informal discussion of the Bible texts for the upcoming weekend’s worship. No registration is required and there is no long-term commitment. Just grab your Bible and drop by.
URL:https://www.orovalley.org/event/scripture-salsa-2/2026-02-25/
END:VEVENT
BEGIN:VEVENT
DTSTART;TZID=UTC:20260226T130000
DTEND;TZID=UTC:20260226T160000
DTSTAMP:20260423T091038
CREATED:20241213T002356Z
LAST-MODIFIED:20241213T002359Z
UID:10004110-1772110800-1772121600@www.orovalley.org
SUMMARY:Matching Dragons Mah Jongg
DESCRIPTION:Do you play the game of (American) Mah Jongg and have been looking for a group to play with? Join us on Thursday afternoons 1:00-4:00 PM in Luther’s Lair in the Outreach Center. These are friendly games. We do NOT play for money but we ALWAYS have a good time. This group is for those who already know how to play the game. However\, anyone is invited to come observe to see if they would like to learn to play the game. Questions? Contact Jackie Verdick at jackieverdick@gmail.com or 612-554-0111.
URL:https://www.orovalley.org/event/matching-dragons-mah-jongg/2026-02-26/
END:VEVENT
BEGIN:VEVENT
DTSTART;TZID=UTC:20260226T130000
DTEND;TZID=UTC:20260226T160000
DTSTAMP:20260423T091038
CREATED:20251107T191455Z
LAST-MODIFIED:20251107T191616Z
UID:10005760-1772110800-1772121600@www.orovalley.org
SUMMARY:Art by Heart Open Studio
DESCRIPTION:
URL:https://www.orovalley.org/event/art-by-heart-open-studio/2026-02-26/
END:VEVENT
BEGIN:VEVENT
DTSTART;TZID=UTC:20260228T080000
DTEND;TZID=UTC:20260228T100000
DTSTAMP:20260423T091038
CREATED:20260210T200305Z
LAST-MODIFIED:20260210T200310Z
UID:10006199-1772265600-1772272800@www.orovalley.org
SUMMARY:Men's Bible Study
DESCRIPTION:Uses the Serendipity Bible\, copies are available. All men of the church are welcome to attend. Meets in Luther’s Lair.
URL:https://www.orovalley.org/event/mens-bible-study-4/2026-02-28/
END:VEVENT
BEGIN:VEVENT
DTSTART;TZID=UTC:20260228T170000
DTEND;TZID=UTC:20260228T180000
DTSTAMP:20260423T091038
CREATED:20240130T000623Z
LAST-MODIFIED:20240228T201059Z
UID:10002354-1772298000-1772301600@www.orovalley.org
SUMMARY:5:00 Worship
DESCRIPTION:Join us for worship!  \n\n\n\n\nWorship Online Here\n\n\n\nOnline Bulletins Here
URL:https://www.orovalley.org/event/500-worship-2/2026-02-28/
LOCATION:Oro Valley Sanctuary
CATEGORIES:Worship
ATTACH;FMTTYPE=image/jpeg:https://www.orovalley.org/wp-content/uploads/2023/08/CopyrightTaylorNoelPhotography2021-175-354e5a6-scaled.jpg
END:VEVENT
BEGIN:VEVENT
DTSTART;TZID=UTC:20260301T074500
DTEND;TZID=UTC:20260301T084500
DTSTAMP:20260423T091038
CREATED:20250605T233406Z
LAST-MODIFIED:20250605T233413Z
UID:10000118-1772351100-1772354700@www.orovalley.org
SUMMARY:7:45 Worship
DESCRIPTION:Traditional Worship. Music provided by Resurrection’s Chancel Choir \n\n\n\n\nWorship Online Here\n\n\n\n\n \n\n\n\n\nOnline Bulletins Here
URL:https://www.orovalley.org/event/745-worship-9/2026-03-01/
LOCATION:Oro Valley Sanctuary
CATEGORIES:Worship
ATTACH;FMTTYPE=image/jpeg:https://www.orovalley.org/wp-content/uploads/2023/12/CopyrightTaylorNoelPhotography2021-158-scaled.jpg
END:VEVENT
BEGIN:VEVENT
DTSTART;TZID=UTC:20260301T090000
DTEND;TZID=UTC:20260301T100000
DTSTAMP:20260423T091038
CREATED:20240106T184634Z
LAST-MODIFIED:20240228T200602Z
UID:10001736-1772355600-1772359200@www.orovalley.org
SUMMARY:Worship at SaddleBrooke
DESCRIPTION:Worship Online Here\n\n\n\nOnline Bulletin Here
URL:https://www.orovalley.org/event/worship-at-saddlebrooke/2026-03-01/
LOCATION:SaddleBrooke\, SaddleBrooke HOA2 Clubhouse\, Tucson\, Arizona\, 85739
CATEGORIES:Worship
ATTACH;FMTTYPE=image/jpeg:https://www.orovalley.org/wp-content/uploads/2023/08/sb-worship-pic_3.jpg
END:VEVENT
BEGIN:VEVENT
DTSTART;TZID=UTC:20260301T091500
DTEND;TZID=UTC:20260301T101500
DTSTAMP:20260423T091038
CREATED:20250610T165422Z
LAST-MODIFIED:20250610T165427Z
UID:10005113-1772356500-1772360100@www.orovalley.org
SUMMARY:09:15 Worship - Contemporary
DESCRIPTION:Sunday School\, Confirmation\, High School Sunday School \n\n\n\nChildcare Available \n\n\n\n\nWorship Online Here
URL:https://www.orovalley.org/event/0915-worship-contemporary/2026-03-01/
LOCATION:Oro Valley Sanctuary
CATEGORIES:Worship
ATTACH;FMTTYPE=image/jpeg:https://www.orovalley.org/wp-content/uploads/2023/11/CopyrightTaylorNoelPhotography2021-200-scaled.jpg
END:VEVENT
BEGIN:VEVENT
DTSTART;TZID=UTC:20260301T104500
DTEND;TZID=UTC:20260301T114500
DTSTAMP:20260423T091038
CREATED:20250610T165108Z
LAST-MODIFIED:20250610T165111Z
UID:10005025-1772361900-1772365500@www.orovalley.org
SUMMARY:10:45 Worship - Contemporary
DESCRIPTION:Sunday School\, Confirmation\, High School Sunday School \n\n\n\nChildcare Available \n\n\n\n\nWorship Online Here
URL:https://www.orovalley.org/event/1045-worship-contemporary-7/2026-03-01/
LOCATION:Oro Valley Sanctuary
CATEGORIES:Worship
ATTACH;FMTTYPE=image/jpeg:https://www.orovalley.org/wp-content/uploads/2023/11/CopyrightTaylorNoelPhotography2021-200-scaled.jpg
END:VEVENT
BEGIN:VEVENT
DTSTART;TZID=UTC:20260303T130000
DTEND;TZID=UTC:20260303T160000
DTSTAMP:20260423T091038
CREATED:20260210T184404Z
LAST-MODIFIED:20260210T202351Z
UID:10006818-1772542800-1772553600@www.orovalley.org
SUMMARY:Art by Heart Glass Classes
DESCRIPTION:Art by Heart Studio
URL:https://www.orovalley.org/event/art-by-heart-glass-classes/2026-03-03/
END:VEVENT
BEGIN:VEVENT
DTSTART;TZID=UTC:20260303T180000
DTEND;TZID=UTC:20260303T200000
DTSTAMP:20260423T091038
CREATED:20260210T182842Z
LAST-MODIFIED:20260210T182848Z
UID:10006080-1772560800-1772568000@www.orovalley.org
SUMMARY:Luther Lands Pilgrimage Gathering
DESCRIPTION:Katie’s Quarters
URL:https://www.orovalley.org/event/luther-lands-pilgrimage-gathering/
END:VEVENT
BEGIN:VEVENT
DTSTART;TZID=UTC:20260304T100000
DTEND;TZID=UTC:20260304T113000
DTSTAMP:20260423T091038
CREATED:20251209T181906Z
LAST-MODIFIED:20251209T181911Z
UID:10006064-1772618400-1772623800@www.orovalley.org
SUMMARY:Coping With Grief
DESCRIPTION:This event will be held in the Prayer Room.
URL:https://www.orovalley.org/event/coping-with-grief-2/2026-03-04/
END:VEVENT
BEGIN:VEVENT
DTSTART;TZID=UTC:20260304T120000
DTEND;TZID=UTC:20260304T130000
DTSTAMP:20260423T091038
CREATED:20260210T182728Z
LAST-MODIFIED:20260210T220005Z
UID:10007078-1772625600-1772629200@www.orovalley.org
SUMMARY:Mid-Week Lenten Worship Service
DESCRIPTION:Oro Valley Sanctuary
URL:https://www.orovalley.org/event/mid-week-lenten-worship-service-2/2026-03-04/
END:VEVENT
BEGIN:VEVENT
DTSTART;TZID=UTC:20260304T150000
DTEND;TZID=UTC:20260304T160000
DTSTAMP:20260423T091038
CREATED:20250701T214646Z
LAST-MODIFIED:20250701T214652Z
UID:10004509-1772636400-1772640000@www.orovalley.org
SUMMARY:Scripture & Salsa
DESCRIPTION:You are invited to join Pastor Carol every Wednesday from 3:00 – 4:00 PM at Mi Tierra Mexican Restaurant in Catalina starting January 8th for an informal discussion of the Bible texts for the upcoming weekend’s worship. No registration is required and there is no long-term commitment. Just grab your Bible and drop by.
URL:https://www.orovalley.org/event/scripture-salsa-2/2026-03-04/
END:VEVENT
BEGIN:VEVENT
DTSTART;TZID=UTC:20260305T130000
DTEND;TZID=UTC:20260305T160000
DTSTAMP:20260423T091038
CREATED:20241213T002356Z
LAST-MODIFIED:20241213T002359Z
UID:10004111-1772715600-1772726400@www.orovalley.org
SUMMARY:Matching Dragons Mah Jongg
DESCRIPTION:Do you play the game of (American) Mah Jongg and have been looking for a group to play with? Join us on Thursday afternoons 1:00-4:00 PM in Luther’s Lair in the Outreach Center. These are friendly games. We do NOT play for money but we ALWAYS have a good time. This group is for those who already know how to play the game. However\, anyone is invited to come observe to see if they would like to learn to play the game. Questions? Contact Jackie Verdick at jackieverdick@gmail.com or 612-554-0111.
URL:https://www.orovalley.org/event/matching-dragons-mah-jongg/2026-03-05/
END:VEVENT
BEGIN:VEVENT
DTSTART;TZID=UTC:20260305T130000
DTEND;TZID=UTC:20260305T160000
DTSTAMP:20260423T091038
CREATED:20251107T191455Z
LAST-MODIFIED:20251107T191616Z
UID:10005761-1772715600-1772726400@www.orovalley.org
SUMMARY:Art by Heart Open Studio
DESCRIPTION:
URL:https://www.orovalley.org/event/art-by-heart-open-studio/2026-03-05/
END:VEVENT
BEGIN:VEVENT
DTSTART;TZID=UTC:20260307T073000
DTEND;TZID=UTC:20260307T093000
DTSTAMP:20260423T091038
CREATED:20260218T170409Z
LAST-MODIFIED:20260218T170418Z
UID:10005209-1772868600-1772875800@www.orovalley.org
SUMMARY:Men’s Breakfast
DESCRIPTION:Oro Valley Outreach Center \n\n\n\nRegister for this event here: https://rsvp.church/r/ztKN2dJ9
URL:https://www.orovalley.org/event/mens-breakfast-10/
END:VEVENT
BEGIN:VEVENT
DTSTART;TZID=UTC:20260307T170000
DTEND;TZID=UTC:20260307T180000
DTSTAMP:20260423T091038
CREATED:20240130T000623Z
LAST-MODIFIED:20240228T201059Z
UID:10002355-1772902800-1772906400@www.orovalley.org
SUMMARY:5:00 Worship
DESCRIPTION:Join us for worship!  \n\n\n\n\nWorship Online Here\n\n\n\nOnline Bulletins Here
URL:https://www.orovalley.org/event/500-worship-2/2026-03-07/
LOCATION:Oro Valley Sanctuary
CATEGORIES:Worship
ATTACH;FMTTYPE=image/jpeg:https://www.orovalley.org/wp-content/uploads/2023/08/CopyrightTaylorNoelPhotography2021-175-354e5a6-scaled.jpg
END:VEVENT
BEGIN:VEVENT
DTSTART;TZID=UTC:20260308T074500
DTEND;TZID=UTC:20260308T084500
DTSTAMP:20260423T091038
CREATED:20250605T233406Z
LAST-MODIFIED:20250605T233413Z
UID:10000119-1772955900-1772959500@www.orovalley.org
SUMMARY:7:45 Worship
DESCRIPTION:Traditional Worship. Music provided by Resurrection’s Chancel Choir \n\n\n\n\nWorship Online Here\n\n\n\n\n \n\n\n\n\nOnline Bulletins Here
URL:https://www.orovalley.org/event/745-worship-9/2026-03-08/
LOCATION:Oro Valley Sanctuary
CATEGORIES:Worship
ATTACH;FMTTYPE=image/jpeg:https://www.orovalley.org/wp-content/uploads/2023/12/CopyrightTaylorNoelPhotography2021-158-scaled.jpg
END:VEVENT
END:VCALENDAR