BEGIN:VCALENDAR
VERSION:2.0
PRODID:-//Resurrection Lutheran Church - ECPv6.15.20//NONSGML v1.0//EN
CALSCALE:GREGORIAN
METHOD:PUBLISH
X-ORIGINAL-URL:https://www.orovalley.org
X-WR-CALDESC:Events for Resurrection Lutheran Church
REFRESH-INTERVAL;VALUE=DURATION:PT1H
X-Robots-Tag:noindex
X-PUBLISHED-TTL:PT1H
BEGIN:VTIMEZONE
TZID:UTC
BEGIN:STANDARD
TZOFFSETFROM:+0000
TZOFFSETTO:+0000
TZNAME:UTC
DTSTART:20260101T000000
END:STANDARD
END:VTIMEZONE
BEGIN:VEVENT
DTSTART;TZID=UTC:20270922T150000
DTEND;TZID=UTC:20270922T160000
DTSTAMP:20260423T084651
CREATED:20260415T170108Z
LAST-MODIFIED:20260415T170119Z
UID:10004590-1821625200-1821628800@www.orovalley.org
SUMMARY:Scripture & Salsa
DESCRIPTION:You are invited to join Pastor Carol every Wednesday from 3:00 – 4:00 PM at Mi Tierra Mexican Restaurant in Catalina starting January 8th for an informal discussion of the Bible texts for the upcoming weekend’s worship. No registration is required and there is no long-term commitment. Just grab your Bible and drop by.
URL:https://www.orovalley.org/event/scripture-salsa-3/2027-09-22/
END:VEVENT
BEGIN:VEVENT
DTSTART;TZID=UTC:20270923T130000
DTEND;TZID=UTC:20270923T160000
DTSTAMP:20260423T084651
CREATED:20241213T002356Z
LAST-MODIFIED:20241213T002359Z
UID:10004192-1821704400-1821715200@www.orovalley.org
SUMMARY:Matching Dragons Mah Jongg
DESCRIPTION:Do you play the game of (American) Mah Jongg and have been looking for a group to play with? Join us on Thursday afternoons 1:00-4:00 PM in Luther’s Lair in the Outreach Center. These are friendly games. We do NOT play for money but we ALWAYS have a good time. This group is for those who already know how to play the game. However\, anyone is invited to come observe to see if they would like to learn to play the game. Questions? Contact Jackie Verdick at jackieverdick@gmail.com or 612-554-0111.
URL:https://www.orovalley.org/event/matching-dragons-mah-jongg/2027-09-23/
END:VEVENT
BEGIN:VEVENT
DTSTART;TZID=UTC:20270923T130000
DTEND;TZID=UTC:20270923T160000
DTSTAMP:20260423T084651
CREATED:20251107T191455Z
LAST-MODIFIED:20251107T191616Z
UID:10005842-1821704400-1821715200@www.orovalley.org
SUMMARY:Art by Heart Open Studio
DESCRIPTION:
URL:https://www.orovalley.org/event/art-by-heart-open-studio/2027-09-23/
END:VEVENT
BEGIN:VEVENT
DTSTART;TZID=UTC:20270925T170000
DTEND;TZID=UTC:20270925T180000
DTSTAMP:20260423T084651
CREATED:20240130T000623Z
LAST-MODIFIED:20240228T201059Z
UID:10002436-1821891600-1821895200@www.orovalley.org
SUMMARY:5:00 Worship
DESCRIPTION:Join us for worship!  \n\n\n\n\nWorship Online Here\n\n\n\nOnline Bulletins Here
URL:https://www.orovalley.org/event/500-worship-2/2027-09-25/
LOCATION:Oro Valley Sanctuary
CATEGORIES:Worship
ATTACH;FMTTYPE=image/jpeg:https://www.orovalley.org/wp-content/uploads/2023/08/CopyrightTaylorNoelPhotography2021-175-354e5a6-scaled.jpg
END:VEVENT
BEGIN:VEVENT
DTSTART;TZID=UTC:20270926T090000
DTEND;TZID=UTC:20270926T100000
DTSTAMP:20260423T084651
CREATED:20240106T184634Z
LAST-MODIFIED:20240228T200602Z
UID:10001818-1821949200-1821952800@www.orovalley.org
SUMMARY:Worship at SaddleBrooke
DESCRIPTION:Worship Online Here\n\n\n\nOnline Bulletin Here
URL:https://www.orovalley.org/event/worship-at-saddlebrooke/2027-09-26/
LOCATION:SaddleBrooke\, SaddleBrooke HOA2 Clubhouse\, Tucson\, Arizona\, 85739
CATEGORIES:Worship
ATTACH;FMTTYPE=image/jpeg:https://www.orovalley.org/wp-content/uploads/2023/08/sb-worship-pic_3.jpg
END:VEVENT
BEGIN:VEVENT
DTSTART;TZID=UTC:20270928T130000
DTEND;TZID=UTC:20270928T160000
DTSTAMP:20260423T084651
CREATED:20260210T184404Z
LAST-MODIFIED:20260210T202351Z
UID:10006900-1822136400-1822147200@www.orovalley.org
SUMMARY:Art by Heart Glass Classes
DESCRIPTION:Art by Heart Studio
URL:https://www.orovalley.org/event/art-by-heart-glass-classes/2027-09-28/
END:VEVENT
BEGIN:VEVENT
DTSTART;TZID=UTC:20270928T183000
DTEND;TZID=UTC:20270928T203000
DTSTAMP:20260423T084651
CREATED:20240910T192133Z
LAST-MODIFIED:20240910T192135Z
UID:10003862-1822156200-1822163400@www.orovalley.org
SUMMARY:Resurrection Card Players
DESCRIPTION:RLC Card Players meets every second and fourth Tuesday of the month. No reservation necessary. Please bring a snack to share and your own beverage. We play a variety of card games and we’re happy to teach you if you don’t know how to play. Everyone is welcome.
URL:https://www.orovalley.org/event/resurrection-card-players-2/2027-09-28/
LOCATION:Luther’s Lair
END:VEVENT
BEGIN:VEVENT
DTSTART;TZID=UTC:20270929T150000
DTEND;TZID=UTC:20270929T160000
DTSTAMP:20260423T084651
CREATED:20260415T170108Z
LAST-MODIFIED:20260415T170119Z
UID:10004591-1822230000-1822233600@www.orovalley.org
SUMMARY:Scripture & Salsa
DESCRIPTION:You are invited to join Pastor Carol every Wednesday from 3:00 – 4:00 PM at Mi Tierra Mexican Restaurant in Catalina starting January 8th for an informal discussion of the Bible texts for the upcoming weekend’s worship. No registration is required and there is no long-term commitment. Just grab your Bible and drop by.
URL:https://www.orovalley.org/event/scripture-salsa-3/2027-09-29/
END:VEVENT
BEGIN:VEVENT
DTSTART;TZID=UTC:20270930T130000
DTEND;TZID=UTC:20270930T160000
DTSTAMP:20260423T084651
CREATED:20241213T002356Z
LAST-MODIFIED:20241213T002359Z
UID:10004193-1822309200-1822320000@www.orovalley.org
SUMMARY:Matching Dragons Mah Jongg
DESCRIPTION:Do you play the game of (American) Mah Jongg and have been looking for a group to play with? Join us on Thursday afternoons 1:00-4:00 PM in Luther’s Lair in the Outreach Center. These are friendly games. We do NOT play for money but we ALWAYS have a good time. This group is for those who already know how to play the game. However\, anyone is invited to come observe to see if they would like to learn to play the game. Questions? Contact Jackie Verdick at jackieverdick@gmail.com or 612-554-0111.
URL:https://www.orovalley.org/event/matching-dragons-mah-jongg/2027-09-30/
END:VEVENT
BEGIN:VEVENT
DTSTART;TZID=UTC:20270930T130000
DTEND;TZID=UTC:20270930T160000
DTSTAMP:20260423T084651
CREATED:20251107T191455Z
LAST-MODIFIED:20251107T191616Z
UID:10005843-1822309200-1822320000@www.orovalley.org
SUMMARY:Art by Heart Open Studio
DESCRIPTION:
URL:https://www.orovalley.org/event/art-by-heart-open-studio/2027-09-30/
END:VEVENT
BEGIN:VEVENT
DTSTART;TZID=UTC:20271002T170000
DTEND;TZID=UTC:20271002T180000
DTSTAMP:20260423T084651
CREATED:20240130T000623Z
LAST-MODIFIED:20240228T201059Z
UID:10002437-1822496400-1822500000@www.orovalley.org
SUMMARY:5:00 Worship
DESCRIPTION:Join us for worship!  \n\n\n\n\nWorship Online Here\n\n\n\nOnline Bulletins Here
URL:https://www.orovalley.org/event/500-worship-2/2027-10-02/
LOCATION:Oro Valley Sanctuary
CATEGORIES:Worship
ATTACH;FMTTYPE=image/jpeg:https://www.orovalley.org/wp-content/uploads/2023/08/CopyrightTaylorNoelPhotography2021-175-354e5a6-scaled.jpg
END:VEVENT
BEGIN:VEVENT
DTSTART;TZID=UTC:20271003T090000
DTEND;TZID=UTC:20271003T100000
DTSTAMP:20260423T084651
CREATED:20240106T184634Z
LAST-MODIFIED:20240228T200602Z
UID:10001819-1822554000-1822557600@www.orovalley.org
SUMMARY:Worship at SaddleBrooke
DESCRIPTION:Worship Online Here\n\n\n\nOnline Bulletin Here
URL:https://www.orovalley.org/event/worship-at-saddlebrooke/2027-10-03/
LOCATION:SaddleBrooke\, SaddleBrooke HOA2 Clubhouse\, Tucson\, Arizona\, 85739
CATEGORIES:Worship
ATTACH;FMTTYPE=image/jpeg:https://www.orovalley.org/wp-content/uploads/2023/08/sb-worship-pic_3.jpg
END:VEVENT
BEGIN:VEVENT
DTSTART;TZID=UTC:20271005T130000
DTEND;TZID=UTC:20271005T160000
DTSTAMP:20260423T084651
CREATED:20260210T184404Z
LAST-MODIFIED:20260210T202351Z
UID:10006901-1822741200-1822752000@www.orovalley.org
SUMMARY:Art by Heart Glass Classes
DESCRIPTION:Art by Heart Studio
URL:https://www.orovalley.org/event/art-by-heart-glass-classes/2027-10-05/
END:VEVENT
BEGIN:VEVENT
DTSTART;TZID=UTC:20271006T150000
DTEND;TZID=UTC:20271006T160000
DTSTAMP:20260423T084651
CREATED:20260415T170108Z
LAST-MODIFIED:20260415T170119Z
UID:10004592-1822834800-1822838400@www.orovalley.org
SUMMARY:Scripture & Salsa
DESCRIPTION:You are invited to join Pastor Carol every Wednesday from 3:00 – 4:00 PM at Mi Tierra Mexican Restaurant in Catalina starting January 8th for an informal discussion of the Bible texts for the upcoming weekend’s worship. No registration is required and there is no long-term commitment. Just grab your Bible and drop by.
URL:https://www.orovalley.org/event/scripture-salsa-3/2027-10-06/
END:VEVENT
BEGIN:VEVENT
DTSTART;TZID=UTC:20271007T130000
DTEND;TZID=UTC:20271007T160000
DTSTAMP:20260423T084651
CREATED:20241213T002356Z
LAST-MODIFIED:20241213T002359Z
UID:10004194-1822914000-1822924800@www.orovalley.org
SUMMARY:Matching Dragons Mah Jongg
DESCRIPTION:Do you play the game of (American) Mah Jongg and have been looking for a group to play with? Join us on Thursday afternoons 1:00-4:00 PM in Luther’s Lair in the Outreach Center. These are friendly games. We do NOT play for money but we ALWAYS have a good time. This group is for those who already know how to play the game. However\, anyone is invited to come observe to see if they would like to learn to play the game. Questions? Contact Jackie Verdick at jackieverdick@gmail.com or 612-554-0111.
URL:https://www.orovalley.org/event/matching-dragons-mah-jongg/2027-10-07/
END:VEVENT
BEGIN:VEVENT
DTSTART;TZID=UTC:20271007T130000
DTEND;TZID=UTC:20271007T160000
DTSTAMP:20260423T084651
CREATED:20251107T191455Z
LAST-MODIFIED:20251107T191616Z
UID:10005844-1822914000-1822924800@www.orovalley.org
SUMMARY:Art by Heart Open Studio
DESCRIPTION:
URL:https://www.orovalley.org/event/art-by-heart-open-studio/2027-10-07/
END:VEVENT
BEGIN:VEVENT
DTSTART;TZID=UTC:20271009T080000
DTEND;TZID=UTC:20271009T100000
DTSTAMP:20260423T084651
CREATED:20260409T172217Z
LAST-MODIFIED:20260409T172226Z
UID:10008299-1823068800-1823076000@www.orovalley.org
SUMMARY:Men's Bible Study
DESCRIPTION:Uses the Serendipity Bible\, copies are available. All men of the church are welcome to attend. Meets in Luther’s Lair.
URL:https://www.orovalley.org/event/mens-bible-study-13/2027-10-09/
END:VEVENT
BEGIN:VEVENT
DTSTART;TZID=UTC:20271009T170000
DTEND;TZID=UTC:20271009T180000
DTSTAMP:20260423T084651
CREATED:20240130T000623Z
LAST-MODIFIED:20240228T201059Z
UID:10002438-1823101200-1823104800@www.orovalley.org
SUMMARY:5:00 Worship
DESCRIPTION:Join us for worship!  \n\n\n\n\nWorship Online Here\n\n\n\nOnline Bulletins Here
URL:https://www.orovalley.org/event/500-worship-2/2027-10-09/
LOCATION:Oro Valley Sanctuary
CATEGORIES:Worship
ATTACH;FMTTYPE=image/jpeg:https://www.orovalley.org/wp-content/uploads/2023/08/CopyrightTaylorNoelPhotography2021-175-354e5a6-scaled.jpg
END:VEVENT
BEGIN:VEVENT
DTSTART;TZID=UTC:20271010T090000
DTEND;TZID=UTC:20271010T100000
DTSTAMP:20260423T084651
CREATED:20240106T184634Z
LAST-MODIFIED:20240228T200602Z
UID:10001820-1823158800-1823162400@www.orovalley.org
SUMMARY:Worship at SaddleBrooke
DESCRIPTION:Worship Online Here\n\n\n\nOnline Bulletin Here
URL:https://www.orovalley.org/event/worship-at-saddlebrooke/2027-10-10/
LOCATION:SaddleBrooke\, SaddleBrooke HOA2 Clubhouse\, Tucson\, Arizona\, 85739
CATEGORIES:Worship
ATTACH;FMTTYPE=image/jpeg:https://www.orovalley.org/wp-content/uploads/2023/08/sb-worship-pic_3.jpg
END:VEVENT
BEGIN:VEVENT
DTSTART;TZID=UTC:20271012T130000
DTEND;TZID=UTC:20271012T160000
DTSTAMP:20260423T084651
CREATED:20260210T184404Z
LAST-MODIFIED:20260210T202351Z
UID:10006902-1823346000-1823356800@www.orovalley.org
SUMMARY:Art by Heart Glass Classes
DESCRIPTION:Art by Heart Studio
URL:https://www.orovalley.org/event/art-by-heart-glass-classes/2027-10-12/
END:VEVENT
BEGIN:VEVENT
DTSTART;TZID=UTC:20271012T183000
DTEND;TZID=UTC:20271012T203000
DTSTAMP:20260423T084651
CREATED:20251111T170454Z
LAST-MODIFIED:20251111T170509Z
UID:10003803-1823365800-1823373000@www.orovalley.org
SUMMARY:Resurrection Card Players
DESCRIPTION:RLC Card Players meets every second and fourth Tuesday of the month in the Music Room. No reservation necessary. Please bring a snack to share and your own beverage. We play a variety of card games and we’re happy to teach you if you don’t know how to play. Everyone is welcome.
URL:https://www.orovalley.org/event/resurrection-card-players-5/2027-10-12/
END:VEVENT
BEGIN:VEVENT
DTSTART;TZID=UTC:20271013T150000
DTEND;TZID=UTC:20271013T160000
DTSTAMP:20260423T084651
CREATED:20260415T170108Z
LAST-MODIFIED:20260415T170119Z
UID:10004593-1823439600-1823443200@www.orovalley.org
SUMMARY:Scripture & Salsa
DESCRIPTION:You are invited to join Pastor Carol every Wednesday from 3:00 – 4:00 PM at Mi Tierra Mexican Restaurant in Catalina starting January 8th for an informal discussion of the Bible texts for the upcoming weekend’s worship. No registration is required and there is no long-term commitment. Just grab your Bible and drop by.
URL:https://www.orovalley.org/event/scripture-salsa-3/2027-10-13/
END:VEVENT
BEGIN:VEVENT
DTSTART;TZID=UTC:20271014T130000
DTEND;TZID=UTC:20271014T160000
DTSTAMP:20260423T084651
CREATED:20241213T002356Z
LAST-MODIFIED:20241213T002359Z
UID:10004195-1823518800-1823529600@www.orovalley.org
SUMMARY:Matching Dragons Mah Jongg
DESCRIPTION:Do you play the game of (American) Mah Jongg and have been looking for a group to play with? Join us on Thursday afternoons 1:00-4:00 PM in Luther’s Lair in the Outreach Center. These are friendly games. We do NOT play for money but we ALWAYS have a good time. This group is for those who already know how to play the game. However\, anyone is invited to come observe to see if they would like to learn to play the game. Questions? Contact Jackie Verdick at jackieverdick@gmail.com or 612-554-0111.
URL:https://www.orovalley.org/event/matching-dragons-mah-jongg/2027-10-14/
END:VEVENT
BEGIN:VEVENT
DTSTART;TZID=UTC:20271014T130000
DTEND;TZID=UTC:20271014T160000
DTSTAMP:20260423T084651
CREATED:20251107T191455Z
LAST-MODIFIED:20251107T191616Z
UID:10005845-1823518800-1823529600@www.orovalley.org
SUMMARY:Art by Heart Open Studio
DESCRIPTION:
URL:https://www.orovalley.org/event/art-by-heart-open-studio/2027-10-14/
END:VEVENT
BEGIN:VEVENT
DTSTART;TZID=UTC:20271016T090000
DTEND;TZID=UTC:20271016T110000
DTSTAMP:20260423T084651
CREATED:20260210T201725Z
LAST-MODIFIED:20260210T201733Z
UID:10006786-1823677200-1823684400@www.orovalley.org
SUMMARY:Faithful Living Fellowship
DESCRIPTION:Oro Valley \n\n\n\nWe meet for coffee\, snacks and fellowship\, followed by a film and small discussion groups. We will study the book “Embracing Trust” by Joanna Weaver. Sign up on the website under the Learn section.
URL:https://www.orovalley.org/event/faithful-living-fellowship-3/2027-10-16/
END:VEVENT
BEGIN:VEVENT
DTSTART;TZID=UTC:20271016T170000
DTEND;TZID=UTC:20271016T180000
DTSTAMP:20260423T084651
CREATED:20240130T000623Z
LAST-MODIFIED:20240228T201059Z
UID:10002439-1823706000-1823709600@www.orovalley.org
SUMMARY:5:00 Worship
DESCRIPTION:Join us for worship!  \n\n\n\n\nWorship Online Here\n\n\n\nOnline Bulletins Here
URL:https://www.orovalley.org/event/500-worship-2/2027-10-16/
LOCATION:Oro Valley Sanctuary
CATEGORIES:Worship
ATTACH;FMTTYPE=image/jpeg:https://www.orovalley.org/wp-content/uploads/2023/08/CopyrightTaylorNoelPhotography2021-175-354e5a6-scaled.jpg
END:VEVENT
BEGIN:VEVENT
DTSTART;TZID=UTC:20271017T090000
DTEND;TZID=UTC:20271017T100000
DTSTAMP:20260423T084651
CREATED:20240106T184634Z
LAST-MODIFIED:20240228T200602Z
UID:10001821-1823763600-1823767200@www.orovalley.org
SUMMARY:Worship at SaddleBrooke
DESCRIPTION:Worship Online Here\n\n\n\nOnline Bulletin Here
URL:https://www.orovalley.org/event/worship-at-saddlebrooke/2027-10-17/
LOCATION:SaddleBrooke\, SaddleBrooke HOA2 Clubhouse\, Tucson\, Arizona\, 85739
CATEGORIES:Worship
ATTACH;FMTTYPE=image/jpeg:https://www.orovalley.org/wp-content/uploads/2023/08/sb-worship-pic_3.jpg
END:VEVENT
BEGIN:VEVENT
DTSTART;TZID=UTC:20271019T130000
DTEND;TZID=UTC:20271019T160000
DTSTAMP:20260423T084651
CREATED:20260210T184404Z
LAST-MODIFIED:20260210T202351Z
UID:10006903-1823950800-1823961600@www.orovalley.org
SUMMARY:Art by Heart Glass Classes
DESCRIPTION:Art by Heart Studio
URL:https://www.orovalley.org/event/art-by-heart-glass-classes/2027-10-19/
END:VEVENT
BEGIN:VEVENT
DTSTART;TZID=UTC:20271020T103000
DTEND;TZID=UTC:20271020T120000
DTSTAMP:20260423T084651
CREATED:20240617T222009Z
LAST-MODIFIED:20240617T222059Z
UID:10003568-1824028200-1824033600@www.orovalley.org
SUMMARY:Parkinson's Support Group
DESCRIPTION:This support group provides encouragement from meeting with others who have Parkinson’s disease\, and for the care givers of those with Parkinson’s. The meetings provide an opportunity to discuss experiences and feelings and to share solutions to common problems.  Meets every 3rd Wednesday of the month in the High School Youth Room.
URL:https://www.orovalley.org/event/parkinsons-support-group-3/2027-10-20/
LOCATION:Youth Room
CATEGORIES:Congregational Care,Serve
ATTACH;FMTTYPE=image/jpeg:https://www.orovalley.org/wp-content/uploads/2024/06/Graphics-3.jpg
END:VEVENT
BEGIN:VEVENT
DTSTART;TZID=UTC:20271020T150000
DTEND;TZID=UTC:20271020T160000
DTSTAMP:20260423T084651
CREATED:20260415T170108Z
LAST-MODIFIED:20260415T170119Z
UID:10004594-1824044400-1824048000@www.orovalley.org
SUMMARY:Scripture & Salsa
DESCRIPTION:You are invited to join Pastor Carol every Wednesday from 3:00 – 4:00 PM at Mi Tierra Mexican Restaurant in Catalina starting January 8th for an informal discussion of the Bible texts for the upcoming weekend’s worship. No registration is required and there is no long-term commitment. Just grab your Bible and drop by.
URL:https://www.orovalley.org/event/scripture-salsa-3/2027-10-20/
END:VEVENT
END:VCALENDAR