BEGIN:VCALENDAR
VERSION:2.0
PRODID:-//Resurrection Lutheran Church - ECPv6.15.20//NONSGML v1.0//EN
CALSCALE:GREGORIAN
METHOD:PUBLISH
X-ORIGINAL-URL:https://www.orovalley.org
X-WR-CALDESC:Events for Resurrection Lutheran Church
REFRESH-INTERVAL;VALUE=DURATION:PT1H
X-Robots-Tag:noindex
X-PUBLISHED-TTL:PT1H
BEGIN:VTIMEZONE
TZID:UTC
BEGIN:STANDARD
TZOFFSETFROM:+0000
TZOFFSETTO:+0000
TZNAME:UTC
DTSTART:20250101T000000
END:STANDARD
END:VTIMEZONE
BEGIN:VEVENT
DTSTART;TZID=UTC:20260328T090000
DTEND;TZID=UTC:20260328T110000
DTSTAMP:20260423T200307
CREATED:20260216T191755Z
LAST-MODIFIED:20260216T191759Z
UID:10007214-1774688400-1774695600@www.orovalley.org
SUMMARY:SaddleBrooke Women’s Bible Study
DESCRIPTION:
URL:https://www.orovalley.org/event/saddlebrooke-womens-bible-study-2/2026-03-28/
END:VEVENT
BEGIN:VEVENT
DTSTART;TZID=UTC:20260328T170000
DTEND;TZID=UTC:20260328T180000
DTSTAMP:20260423T200307
CREATED:20240130T000623Z
LAST-MODIFIED:20240228T201059Z
UID:10002358-1774717200-1774720800@www.orovalley.org
SUMMARY:5:00 Worship
DESCRIPTION:Join us for worship!  \n\n\n\n\nWorship Online Here\n\n\n\nOnline Bulletins Here
URL:https://www.orovalley.org/event/500-worship-2/2026-03-28/
LOCATION:Oro Valley Sanctuary
CATEGORIES:Worship
ATTACH;FMTTYPE=image/jpeg:https://www.orovalley.org/wp-content/uploads/2023/08/CopyrightTaylorNoelPhotography2021-175-354e5a6-scaled.jpg
END:VEVENT
BEGIN:VEVENT
DTSTART;TZID=UTC:20260329T074500
DTEND;TZID=UTC:20260329T084500
DTSTAMP:20260423T200307
CREATED:20250605T233406Z
LAST-MODIFIED:20250605T233413Z
UID:10000122-1774770300-1774773900@www.orovalley.org
SUMMARY:7:45 Worship
DESCRIPTION:Traditional Worship. Music provided by Resurrection’s Chancel Choir \n\n\n\n\nWorship Online Here\n\n\n\n\n \n\n\n\n\nOnline Bulletins Here
URL:https://www.orovalley.org/event/745-worship-9/2026-03-29/
LOCATION:Oro Valley Sanctuary
CATEGORIES:Worship
ATTACH;FMTTYPE=image/jpeg:https://www.orovalley.org/wp-content/uploads/2023/12/CopyrightTaylorNoelPhotography2021-158-scaled.jpg
END:VEVENT
BEGIN:VEVENT
DTSTART;TZID=UTC:20260329T080000
DTEND;TZID=UTC:20260329T170000
DTSTAMP:20260423T200307
CREATED:20260310T194426Z
LAST-MODIFIED:20260310T194440Z
UID:10007220-1774771200-1774803600@www.orovalley.org
SUMMARY:Palm Weekend
DESCRIPTION:During Regular Service Times
URL:https://www.orovalley.org/event/palm-weekend/2026-03-29/
END:VEVENT
BEGIN:VEVENT
DTSTART;TZID=UTC:20260329T090000
DTEND;TZID=UTC:20260329T100000
DTSTAMP:20260423T200307
CREATED:20240106T184634Z
LAST-MODIFIED:20240228T200602Z
UID:10001740-1774774800-1774778400@www.orovalley.org
SUMMARY:Worship at SaddleBrooke
DESCRIPTION:Worship Online Here\n\n\n\nOnline Bulletin Here
URL:https://www.orovalley.org/event/worship-at-saddlebrooke/2026-03-29/
LOCATION:SaddleBrooke\, SaddleBrooke HOA2 Clubhouse\, Tucson\, Arizona\, 85739
CATEGORIES:Worship
ATTACH;FMTTYPE=image/jpeg:https://www.orovalley.org/wp-content/uploads/2023/08/sb-worship-pic_3.jpg
END:VEVENT
BEGIN:VEVENT
DTSTART;TZID=UTC:20260329T104500
DTEND;TZID=UTC:20260329T114500
DTSTAMP:20260423T200307
CREATED:20250610T165108Z
LAST-MODIFIED:20250610T165111Z
UID:10005029-1774781100-1774784700@www.orovalley.org
SUMMARY:10:45 Worship - Contemporary
DESCRIPTION:Sunday School\, Confirmation\, High School Sunday School \n\n\n\nChildcare Available \n\n\n\n\nWorship Online Here
URL:https://www.orovalley.org/event/1045-worship-contemporary-7/2026-03-29/
LOCATION:Oro Valley Sanctuary
CATEGORIES:Worship
ATTACH;FMTTYPE=image/jpeg:https://www.orovalley.org/wp-content/uploads/2023/11/CopyrightTaylorNoelPhotography2021-200-scaled.jpg
END:VEVENT
BEGIN:VEVENT
DTSTART;TZID=UTC:20260330T080000
DTEND;TZID=UTC:20260330T170000
DTSTAMP:20260423T200307
CREATED:20260310T204145Z
LAST-MODIFIED:20260310T204152Z
UID:10007232-1774857600-1774890000@www.orovalley.org
SUMMARY:FLIM Golf Outing
DESCRIPTION:Oro Valley Country Club
URL:https://www.orovalley.org/event/flim-golf-outing/
LOCATION:Oro Valley Country Club
END:VEVENT
BEGIN:VEVENT
DTSTART;TZID=UTC:20260331T130000
DTEND;TZID=UTC:20260331T160000
DTSTAMP:20260423T200307
CREATED:20260210T184404Z
LAST-MODIFIED:20260210T202351Z
UID:10006822-1774962000-1774972800@www.orovalley.org
SUMMARY:Art by Heart Glass Classes
DESCRIPTION:Art by Heart Studio
URL:https://www.orovalley.org/event/art-by-heart-glass-classes/2026-03-31/
END:VEVENT
BEGIN:VEVENT
DTSTART;TZID=UTC:20260331T131500
DTEND;TZID=UTC:20260331T170000
DTSTAMP:20260423T200307
CREATED:20260310T204755Z
LAST-MODIFIED:20260310T204802Z
UID:10007233-1774962900-1774976400@www.orovalley.org
SUMMARY:Primavera Men’s Shelter Meal Prep
DESCRIPTION:
URL:https://www.orovalley.org/event/primavera-mens-shelter-meal-prep/2026-03-31/
LOCATION:Oro Valley Outreach Center
END:VEVENT
BEGIN:VEVENT
DTSTART;TZID=UTC:20260401T150000
DTEND;TZID=UTC:20260401T160000
DTSTAMP:20260423T200307
CREATED:20250701T214646Z
LAST-MODIFIED:20250701T214652Z
UID:10004513-1775055600-1775059200@www.orovalley.org
SUMMARY:Scripture & Salsa
DESCRIPTION:You are invited to join Pastor Carol every Wednesday from 3:00 – 4:00 PM at Mi Tierra Mexican Restaurant in Catalina starting January 8th for an informal discussion of the Bible texts for the upcoming weekend’s worship. No registration is required and there is no long-term commitment. Just grab your Bible and drop by.
URL:https://www.orovalley.org/event/scripture-salsa-2/2026-04-01/
END:VEVENT
BEGIN:VEVENT
DTSTART;TZID=UTC:20260402T120000
DTEND;TZID=UTC:20260402T130000
DTSTAMP:20260423T200307
CREATED:20260310T195930Z
LAST-MODIFIED:20260310T195936Z
UID:10007221-1775131200-1775134800@www.orovalley.org
SUMMARY:Maundy Thursday
DESCRIPTION:
URL:https://www.orovalley.org/event/maundy-thursday-2/2026-04-02/1/
END:VEVENT
BEGIN:VEVENT
DTSTART;TZID=UTC:20260402T130000
DTEND;TZID=UTC:20260402T160000
DTSTAMP:20260423T200307
CREATED:20241213T002356Z
LAST-MODIFIED:20241213T002359Z
UID:10004115-1775134800-1775145600@www.orovalley.org
SUMMARY:Matching Dragons Mah Jongg
DESCRIPTION:Do you play the game of (American) Mah Jongg and have been looking for a group to play with? Join us on Thursday afternoons 1:00-4:00 PM in Luther’s Lair in the Outreach Center. These are friendly games. We do NOT play for money but we ALWAYS have a good time. This group is for those who already know how to play the game. However\, anyone is invited to come observe to see if they would like to learn to play the game. Questions? Contact Jackie Verdick at jackieverdick@gmail.com or 612-554-0111.
URL:https://www.orovalley.org/event/matching-dragons-mah-jongg/2026-04-02/
END:VEVENT
BEGIN:VEVENT
DTSTART;TZID=UTC:20260402T130000
DTEND;TZID=UTC:20260402T160000
DTSTAMP:20260423T200307
CREATED:20251107T191455Z
LAST-MODIFIED:20251107T191616Z
UID:10005765-1775134800-1775145600@www.orovalley.org
SUMMARY:Art by Heart Open Studio
DESCRIPTION:
URL:https://www.orovalley.org/event/art-by-heart-open-studio/2026-04-02/
END:VEVENT
BEGIN:VEVENT
DTSTART;TZID=UTC:20260402T181500
DTEND;TZID=UTC:20260402T191500
DTSTAMP:20260423T200307
CREATED:20260310T195930Z
LAST-MODIFIED:20260310T195936Z
UID:10007222-1775153700-1775157300@www.orovalley.org
SUMMARY:Maundy Thursday
DESCRIPTION:
URL:https://www.orovalley.org/event/maundy-thursday-2/2026-04-02/2/
END:VEVENT
BEGIN:VEVENT
DTSTART;TZID=UTC:20260403T081500
DTEND;TZID=UTC:20260403T170000
DTSTAMP:20260423T200307
CREATED:20260310T204755Z
LAST-MODIFIED:20260310T204802Z
UID:10007234-1775204100-1775235600@www.orovalley.org
SUMMARY:Primavera Men’s Shelter Meal Prep
DESCRIPTION:
URL:https://www.orovalley.org/event/primavera-mens-shelter-meal-prep/2026-04-03/
LOCATION:Oro Valley Outreach Center
END:VEVENT
BEGIN:VEVENT
DTSTART;TZID=UTC:20260403T120000
DTEND;TZID=UTC:20260403T130000
DTSTAMP:20260423T200307
CREATED:20260310T200526Z
LAST-MODIFIED:20260310T200533Z
UID:10007223-1775217600-1775221200@www.orovalley.org
SUMMARY:Good Friday
DESCRIPTION:Traditional Service
URL:https://www.orovalley.org/event/good-friday/2026-04-03/1/
END:VEVENT
BEGIN:VEVENT
DTSTART;TZID=UTC:20260403T181500
DTEND;TZID=UTC:20260403T191500
DTSTAMP:20260423T200307
CREATED:20260310T200526Z
LAST-MODIFIED:20260310T200533Z
UID:10007224-1775240100-1775243700@www.orovalley.org
SUMMARY:Good Friday
DESCRIPTION:Traditional Service
URL:https://www.orovalley.org/event/good-friday/2026-04-03/2/
END:VEVENT
BEGIN:VEVENT
DTSTART;TZID=UTC:20260404T170000
DTEND;TZID=UTC:20260404T180000
DTSTAMP:20260423T200307
CREATED:20240130T000623Z
LAST-MODIFIED:20240228T201059Z
UID:10002359-1775322000-1775325600@www.orovalley.org
SUMMARY:5:00 Worship
DESCRIPTION:Join us for worship!  \n\n\n\n\nWorship Online Here\n\n\n\nOnline Bulletins Here
URL:https://www.orovalley.org/event/500-worship-2/2026-04-04/
LOCATION:Oro Valley Sanctuary
CATEGORIES:Worship
ATTACH;FMTTYPE=image/jpeg:https://www.orovalley.org/wp-content/uploads/2023/08/CopyrightTaylorNoelPhotography2021-175-354e5a6-scaled.jpg
END:VEVENT
BEGIN:VEVENT
DTSTART;TZID=UTC:20260404T170000
DTEND;TZID=UTC:20260404T180000
DTSTAMP:20260423T200307
CREATED:20260310T200946Z
LAST-MODIFIED:20260310T200954Z
UID:10007225-1775322000-1775325600@www.orovalley.org
SUMMARY:Easter Services
DESCRIPTION:
URL:https://www.orovalley.org/event/easter-services/
END:VEVENT
BEGIN:VEVENT
DTSTART;TZID=UTC:20260405T074500
DTEND;TZID=UTC:20260405T084500
DTSTAMP:20260423T200307
CREATED:20250605T233406Z
LAST-MODIFIED:20250605T233413Z
UID:10000123-1775375100-1775378700@www.orovalley.org
SUMMARY:7:45 Worship
DESCRIPTION:Traditional Worship. Music provided by Resurrection’s Chancel Choir \n\n\n\n\nWorship Online Here\n\n\n\n\n \n\n\n\n\nOnline Bulletins Here
URL:https://www.orovalley.org/event/745-worship-9/2026-04-05/
LOCATION:Oro Valley Sanctuary
CATEGORIES:Worship
ATTACH;FMTTYPE=image/jpeg:https://www.orovalley.org/wp-content/uploads/2023/12/CopyrightTaylorNoelPhotography2021-158-scaled.jpg
END:VEVENT
BEGIN:VEVENT
DTSTART;TZID=UTC:20260405T090000
DTEND;TZID=UTC:20260405T100000
DTSTAMP:20260423T200307
CREATED:20240106T184634Z
LAST-MODIFIED:20240228T200602Z
UID:10001741-1775379600-1775383200@www.orovalley.org
SUMMARY:Worship at SaddleBrooke
DESCRIPTION:Worship Online Here\n\n\n\nOnline Bulletin Here
URL:https://www.orovalley.org/event/worship-at-saddlebrooke/2026-04-05/
LOCATION:SaddleBrooke\, SaddleBrooke HOA2 Clubhouse\, Tucson\, Arizona\, 85739
CATEGORIES:Worship
ATTACH;FMTTYPE=image/jpeg:https://www.orovalley.org/wp-content/uploads/2023/08/sb-worship-pic_3.jpg
END:VEVENT
BEGIN:VEVENT
DTSTART;TZID=UTC:20260405T104500
DTEND;TZID=UTC:20260405T114500
DTSTAMP:20260423T200307
CREATED:20250610T165108Z
LAST-MODIFIED:20250610T165111Z
UID:10005030-1775385900-1775389500@www.orovalley.org
SUMMARY:10:45 Worship - Contemporary
DESCRIPTION:Sunday School\, Confirmation\, High School Sunday School \n\n\n\nChildcare Available \n\n\n\n\nWorship Online Here
URL:https://www.orovalley.org/event/1045-worship-contemporary-7/2026-04-05/
LOCATION:Oro Valley Sanctuary
CATEGORIES:Worship
ATTACH;FMTTYPE=image/jpeg:https://www.orovalley.org/wp-content/uploads/2023/11/CopyrightTaylorNoelPhotography2021-200-scaled.jpg
END:VEVENT
BEGIN:VEVENT
DTSTART;TZID=UTC:20260406T080000
DTEND;TZID=UTC:20260407T170000
DTSTAMP:20260423T200307
CREATED:20260407T191748Z
LAST-MODIFIED:20260407T191754Z
UID:10008103-1775462400-1775581200@www.orovalley.org
SUMMARY:Offices and Campus Closed
DESCRIPTION:
URL:https://www.orovalley.org/event/offices-and-campus-closed-2/
END:VEVENT
BEGIN:VEVENT
DTSTART;TZID=UTC:20260406T183000
DTEND;TZID=UTC:20260406T200000
DTSTAMP:20260423T200307
CREATED:20251107T183956Z
LAST-MODIFIED:20260408T223906Z
UID:10005608-1775500200-1775505600@www.orovalley.org
SUMMARY:Half Truths Book Study
DESCRIPTION:The book study will be held in Katie’s Quarters.
URL:https://www.orovalley.org/event/half-truths-book-study/2026-04-06/
END:VEVENT
BEGIN:VEVENT
DTSTART;TZID=UTC:20260407T130000
DTEND;TZID=UTC:20260407T160000
DTSTAMP:20260423T200307
CREATED:20260210T184404Z
LAST-MODIFIED:20260210T202351Z
UID:10006823-1775566800-1775577600@www.orovalley.org
SUMMARY:Art by Heart Glass Classes
DESCRIPTION:Art by Heart Studio
URL:https://www.orovalley.org/event/art-by-heart-glass-classes/2026-04-07/
END:VEVENT
BEGIN:VEVENT
DTSTART;TZID=UTC:20260408T150000
DTEND;TZID=UTC:20260408T160000
DTSTAMP:20260423T200307
CREATED:20250701T214646Z
LAST-MODIFIED:20250701T214652Z
UID:10004514-1775660400-1775664000@www.orovalley.org
SUMMARY:Scripture & Salsa
DESCRIPTION:You are invited to join Pastor Carol every Wednesday from 3:00 – 4:00 PM at Mi Tierra Mexican Restaurant in Catalina starting January 8th for an informal discussion of the Bible texts for the upcoming weekend’s worship. No registration is required and there is no long-term commitment. Just grab your Bible and drop by.
URL:https://www.orovalley.org/event/scripture-salsa-2/2026-04-08/
END:VEVENT
BEGIN:VEVENT
DTSTART;TZID=UTC:20260409T130000
DTEND;TZID=UTC:20260409T160000
DTSTAMP:20260423T200307
CREATED:20241213T002356Z
LAST-MODIFIED:20241213T002359Z
UID:10004116-1775739600-1775750400@www.orovalley.org
SUMMARY:Matching Dragons Mah Jongg
DESCRIPTION:Do you play the game of (American) Mah Jongg and have been looking for a group to play with? Join us on Thursday afternoons 1:00-4:00 PM in Luther’s Lair in the Outreach Center. These are friendly games. We do NOT play for money but we ALWAYS have a good time. This group is for those who already know how to play the game. However\, anyone is invited to come observe to see if they would like to learn to play the game. Questions? Contact Jackie Verdick at jackieverdick@gmail.com or 612-554-0111.
URL:https://www.orovalley.org/event/matching-dragons-mah-jongg/2026-04-09/
END:VEVENT
BEGIN:VEVENT
DTSTART;TZID=UTC:20260409T130000
DTEND;TZID=UTC:20260409T160000
DTSTAMP:20260423T200307
CREATED:20251107T191455Z
LAST-MODIFIED:20251107T191616Z
UID:10005766-1775739600-1775750400@www.orovalley.org
SUMMARY:Art by Heart Open Studio
DESCRIPTION:
URL:https://www.orovalley.org/event/art-by-heart-open-studio/2026-04-09/
END:VEVENT
BEGIN:VEVENT
DTSTART;TZID=UTC:20260410T123000
DTEND;TZID=UTC:20260410T133000
DTSTAMP:20260423T200307
CREATED:20260407T184408Z
LAST-MODIFIED:20260407T184801Z
UID:10008089-1775824200-1775827800@www.orovalley.org
SUMMARY:Ladies Luncheon
DESCRIPTION:Ladies Luncheon at Harvest Restaurant.
URL:https://www.orovalley.org/event/ladies-luncheon-20/
LOCATION:Harvest Restaurant\, 10355 N La Cañada Dr.\, Oro Valley\, Arizona\, 85737\, United States
END:VEVENT
BEGIN:VEVENT
DTSTART;TZID=UTC:20260411T080000
DTEND;TZID=UTC:20260411T100000
DTSTAMP:20260423T200307
CREATED:20260409T171016Z
LAST-MODIFIED:20260409T171405Z
UID:10004334-1775894400-1775901600@www.orovalley.org
SUMMARY:Men's Bible Study
DESCRIPTION:Uses the Serendipity Bible\, copies are available. All men of the church are welcome to attend. Meets in Luther’s Lair.
URL:https://www.orovalley.org/event/mens-bible-study-12/
END:VEVENT
END:VCALENDAR