BEGIN:VCALENDAR
VERSION:2.0
PRODID:-//Resurrection Lutheran Church - ECPv6.15.17//NONSGML v1.0//EN
CALSCALE:GREGORIAN
METHOD:PUBLISH
X-WR-CALNAME:Resurrection Lutheran Church
X-ORIGINAL-URL:https://www.orovalley.org
X-WR-CALDESC:Events for Resurrection Lutheran Church
REFRESH-INTERVAL;VALUE=DURATION:PT1H
X-Robots-Tag:noindex
X-PUBLISHED-TTL:PT1H
BEGIN:VTIMEZONE
TZID:UTC
BEGIN:STANDARD
TZOFFSETFROM:+0000
TZOFFSETTO:+0000
TZNAME:UTC
DTSTART:20240101T000000
END:STANDARD
END:VTIMEZONE
BEGIN:VEVENT
DTSTART;TZID=UTC:20250201T073000
DTEND;TZID=UTC:20250201T093000
DTSTAMP:20260419T180954
CREATED:20241217T203648Z
LAST-MODIFIED:20241217T203716Z
UID:10002537-1738395000-1738402200@www.orovalley.org
SUMMARY:Men's Breakfast
DESCRIPTION:This group meets monthly\, October through May on the first Saturday of the month\, for breakfast\, socializing and learning. There is always a guest speaker. Catered breakfast is included with the $15 cost of admission. \n\n\n\nThis months speaker will be announced closer to the event date.  \n\n\n\nClick Here to RSVP
URL:https://www.orovalley.org/event/mens-breakfast-6/2025-02-01/
LOCATION:Outreach Center Gymnasium\, 11575 N 1st Ave\, Oro Valley\, AZ\, 85737\, United States
CATEGORIES:Men's Breakfast
ATTACH;FMTTYPE=image/jpeg:https://www.orovalley.org/wp-content/uploads/2023/12/27.jpg
END:VEVENT
BEGIN:VEVENT
DTSTART;TZID=UTC:20250130T130000
DTEND;TZID=UTC:20250130T160000
DTSTAMP:20260419T180954
CREATED:20241213T002356Z
LAST-MODIFIED:20241213T002359Z
UID:10004054-1738242000-1738252800@www.orovalley.org
SUMMARY:Matching Dragons Mah Jongg
DESCRIPTION:Do you play the game of (American) Mah Jongg and have been looking for a group to play with? Join us on Thursday afternoons 1:00-4:00 PM in Luther’s Lair in the Outreach Center. These are friendly games. We do NOT play for money but we ALWAYS have a good time. This group is for those who already know how to play the game. However\, anyone is invited to come observe to see if they would like to learn to play the game. Questions? Contact Jackie Verdick at jackieverdick@gmail.com or 612-554-0111.
URL:https://www.orovalley.org/event/matching-dragons-mah-jongg/2025-01-30/
END:VEVENT
BEGIN:VEVENT
DTSTART;TZID=UTC:20250129T150000
DTEND;TZID=UTC:20250129T160000
DTSTAMP:20260419T180954
CREATED:20250114T073956Z
LAST-MODIFIED:20250114T073958Z
UID:10004452-1738162800-1738166400@www.orovalley.org
SUMMARY:Scripture & Salsa
DESCRIPTION:You are invited to join Pastor Carol every Wednesday from 3:00 – 4:00 PM at Mi Tierra Mexican Restaurant in Catalina starting January 8th for an informal discussion of the Bible texts for the upcoming weekend’s worship. No registration is required and there is no long-term commitment. Just grab your Bible and drop by.
URL:https://www.orovalley.org/event/scripture-salsa/2025-01-29/
END:VEVENT
BEGIN:VEVENT
DTSTART;TZID=UTC:20250129T100000
DTEND;TZID=UTC:20250129T113000
DTSTAMP:20260419T180954
CREATED:20250114T072254Z
LAST-MODIFIED:20250114T072257Z
UID:10004440-1738144800-1738150200@www.orovalley.org
SUMMARY:Confronting Death:  A Christian Approach to the End of Life
DESCRIPTION:Oro Valley Sanctuary\, Five Weekly Sessions \n\n\n\nYou and I\, sooner or later\, are going to experience what comes to all people: we are going to experience dying. But there is a difference between us and the world. The world looks away from that fact and tries to hide it as much as possible\, but we\, as people of faith\, have the power and ability to look death straight in the eye and understand it. ~Walter Wangerin\, Jr. \n\n\n\nThroughout our lives we are confronted with death. We lose loved ones\, friends\, and colleagues and with each confrontation we experience grief\, pain\, and confusion. We also come face to face with our own mortality. How\, as Christians\, do we deal with the physical\, emotional\, practical\, and spiritual realities of death and dying? \n\n\n\nJoin us to explore this important topic\, facilitated by Pastor Carol\, in five weekly sessions beginning Wednesday\, January 29th from 10:00-11:30 AM in the Sanctuary of our Oro Valley campus. Sessions include Aging & Dying in Our Culture\, Approaching Death in the Faith of Jesus Christ\, Family Conversations & Advanced Directives\, Palliative Care and Hospice\, Final Arrangements (funeral\, estate planning)\, Helping Adults\, Teens\, and Children Deal with Grief.
URL:https://www.orovalley.org/event/confronting-death-a-christian-approach-to-the-end-of-life/2025-01-29/
END:VEVENT
BEGIN:VEVENT
DTSTART;TZID=UTC:20250129T100000
DTEND;TZID=UTC:20250129T113000
DTSTAMP:20260419T180954
CREATED:20241205T000220Z
LAST-MODIFIED:20250114T073511Z
UID:10003971-1738144800-1738150200@www.orovalley.org
SUMMARY:Coping With Grief
DESCRIPTION:Coping With Grief will start its next group on Wednesday\, January 15th at 10:00 AM in the Prayer Room. The group will meet weekly for 10 weeks for 1 1/2 hours sessions and is limited to six participants. \n\n\n\nGrieving the loss of a loved one can be one of the most profound experiences individuals encounter in their lives. Others who have undergone a significant loss can understand well the depth of pain that grief brings. Sharing that experience in a group with others who are going through the same process could provide encouragement and hope for healing. \n\n\n\nCoping With Grief welcomes everyone. To sign up for the next group\, please contact either of the leaders\, Arlyn Norris at acwlnorris@gmail.com\, 402-960-9044 or Pilar Norris at bipiho90@aol.com\, 973-874-3677.
URL:https://www.orovalley.org/event/coping-with-grief/2025-01-29/
END:VEVENT
BEGIN:VEVENT
DTSTART;TZID=UTC:20250128T183000
DTEND;TZID=UTC:20250128T203000
DTSTAMP:20260419T180954
CREATED:20250114T074226Z
LAST-MODIFIED:20250114T074229Z
UID:10004712-1738089000-1738096200@www.orovalley.org
SUMMARY:Resurrection Card Players
DESCRIPTION:Ring in the New Year with laughter and fun at the RLC Card Players’ card parties! The parties are open to everyone: we have couples\, we have singles\, we have males\, and we have females. We just have a fun time learning and playing card games and nibbling on snacks. Please bring a snack to share and your own beverage and come on Tuesday\, January 7th and 21st from 6:30 PM – 8:30 PM in Luther’s Lair.
URL:https://www.orovalley.org/event/resurrection-card-players-4/2025-01-28/
END:VEVENT
BEGIN:VEVENT
DTSTART;TZID=UTC:20250128T183000
DTEND;TZID=UTC:20250128T203000
DTSTAMP:20260419T180954
CREATED:20240910T192133Z
LAST-MODIFIED:20240910T192135Z
UID:10003830-1738089000-1738096200@www.orovalley.org
SUMMARY:Resurrection Card Players
DESCRIPTION:RLC Card Players meets every second and fourth Tuesday of the month. No reservation necessary. Please bring a snack to share and your own beverage. We play a variety of card games and we’re happy to teach you if you don’t know how to play. Everyone is welcome.
URL:https://www.orovalley.org/event/resurrection-card-players-2/2025-01-28/
LOCATION:Luther’s Lair
END:VEVENT
BEGIN:VEVENT
DTSTART;TZID=UTC:20250127T183000
DTEND;TZID=UTC:20250127T193000
DTSTAMP:20260419T180954
CREATED:20250114T065214Z
LAST-MODIFIED:20250114T151048Z
UID:10004434-1738002600-1738006200@www.orovalley.org
SUMMARY:Casas Information Meeting
DESCRIPTION:Oro Valley Sanctuary
URL:https://www.orovalley.org/event/casas-information-meeting/
END:VEVENT
BEGIN:VEVENT
DTSTART;TZID=UTC:20250126T120000
DTEND;TZID=UTC:20250126T140000
DTSTAMP:20260419T180954
CREATED:20250114T071504Z
LAST-MODIFIED:20250114T071508Z
UID:10004437-1737892800-1737900000@www.orovalley.org
SUMMARY:Start A New Beginning At Resurrection!
DESCRIPTION:Katie’s Quarters \n\n\n\nWe invite you to experience the JOY of belonging to Resurrection Lutheran Church! \n\n\n\nPlease join us for our next New Member Class. This class is an excellent opportunity to learn more about who we are\, our beliefs\, our vision\, and our mission. You will meet our Pastors\, Council Members\, staff\, and other new faces who seek to get plugged into the community and ministry of Resurrection! \n\n\n\nLunch is provided\, and childcare is available. \n\n\n\nPlease sign up after worship in Oro Valley or SaddleBrooke at the Welcome Table\, or contact Kristina Randolph for more information at 520-575-9901 or Krandolph@orovalley.org. \n\n\n\nLooking forward to welcoming you HOME!
URL:https://www.orovalley.org/event/start-a-new-beginning-at-resurrection-2/
END:VEVENT
BEGIN:VEVENT
DTSTART;TZID=UTC:20250126T104500
DTEND;TZID=UTC:20250126T114500
DTSTAMP:20260419T180954
CREATED:20240513T203112Z
LAST-MODIFIED:20240513T203139Z
UID:10001354-1737888300-1737891900@www.orovalley.org
SUMMARY:10:45 Worship - Contemporary
DESCRIPTION:Sunday School\, Confirmation\, High School Sunday School \n\n\n\nChildcare Available \n\n\n\n\nWorship Online Here
URL:https://www.orovalley.org/event/1045-worship-contemporary-4/2025-01-26/
LOCATION:Oro Valley Sanctuary
CATEGORIES:Worship
ATTACH;FMTTYPE=image/jpeg:https://www.orovalley.org/wp-content/uploads/2023/11/CopyrightTaylorNoelPhotography2021-200-scaled.jpg
END:VEVENT
BEGIN:VEVENT
DTSTART;TZID=UTC:20250126T090000
DTEND;TZID=UTC:20250126T100000
DTSTAMP:20260419T180954
CREATED:20240106T184634Z
LAST-MODIFIED:20240228T200602Z
UID:10001679-1737882000-1737885600@www.orovalley.org
SUMMARY:Worship at SaddleBrooke
DESCRIPTION:Worship Online Here\n\n\n\nOnline Bulletin Here
URL:https://www.orovalley.org/event/worship-at-saddlebrooke/2025-01-26/
LOCATION:SaddleBrooke\, SaddleBrooke HOA2 Clubhouse\, Tucson\, Arizona\, 85739
CATEGORIES:Worship
ATTACH;FMTTYPE=image/jpeg:https://www.orovalley.org/wp-content/uploads/2023/08/sb-worship-pic_3.jpg
END:VEVENT
BEGIN:VEVENT
DTSTART;TZID=UTC:20250126T074500
DTEND;TZID=UTC:20250126T084500
DTSTAMP:20260419T180954
CREATED:20240513T202737Z
LAST-MODIFIED:20240513T202749Z
UID:10000061-1737877500-1737881100@www.orovalley.org
SUMMARY:7:45 Worship
DESCRIPTION:Traditional Worship. Music provided by Resurrection’s Chancel Choir \n\n\n\n\nWorship Online Here\n\n\n\n\n \n\n\n\n\nOnline Bulletins Here
URL:https://www.orovalley.org/event/745-worship-7/2025-01-26/
LOCATION:Oro Valley Sanctuary
CATEGORIES:Worship
ATTACH;FMTTYPE=image/jpeg:https://www.orovalley.org/wp-content/uploads/2023/12/CopyrightTaylorNoelPhotography2021-158-scaled.jpg
END:VEVENT
BEGIN:VEVENT
DTSTART;TZID=UTC:20250125T170000
DTEND;TZID=UTC:20250125T180000
DTSTAMP:20260419T180954
CREATED:20240130T000623Z
LAST-MODIFIED:20240228T201059Z
UID:10002297-1737824400-1737828000@www.orovalley.org
SUMMARY:5:00 Worship
DESCRIPTION:Join us for worship!  \n\n\n\n\nWorship Online Here\n\n\n\nOnline Bulletins Here
URL:https://www.orovalley.org/event/500-worship-2/2025-01-25/
LOCATION:Oro Valley Sanctuary
CATEGORIES:Worship
ATTACH;FMTTYPE=image/jpeg:https://www.orovalley.org/wp-content/uploads/2023/08/CopyrightTaylorNoelPhotography2021-175-354e5a6-scaled.jpg
END:VEVENT
BEGIN:VEVENT
DTSTART;TZID=UTC:20250125T140000
DTEND;TZID=UTC:20250125T160000
DTSTAMP:20260419T180954
CREATED:20250114T071306Z
LAST-MODIFIED:20250114T071309Z
UID:10004435-1737813600-1737820800@www.orovalley.org
SUMMARY:2025 Open Organ Console Days
DESCRIPTION:Oro Valley SanctuaryCome learn more about the Pipe Organ with our Organist Alex Bennett. A short presentation and question and answer session will be followed by time for you to get on the bench and play! Alex will be there to assist you and guide you through how to operate the organ. Open to all ages and skill levels. No prior organ or piano skills necessary. Come learn about\, listen to\, and/or play this magnificent instrument!
URL:https://www.orovalley.org/event/2025-open-organ-console-days-2/2025-01-25/
END:VEVENT
BEGIN:VEVENT
DTSTART;TZID=UTC:20250123T130000
DTEND;TZID=UTC:20250123T160000
DTSTAMP:20260419T180954
CREATED:20241213T002356Z
LAST-MODIFIED:20241213T002359Z
UID:10004053-1737637200-1737648000@www.orovalley.org
SUMMARY:Matching Dragons Mah Jongg
DESCRIPTION:Do you play the game of (American) Mah Jongg and have been looking for a group to play with? Join us on Thursday afternoons 1:00-4:00 PM in Luther’s Lair in the Outreach Center. These are friendly games. We do NOT play for money but we ALWAYS have a good time. This group is for those who already know how to play the game. However\, anyone is invited to come observe to see if they would like to learn to play the game. Questions? Contact Jackie Verdick at jackieverdick@gmail.com or 612-554-0111.
URL:https://www.orovalley.org/event/matching-dragons-mah-jongg/2025-01-23/
END:VEVENT
BEGIN:VEVENT
DTSTART;TZID=UTC:20250123T093000
DTEND;TZID=UTC:20250123T150000
DTSTAMP:20260419T180954
CREATED:20241213T000737Z
LAST-MODIFIED:20241213T000740Z
UID:10004046-1737624600-1737644400@www.orovalley.org
SUMMARY:Serving with Hearts of Hospitality
DESCRIPTION:Resurrection “feels like home” is something we hear often. Home is a place where you are welcomed and known. Through ministries like Holy Grounds\, Kitchen Angels\, Ushers\, and Roving Friendlies\, we are able to welcome people and care for them. And we are looking for more people to help us vision where we are growing to. If welcoming people and helping them be known is something you are interested in\, then please join Kristina Randolph for a special training on the Art of Hospitality. \n\n\n\nWe will meet on campus from 9:30 AM – 3:00 PM to learn from Church of the Resurrection on Kansas through Zoom. In this event\, you’ll learn the principles and best practices of exceptional hospitality that are applicable to churches of all sizes\, and receive practical tips and tools you can use in your church right away. \n\n\n\nFor more information contact Kristina Randolph.
URL:https://www.orovalley.org/event/serving-with-hearts-of-hospitality/
END:VEVENT
BEGIN:VEVENT
DTSTART;TZID=UTC:20250122T173000
DTEND;TZID=UTC:20250122T183000
DTSTAMP:20260419T180954
CREATED:20250114T074727Z
LAST-MODIFIED:20250114T074729Z
UID:10004715-1737567000-1737570600@www.orovalley.org
SUMMARY:Holy Rollers Bunco
DESCRIPTION:Holy Rollers Bunco will be starting up again for the new year on Wednesday\, January 22nd at 5:30 PM in Katie’s Quarters. (We will be meeting every month on the fourth Wednesday except November and December due to the holidays.) We encourage anyone who is interested to attend. We will teach you how to play and by the end of the evening you will be a pro! Our only requirement is that you bring your own drink and be ready for fun and laughter. If you have not attended and would like to come\, please contact Ann Amble at acambledale@gmail.com.
URL:https://www.orovalley.org/event/holy-rollers-bunco/
END:VEVENT
BEGIN:VEVENT
DTSTART;TZID=UTC:20250122T150000
DTEND;TZID=UTC:20250122T160000
DTSTAMP:20260419T180954
CREATED:20250114T073956Z
LAST-MODIFIED:20250114T073958Z
UID:10004451-1737558000-1737561600@www.orovalley.org
SUMMARY:Scripture & Salsa
DESCRIPTION:You are invited to join Pastor Carol every Wednesday from 3:00 – 4:00 PM at Mi Tierra Mexican Restaurant in Catalina starting January 8th for an informal discussion of the Bible texts for the upcoming weekend’s worship. No registration is required and there is no long-term commitment. Just grab your Bible and drop by.
URL:https://www.orovalley.org/event/scripture-salsa/2025-01-22/
END:VEVENT
BEGIN:VEVENT
DTSTART;TZID=UTC:20250122T100000
DTEND;TZID=UTC:20250122T113000
DTSTAMP:20260419T180954
CREATED:20241205T000220Z
LAST-MODIFIED:20250114T073511Z
UID:10003970-1737540000-1737545400@www.orovalley.org
SUMMARY:Coping With Grief
DESCRIPTION:Coping With Grief will start its next group on Wednesday\, January 15th at 10:00 AM in the Prayer Room. The group will meet weekly for 10 weeks for 1 1/2 hours sessions and is limited to six participants. \n\n\n\nGrieving the loss of a loved one can be one of the most profound experiences individuals encounter in their lives. Others who have undergone a significant loss can understand well the depth of pain that grief brings. Sharing that experience in a group with others who are going through the same process could provide encouragement and hope for healing. \n\n\n\nCoping With Grief welcomes everyone. To sign up for the next group\, please contact either of the leaders\, Arlyn Norris at acwlnorris@gmail.com\, 402-960-9044 or Pilar Norris at bipiho90@aol.com\, 973-874-3677.
URL:https://www.orovalley.org/event/coping-with-grief/2025-01-22/
END:VEVENT
BEGIN:VEVENT
DTSTART;TZID=UTC:20250122T080000
DTEND;TZID=UTC:20250122T120000
DTSTAMP:20260419T180954
CREATED:20250114T074544Z
LAST-MODIFIED:20250125T194029Z
UID:10004714-1737532800-1737547200@www.orovalley.org
SUMMARY:Downtown Tucson Mural Walk
DESCRIPTION:Departing from RLC on Wednesday\, January 22nd\, at 8:00 AM. We will view approximately 50 murals on a 3.2-mile walk\, starting from Hotel Congress\, going north to 4th Avenue\, to the historic “Y\,” and circling back through downtown to the Rialto Theatre. We will have devotions during our walk and lunch afterwards. Driver donation\, including paid parking\, will be $5. Sign up with Elisabeth Wheeler\, hikerelisabeth@gmail.com.
URL:https://www.orovalley.org/event/downtown-tucson-mural-walk/
END:VEVENT
BEGIN:VEVENT
DTSTART;TZID=UTC:20250120T000000
DTEND;TZID=UTC:20250120T235959
DTSTAMP:20260419T180954
CREATED:20250114T064739Z
LAST-MODIFIED:20250114T065032Z
UID:10004433-1737331200-1737417599@www.orovalley.org
SUMMARY:CLOSED
DESCRIPTION:Offices and campus closed for Martin Luther King Jr Holiday.
URL:https://www.orovalley.org/event/closed-2/
END:VEVENT
BEGIN:VEVENT
DTSTART;TZID=UTC:20250119T104500
DTEND;TZID=UTC:20250119T114500
DTSTAMP:20260419T180954
CREATED:20240513T203112Z
LAST-MODIFIED:20240513T203139Z
UID:10001353-1737283500-1737287100@www.orovalley.org
SUMMARY:10:45 Worship - Contemporary
DESCRIPTION:Sunday School\, Confirmation\, High School Sunday School \n\n\n\nChildcare Available \n\n\n\n\nWorship Online Here
URL:https://www.orovalley.org/event/1045-worship-contemporary-4/2025-01-19/
LOCATION:Oro Valley Sanctuary
CATEGORIES:Worship
ATTACH;FMTTYPE=image/jpeg:https://www.orovalley.org/wp-content/uploads/2023/11/CopyrightTaylorNoelPhotography2021-200-scaled.jpg
END:VEVENT
BEGIN:VEVENT
DTSTART;TZID=UTC:20250119T090000
DTEND;TZID=UTC:20250119T100000
DTSTAMP:20260419T180954
CREATED:20240106T184634Z
LAST-MODIFIED:20240228T200602Z
UID:10001678-1737277200-1737280800@www.orovalley.org
SUMMARY:Worship at SaddleBrooke
DESCRIPTION:Worship Online Here\n\n\n\nOnline Bulletin Here
URL:https://www.orovalley.org/event/worship-at-saddlebrooke/2025-01-19/
LOCATION:SaddleBrooke\, SaddleBrooke HOA2 Clubhouse\, Tucson\, Arizona\, 85739
CATEGORIES:Worship
ATTACH;FMTTYPE=image/jpeg:https://www.orovalley.org/wp-content/uploads/2023/08/sb-worship-pic_3.jpg
END:VEVENT
BEGIN:VEVENT
DTSTART;TZID=UTC:20250119T074500
DTEND;TZID=UTC:20250119T084500
DTSTAMP:20260419T180954
CREATED:20240513T202737Z
LAST-MODIFIED:20240513T202749Z
UID:10000060-1737272700-1737276300@www.orovalley.org
SUMMARY:7:45 Worship
DESCRIPTION:Traditional Worship. Music provided by Resurrection’s Chancel Choir \n\n\n\n\nWorship Online Here\n\n\n\n\n \n\n\n\n\nOnline Bulletins Here
URL:https://www.orovalley.org/event/745-worship-7/2025-01-19/
LOCATION:Oro Valley Sanctuary
CATEGORIES:Worship
ATTACH;FMTTYPE=image/jpeg:https://www.orovalley.org/wp-content/uploads/2023/12/CopyrightTaylorNoelPhotography2021-158-scaled.jpg
END:VEVENT
BEGIN:VEVENT
DTSTART;TZID=UTC:20250118T170000
DTEND;TZID=UTC:20250118T180000
DTSTAMP:20260419T180954
CREATED:20240130T000623Z
LAST-MODIFIED:20240228T201059Z
UID:10002296-1737219600-1737223200@www.orovalley.org
SUMMARY:5:00 Worship
DESCRIPTION:Join us for worship!  \n\n\n\n\nWorship Online Here\n\n\n\nOnline Bulletins Here
URL:https://www.orovalley.org/event/500-worship-2/2025-01-18/
LOCATION:Oro Valley Sanctuary
CATEGORIES:Worship
ATTACH;FMTTYPE=image/jpeg:https://www.orovalley.org/wp-content/uploads/2023/08/CopyrightTaylorNoelPhotography2021-175-354e5a6-scaled.jpg
END:VEVENT
BEGIN:VEVENT
DTSTART;TZID=UTC:20250118T160000
DTEND;TZID=UTC:20250118T180000
DTSTAMP:20260419T180954
CREATED:20250114T071742Z
LAST-MODIFIED:20250114T071744Z
UID:10004438-1737216000-1737223200@www.orovalley.org
SUMMARY:Eventide Singers (OV)
DESCRIPTION:Rehearsal is in the Music Room at 4 PM and will sing at that evening’s 5 PM service.
URL:https://www.orovalley.org/event/eventide-singers-ov/
END:VEVENT
BEGIN:VEVENT
DTSTART;TZID=UTC:20250118T090000
DTEND;TZID=UTC:20250118T110000
DTSTAMP:20260419T180954
CREATED:20241204T235925Z
LAST-MODIFIED:20241205T000850Z
UID:10003959-1737190800-1737198000@www.orovalley.org
SUMMARY:Women's Faithful Living Fellowship
DESCRIPTION:Join us for a 10-session study which meets every third Saturday from 9:00 AM – 11:00 AM for coffee\, snacks and fellowship\, followed by a film and small discussion groups. We will study the book “Having a Mary Heart in a Martha World: Finding Intimacy with God in the Business of Life” by Joanna Weaver. \n\n\n\nSign up on orovalley.org. Space is limited.
URL:https://www.orovalley.org/event/womens-faithful-living-fellowship-2/2025-01-18/
END:VEVENT
BEGIN:VEVENT
DTSTART;TZID=UTC:20250118T080000
DTEND;TZID=UTC:20250118T120000
DTSTAMP:20260419T180954
CREATED:20250114T075103Z
LAST-MODIFIED:20250114T075105Z
UID:10004717-1737187200-1737201600@www.orovalley.org
SUMMARY:First Response and Campus Safety Training
DESCRIPTION:Oro Valley SanctuaryEvery two years we work with the OVPD to train and be aware of what to do if something were to happen on our Campus. All Staff are required to attend and we encourage all Ushers\, Greeters\, Safer Campus Committee\, and anyone who would like to be familiar with our safety procedures to attend. Knowledge is power and we want to be knowledgeable so we can care for others in case something happens. If you have more questions\, please contact the church office at 520-575-9901.
URL:https://www.orovalley.org/event/first-response-and-campus-safety-training/
END:VEVENT
BEGIN:VEVENT
DTSTART;TZID=UTC:20250118T080000
DTEND;TZID=UTC:20250118T090000
DTSTAMP:20260419T180954
CREATED:20240808T201836Z
LAST-MODIFIED:20260210T201221Z
UID:10003636-1737187200-1737190800@www.orovalley.org
SUMMARY:Men's Bible Study
DESCRIPTION:Uses the Serendipity Bible\, copies are available. All men of the church are welcome to attend. Meets in Luther’s Lair.
URL:https://www.orovalley.org/event/mens-bible-study/2025-01-18/
END:VEVENT
BEGIN:VEVENT
DTSTART;TZID=UTC:20250117T113000
DTEND;TZID=UTC:20250117T123000
DTSTAMP:20260419T180954
CREATED:20250114T073726Z
LAST-MODIFIED:20250114T073728Z
UID:10004448-1737113400-1737117000@www.orovalley.org
SUMMARY:SaddleBrooke Soul Sisters
DESCRIPTION:Agave Lounge – SaddleBrooke HOA1 \n\n\n\nAll women are invited. You do not have to be a member of Resurrection SaddleBrooke to attend. We will sing\, pray\, and have fellowship together. Registration is required. Sign up & payment can be made after Sunday services at SaddleBrooke on January 5th & 12th. The price is $24\, which includes lunch\, serving fees\, and tax. No sign up will be accepted after January 12th. Checks are to be made out to Ann Stemme\, questions 414-737-8542.
URL:https://www.orovalley.org/event/saddlebrooke-soul-sisters-2/
END:VEVENT
END:VCALENDAR