BEGIN:VCALENDAR
VERSION:2.0
PRODID:-//Resurrection Lutheran Church - ECPv6.15.20//NONSGML v1.0//EN
CALSCALE:GREGORIAN
METHOD:PUBLISH
X-WR-CALNAME:Resurrection Lutheran Church
X-ORIGINAL-URL:https://www.orovalley.org
X-WR-CALDESC:Events for Resurrection Lutheran Church
REFRESH-INTERVAL;VALUE=DURATION:PT1H
X-Robots-Tag:noindex
X-PUBLISHED-TTL:PT1H
BEGIN:VTIMEZONE
TZID:UTC
BEGIN:STANDARD
TZOFFSETFROM:+0000
TZOFFSETTO:+0000
TZNAME:UTC
DTSTART:20270101T000000
END:STANDARD
END:VTIMEZONE
BEGIN:VEVENT
DTSTART;TZID=UTC:20280227T090000
DTEND;TZID=UTC:20280227T100000
DTSTAMP:20260423T201401
CREATED:20240106T184634Z
LAST-MODIFIED:20240228T200602Z
UID:10001840-1835254800-1835258400@www.orovalley.org
SUMMARY:Worship at SaddleBrooke
DESCRIPTION:Worship Online Here\n\n\n\nOnline Bulletin Here
URL:https://www.orovalley.org/event/worship-at-saddlebrooke/2028-02-27/
LOCATION:SaddleBrooke\, SaddleBrooke HOA2 Clubhouse\, Tucson\, Arizona\, 85739
CATEGORIES:Worship
ATTACH;FMTTYPE=image/jpeg:https://www.orovalley.org/wp-content/uploads/2023/08/sb-worship-pic_3.jpg
END:VEVENT
BEGIN:VEVENT
DTSTART;TZID=UTC:20280229T130000
DTEND;TZID=UTC:20280229T160000
DTSTAMP:20260423T201401
CREATED:20260210T184404Z
LAST-MODIFIED:20260210T202351Z
UID:10006922-1835442000-1835452800@www.orovalley.org
SUMMARY:Art by Heart Glass Classes
DESCRIPTION:Art by Heart Studio
URL:https://www.orovalley.org/event/art-by-heart-glass-classes/2028-02-29/
END:VEVENT
BEGIN:VEVENT
DTSTART;TZID=UTC:20280301T150000
DTEND;TZID=UTC:20280301T160000
DTSTAMP:20260423T201401
CREATED:20260415T170108Z
LAST-MODIFIED:20260415T170119Z
UID:10004613-1835535600-1835539200@www.orovalley.org
SUMMARY:Scripture & Salsa
DESCRIPTION:You are invited to join Pastor Carol every Wednesday from 3:00 – 4:00 PM at Mi Tierra Mexican Restaurant in Catalina starting January 8th for an informal discussion of the Bible texts for the upcoming weekend’s worship. No registration is required and there is no long-term commitment. Just grab your Bible and drop by.
URL:https://www.orovalley.org/event/scripture-salsa-3/2028-03-01/
END:VEVENT
BEGIN:VEVENT
DTSTART;TZID=UTC:20280302T130000
DTEND;TZID=UTC:20280302T160000
DTSTAMP:20260423T201401
CREATED:20241213T002356Z
LAST-MODIFIED:20241213T002359Z
UID:10004215-1835614800-1835625600@www.orovalley.org
SUMMARY:Matching Dragons Mah Jongg
DESCRIPTION:Do you play the game of (American) Mah Jongg and have been looking for a group to play with? Join us on Thursday afternoons 1:00-4:00 PM in Luther’s Lair in the Outreach Center. These are friendly games. We do NOT play for money but we ALWAYS have a good time. This group is for those who already know how to play the game. However\, anyone is invited to come observe to see if they would like to learn to play the game. Questions? Contact Jackie Verdick at jackieverdick@gmail.com or 612-554-0111.
URL:https://www.orovalley.org/event/matching-dragons-mah-jongg/2028-03-02/
END:VEVENT
BEGIN:VEVENT
DTSTART;TZID=UTC:20280302T130000
DTEND;TZID=UTC:20280302T160000
DTSTAMP:20260423T201401
CREATED:20251107T191455Z
LAST-MODIFIED:20251107T191616Z
UID:10005865-1835614800-1835625600@www.orovalley.org
SUMMARY:Art by Heart Open Studio
DESCRIPTION:
URL:https://www.orovalley.org/event/art-by-heart-open-studio/2028-03-02/
END:VEVENT
BEGIN:VEVENT
DTSTART;TZID=UTC:20280304T170000
DTEND;TZID=UTC:20280304T180000
DTSTAMP:20260423T201401
CREATED:20240130T000623Z
LAST-MODIFIED:20240228T201059Z
UID:10002459-1835802000-1835805600@www.orovalley.org
SUMMARY:5:00 Worship
DESCRIPTION:Join us for worship!  \n\n\n\n\nWorship Online Here\n\n\n\nOnline Bulletins Here
URL:https://www.orovalley.org/event/500-worship-2/2028-03-04/
LOCATION:Oro Valley Sanctuary
CATEGORIES:Worship
ATTACH;FMTTYPE=image/jpeg:https://www.orovalley.org/wp-content/uploads/2023/08/CopyrightTaylorNoelPhotography2021-175-354e5a6-scaled.jpg
END:VEVENT
BEGIN:VEVENT
DTSTART;TZID=UTC:20280305T090000
DTEND;TZID=UTC:20280305T100000
DTSTAMP:20260423T201401
CREATED:20240106T184634Z
LAST-MODIFIED:20240228T200602Z
UID:10001841-1835859600-1835863200@www.orovalley.org
SUMMARY:Worship at SaddleBrooke
DESCRIPTION:Worship Online Here\n\n\n\nOnline Bulletin Here
URL:https://www.orovalley.org/event/worship-at-saddlebrooke/2028-03-05/
LOCATION:SaddleBrooke\, SaddleBrooke HOA2 Clubhouse\, Tucson\, Arizona\, 85739
CATEGORIES:Worship
ATTACH;FMTTYPE=image/jpeg:https://www.orovalley.org/wp-content/uploads/2023/08/sb-worship-pic_3.jpg
END:VEVENT
BEGIN:VEVENT
DTSTART;TZID=UTC:20280307T130000
DTEND;TZID=UTC:20280307T160000
DTSTAMP:20260423T201401
CREATED:20260210T184404Z
LAST-MODIFIED:20260210T202351Z
UID:10006923-1836046800-1836057600@www.orovalley.org
SUMMARY:Art by Heart Glass Classes
DESCRIPTION:Art by Heart Studio
URL:https://www.orovalley.org/event/art-by-heart-glass-classes/2028-03-07/
END:VEVENT
BEGIN:VEVENT
DTSTART;TZID=UTC:20280308T150000
DTEND;TZID=UTC:20280308T160000
DTSTAMP:20260423T201401
CREATED:20260415T170108Z
LAST-MODIFIED:20260415T170119Z
UID:10004614-1836140400-1836144000@www.orovalley.org
SUMMARY:Scripture & Salsa
DESCRIPTION:You are invited to join Pastor Carol every Wednesday from 3:00 – 4:00 PM at Mi Tierra Mexican Restaurant in Catalina starting January 8th for an informal discussion of the Bible texts for the upcoming weekend’s worship. No registration is required and there is no long-term commitment. Just grab your Bible and drop by.
URL:https://www.orovalley.org/event/scripture-salsa-3/2028-03-08/
END:VEVENT
BEGIN:VEVENT
DTSTART;TZID=UTC:20280309T130000
DTEND;TZID=UTC:20280309T160000
DTSTAMP:20260423T201401
CREATED:20241213T002356Z
LAST-MODIFIED:20241213T002359Z
UID:10004216-1836219600-1836230400@www.orovalley.org
SUMMARY:Matching Dragons Mah Jongg
DESCRIPTION:Do you play the game of (American) Mah Jongg and have been looking for a group to play with? Join us on Thursday afternoons 1:00-4:00 PM in Luther’s Lair in the Outreach Center. These are friendly games. We do NOT play for money but we ALWAYS have a good time. This group is for those who already know how to play the game. However\, anyone is invited to come observe to see if they would like to learn to play the game. Questions? Contact Jackie Verdick at jackieverdick@gmail.com or 612-554-0111.
URL:https://www.orovalley.org/event/matching-dragons-mah-jongg/2028-03-09/
END:VEVENT
BEGIN:VEVENT
DTSTART;TZID=UTC:20280309T130000
DTEND;TZID=UTC:20280309T160000
DTSTAMP:20260423T201401
CREATED:20251107T191455Z
LAST-MODIFIED:20251107T191616Z
UID:10005866-1836219600-1836230400@www.orovalley.org
SUMMARY:Art by Heart Open Studio
DESCRIPTION:
URL:https://www.orovalley.org/event/art-by-heart-open-studio/2028-03-09/
END:VEVENT
BEGIN:VEVENT
DTSTART;TZID=UTC:20280311T080000
DTEND;TZID=UTC:20280311T100000
DTSTAMP:20260423T201401
CREATED:20260409T172217Z
LAST-MODIFIED:20260409T172226Z
UID:10008304-1836374400-1836381600@www.orovalley.org
SUMMARY:Men's Bible Study
DESCRIPTION:Uses the Serendipity Bible\, copies are available. All men of the church are welcome to attend. Meets in Luther’s Lair.
URL:https://www.orovalley.org/event/mens-bible-study-13/2028-03-11/
END:VEVENT
BEGIN:VEVENT
DTSTART;TZID=UTC:20280311T170000
DTEND;TZID=UTC:20280311T180000
DTSTAMP:20260423T201401
CREATED:20240130T000623Z
LAST-MODIFIED:20240228T201059Z
UID:10002460-1836406800-1836410400@www.orovalley.org
SUMMARY:5:00 Worship
DESCRIPTION:Join us for worship!  \n\n\n\n\nWorship Online Here\n\n\n\nOnline Bulletins Here
URL:https://www.orovalley.org/event/500-worship-2/2028-03-11/
LOCATION:Oro Valley Sanctuary
CATEGORIES:Worship
ATTACH;FMTTYPE=image/jpeg:https://www.orovalley.org/wp-content/uploads/2023/08/CopyrightTaylorNoelPhotography2021-175-354e5a6-scaled.jpg
END:VEVENT
BEGIN:VEVENT
DTSTART;TZID=UTC:20280312T090000
DTEND;TZID=UTC:20280312T100000
DTSTAMP:20260423T201401
CREATED:20240106T184634Z
LAST-MODIFIED:20240228T200602Z
UID:10001842-1836464400-1836468000@www.orovalley.org
SUMMARY:Worship at SaddleBrooke
DESCRIPTION:Worship Online Here\n\n\n\nOnline Bulletin Here
URL:https://www.orovalley.org/event/worship-at-saddlebrooke/2028-03-12/
LOCATION:SaddleBrooke\, SaddleBrooke HOA2 Clubhouse\, Tucson\, Arizona\, 85739
CATEGORIES:Worship
ATTACH;FMTTYPE=image/jpeg:https://www.orovalley.org/wp-content/uploads/2023/08/sb-worship-pic_3.jpg
END:VEVENT
BEGIN:VEVENT
DTSTART;TZID=UTC:20280314T130000
DTEND;TZID=UTC:20280314T160000
DTSTAMP:20260423T201401
CREATED:20260210T184404Z
LAST-MODIFIED:20260210T202351Z
UID:10006924-1836651600-1836662400@www.orovalley.org
SUMMARY:Art by Heart Glass Classes
DESCRIPTION:Art by Heart Studio
URL:https://www.orovalley.org/event/art-by-heart-glass-classes/2028-03-14/
END:VEVENT
BEGIN:VEVENT
DTSTART;TZID=UTC:20280314T183000
DTEND;TZID=UTC:20280314T203000
DTSTAMP:20260423T201401
CREATED:20251111T170454Z
LAST-MODIFIED:20251111T170509Z
UID:10003808-1836671400-1836678600@www.orovalley.org
SUMMARY:Resurrection Card Players
DESCRIPTION:RLC Card Players meets every second and fourth Tuesday of the month in the Music Room. No reservation necessary. Please bring a snack to share and your own beverage. We play a variety of card games and we’re happy to teach you if you don’t know how to play. Everyone is welcome.
URL:https://www.orovalley.org/event/resurrection-card-players-5/2028-03-14/
END:VEVENT
BEGIN:VEVENT
DTSTART;TZID=UTC:20280315T103000
DTEND;TZID=UTC:20280315T120000
DTSTAMP:20260423T201401
CREATED:20240617T222009Z
LAST-MODIFIED:20240617T222059Z
UID:10003573-1836729000-1836734400@www.orovalley.org
SUMMARY:Parkinson's Support Group
DESCRIPTION:This support group provides encouragement from meeting with others who have Parkinson’s disease\, and for the care givers of those with Parkinson’s. The meetings provide an opportunity to discuss experiences and feelings and to share solutions to common problems.  Meets every 3rd Wednesday of the month in the High School Youth Room.
URL:https://www.orovalley.org/event/parkinsons-support-group-3/2028-03-15/
LOCATION:Youth Room
CATEGORIES:Congregational Care,Serve
ATTACH;FMTTYPE=image/jpeg:https://www.orovalley.org/wp-content/uploads/2024/06/Graphics-3.jpg
END:VEVENT
BEGIN:VEVENT
DTSTART;TZID=UTC:20280315T150000
DTEND;TZID=UTC:20280315T160000
DTSTAMP:20260423T201401
CREATED:20260415T170108Z
LAST-MODIFIED:20260415T170119Z
UID:10004615-1836745200-1836748800@www.orovalley.org
SUMMARY:Scripture & Salsa
DESCRIPTION:You are invited to join Pastor Carol every Wednesday from 3:00 – 4:00 PM at Mi Tierra Mexican Restaurant in Catalina starting January 8th for an informal discussion of the Bible texts for the upcoming weekend’s worship. No registration is required and there is no long-term commitment. Just grab your Bible and drop by.
URL:https://www.orovalley.org/event/scripture-salsa-3/2028-03-15/
END:VEVENT
BEGIN:VEVENT
DTSTART;TZID=UTC:20280316T130000
DTEND;TZID=UTC:20280316T160000
DTSTAMP:20260423T201401
CREATED:20241213T002356Z
LAST-MODIFIED:20241213T002359Z
UID:10004217-1836824400-1836835200@www.orovalley.org
SUMMARY:Matching Dragons Mah Jongg
DESCRIPTION:Do you play the game of (American) Mah Jongg and have been looking for a group to play with? Join us on Thursday afternoons 1:00-4:00 PM in Luther’s Lair in the Outreach Center. These are friendly games. We do NOT play for money but we ALWAYS have a good time. This group is for those who already know how to play the game. However\, anyone is invited to come observe to see if they would like to learn to play the game. Questions? Contact Jackie Verdick at jackieverdick@gmail.com or 612-554-0111.
URL:https://www.orovalley.org/event/matching-dragons-mah-jongg/2028-03-16/
END:VEVENT
BEGIN:VEVENT
DTSTART;TZID=UTC:20280316T130000
DTEND;TZID=UTC:20280316T160000
DTSTAMP:20260423T201401
CREATED:20251107T191455Z
LAST-MODIFIED:20251107T191616Z
UID:10005867-1836824400-1836835200@www.orovalley.org
SUMMARY:Art by Heart Open Studio
DESCRIPTION:
URL:https://www.orovalley.org/event/art-by-heart-open-studio/2028-03-16/
END:VEVENT
BEGIN:VEVENT
DTSTART;TZID=UTC:20280318T090000
DTEND;TZID=UTC:20280318T110000
DTSTAMP:20260423T201401
CREATED:20260210T201725Z
LAST-MODIFIED:20260210T201733Z
UID:10006790-1836982800-1836990000@www.orovalley.org
SUMMARY:Faithful Living Fellowship
DESCRIPTION:Oro Valley \n\n\n\nWe meet for coffee\, snacks and fellowship\, followed by a film and small discussion groups. We will study the book “Embracing Trust” by Joanna Weaver. Sign up on the website under the Learn section.
URL:https://www.orovalley.org/event/faithful-living-fellowship-3/2028-03-18/
END:VEVENT
BEGIN:VEVENT
DTSTART;TZID=UTC:20280318T170000
DTEND;TZID=UTC:20280318T180000
DTSTAMP:20260423T201401
CREATED:20240130T000623Z
LAST-MODIFIED:20240228T201059Z
UID:10002461-1837011600-1837015200@www.orovalley.org
SUMMARY:5:00 Worship
DESCRIPTION:Join us for worship!  \n\n\n\n\nWorship Online Here\n\n\n\nOnline Bulletins Here
URL:https://www.orovalley.org/event/500-worship-2/2028-03-18/
LOCATION:Oro Valley Sanctuary
CATEGORIES:Worship
ATTACH;FMTTYPE=image/jpeg:https://www.orovalley.org/wp-content/uploads/2023/08/CopyrightTaylorNoelPhotography2021-175-354e5a6-scaled.jpg
END:VEVENT
BEGIN:VEVENT
DTSTART;TZID=UTC:20280319T090000
DTEND;TZID=UTC:20280319T100000
DTSTAMP:20260423T201401
CREATED:20240106T184634Z
LAST-MODIFIED:20240228T200602Z
UID:10001843-1837069200-1837072800@www.orovalley.org
SUMMARY:Worship at SaddleBrooke
DESCRIPTION:Worship Online Here\n\n\n\nOnline Bulletin Here
URL:https://www.orovalley.org/event/worship-at-saddlebrooke/2028-03-19/
LOCATION:SaddleBrooke\, SaddleBrooke HOA2 Clubhouse\, Tucson\, Arizona\, 85739
CATEGORIES:Worship
ATTACH;FMTTYPE=image/jpeg:https://www.orovalley.org/wp-content/uploads/2023/08/sb-worship-pic_3.jpg
END:VEVENT
BEGIN:VEVENT
DTSTART;TZID=UTC:20280321T130000
DTEND;TZID=UTC:20280321T160000
DTSTAMP:20260423T201401
CREATED:20260210T184404Z
LAST-MODIFIED:20260210T202351Z
UID:10006925-1837256400-1837267200@www.orovalley.org
SUMMARY:Art by Heart Glass Classes
DESCRIPTION:Art by Heart Studio
URL:https://www.orovalley.org/event/art-by-heart-glass-classes/2028-03-21/
END:VEVENT
BEGIN:VEVENT
DTSTART;TZID=UTC:20280322T150000
DTEND;TZID=UTC:20280322T160000
DTSTAMP:20260423T201401
CREATED:20260415T170108Z
LAST-MODIFIED:20260415T170119Z
UID:10004616-1837350000-1837353600@www.orovalley.org
SUMMARY:Scripture & Salsa
DESCRIPTION:You are invited to join Pastor Carol every Wednesday from 3:00 – 4:00 PM at Mi Tierra Mexican Restaurant in Catalina starting January 8th for an informal discussion of the Bible texts for the upcoming weekend’s worship. No registration is required and there is no long-term commitment. Just grab your Bible and drop by.
URL:https://www.orovalley.org/event/scripture-salsa-3/2028-03-22/
END:VEVENT
BEGIN:VEVENT
DTSTART;TZID=UTC:20280323T130000
DTEND;TZID=UTC:20280323T160000
DTSTAMP:20260423T201401
CREATED:20241213T002356Z
LAST-MODIFIED:20241213T002359Z
UID:10004218-1837429200-1837440000@www.orovalley.org
SUMMARY:Matching Dragons Mah Jongg
DESCRIPTION:Do you play the game of (American) Mah Jongg and have been looking for a group to play with? Join us on Thursday afternoons 1:00-4:00 PM in Luther’s Lair in the Outreach Center. These are friendly games. We do NOT play for money but we ALWAYS have a good time. This group is for those who already know how to play the game. However\, anyone is invited to come observe to see if they would like to learn to play the game. Questions? Contact Jackie Verdick at jackieverdick@gmail.com or 612-554-0111.
URL:https://www.orovalley.org/event/matching-dragons-mah-jongg/2028-03-23/
END:VEVENT
BEGIN:VEVENT
DTSTART;TZID=UTC:20280323T130000
DTEND;TZID=UTC:20280323T160000
DTSTAMP:20260423T201401
CREATED:20251107T191455Z
LAST-MODIFIED:20251107T191616Z
UID:10005868-1837429200-1837440000@www.orovalley.org
SUMMARY:Art by Heart Open Studio
DESCRIPTION:
URL:https://www.orovalley.org/event/art-by-heart-open-studio/2028-03-23/
END:VEVENT
BEGIN:VEVENT
DTSTART;TZID=UTC:20280325T170000
DTEND;TZID=UTC:20280325T180000
DTSTAMP:20260423T201401
CREATED:20240130T000623Z
LAST-MODIFIED:20240228T201059Z
UID:10002462-1837616400-1837620000@www.orovalley.org
SUMMARY:5:00 Worship
DESCRIPTION:Join us for worship!  \n\n\n\n\nWorship Online Here\n\n\n\nOnline Bulletins Here
URL:https://www.orovalley.org/event/500-worship-2/2028-03-25/
LOCATION:Oro Valley Sanctuary
CATEGORIES:Worship
ATTACH;FMTTYPE=image/jpeg:https://www.orovalley.org/wp-content/uploads/2023/08/CopyrightTaylorNoelPhotography2021-175-354e5a6-scaled.jpg
END:VEVENT
BEGIN:VEVENT
DTSTART;TZID=UTC:20280326T090000
DTEND;TZID=UTC:20280326T100000
DTSTAMP:20260423T201401
CREATED:20240106T184634Z
LAST-MODIFIED:20240228T200602Z
UID:10001844-1837674000-1837677600@www.orovalley.org
SUMMARY:Worship at SaddleBrooke
DESCRIPTION:Worship Online Here\n\n\n\nOnline Bulletin Here
URL:https://www.orovalley.org/event/worship-at-saddlebrooke/2028-03-26/
LOCATION:SaddleBrooke\, SaddleBrooke HOA2 Clubhouse\, Tucson\, Arizona\, 85739
CATEGORIES:Worship
ATTACH;FMTTYPE=image/jpeg:https://www.orovalley.org/wp-content/uploads/2023/08/sb-worship-pic_3.jpg
END:VEVENT
BEGIN:VEVENT
DTSTART;TZID=UTC:20280328T130000
DTEND;TZID=UTC:20280328T160000
DTSTAMP:20260423T201401
CREATED:20260210T184404Z
LAST-MODIFIED:20260210T202351Z
UID:10006926-1837861200-1837872000@www.orovalley.org
SUMMARY:Art by Heart Glass Classes
DESCRIPTION:Art by Heart Studio
URL:https://www.orovalley.org/event/art-by-heart-glass-classes/2028-03-28/
END:VEVENT
END:VCALENDAR