BEGIN:VCALENDAR
VERSION:2.0
PRODID:-//Resurrection Lutheran Church - ECPv6.15.20//NONSGML v1.0//EN
CALSCALE:GREGORIAN
METHOD:PUBLISH
X-WR-CALNAME:Resurrection Lutheran Church
X-ORIGINAL-URL:https://www.orovalley.org
X-WR-CALDESC:Events for Resurrection Lutheran Church
REFRESH-INTERVAL;VALUE=DURATION:PT1H
X-Robots-Tag:noindex
X-PUBLISHED-TTL:PT1H
BEGIN:VTIMEZONE
TZID:UTC
BEGIN:STANDARD
TZOFFSETFROM:+0000
TZOFFSETTO:+0000
TZNAME:UTC
DTSTART:20230101T000000
END:STANDARD
END:VTIMEZONE
BEGIN:VEVENT
DTSTART;TZID=UTC:20250112T074500
DTEND;TZID=UTC:20250112T084500
DTSTAMP:20260421T093829
CREATED:20240513T202737Z
LAST-MODIFIED:20240513T202749Z
UID:10000059-1736667900-1736671500@www.orovalley.org
SUMMARY:7:45 Worship
DESCRIPTION:Traditional Worship. Music provided by Resurrection’s Chancel Choir \n\n\n\n\nWorship Online Here\n\n\n\n\n \n\n\n\n\nOnline Bulletins Here
URL:https://www.orovalley.org/event/745-worship-7/2025-01-12/
LOCATION:Oro Valley Sanctuary
CATEGORIES:Worship
ATTACH;FMTTYPE=image/jpeg:https://www.orovalley.org/wp-content/uploads/2023/12/CopyrightTaylorNoelPhotography2021-158-scaled.jpg
END:VEVENT
BEGIN:VEVENT
DTSTART;TZID=UTC:20250111T170000
DTEND;TZID=UTC:20250111T180000
DTSTAMP:20260421T093829
CREATED:20240130T000623Z
LAST-MODIFIED:20240228T201059Z
UID:10002295-1736614800-1736618400@www.orovalley.org
SUMMARY:5:00 Worship
DESCRIPTION:Join us for worship!  \n\n\n\n\nWorship Online Here\n\n\n\nOnline Bulletins Here
URL:https://www.orovalley.org/event/500-worship-2/2025-01-11/
LOCATION:Oro Valley Sanctuary
CATEGORIES:Worship
ATTACH;FMTTYPE=image/jpeg:https://www.orovalley.org/wp-content/uploads/2023/08/CopyrightTaylorNoelPhotography2021-175-354e5a6-scaled.jpg
END:VEVENT
BEGIN:VEVENT
DTSTART;TZID=UTC:20250111T080000
DTEND;TZID=UTC:20250111T120000
DTSTAMP:20260421T093829
CREATED:20250114T074427Z
LAST-MODIFIED:20250114T074430Z
UID:10004713-1736582400-1736596800@www.orovalley.org
SUMMARY:Hike to the Historic Sutherland Wash Petroglyphs
DESCRIPTION:Departing from RLC on Saturday\, January 11th\, at 8:00 AM. The Sutherland Wash Rock Art District is a national historic site on the western slope of the Catalina Mountains. Hundreds of Hohokam petroglyphs\, dating from 900 AD to 1300 AD\, are clustered in two sites on a four-mile hike. The hike involves a few short\, steep\, rocky sections of trail. Hiking poles are recommended. Snack time with devotions will be held near one of the sites. High clearance vehicles are needed to drive the last half mile to the parking area at the north end of Catalina State Park. Driver donation $3. Sign up with Elisabeth Wheeler\, hikerelizabeth@gmail.com\, indicating if you have a high clearance vehicle.
URL:https://www.orovalley.org/event/hike-to-the-historic-sutherland-wash-petroglyphs/
END:VEVENT
BEGIN:VEVENT
DTSTART;TZID=UTC:20250109T130000
DTEND;TZID=UTC:20250109T160000
DTSTAMP:20260421T093829
CREATED:20241213T002356Z
LAST-MODIFIED:20241213T002359Z
UID:10004051-1736427600-1736438400@www.orovalley.org
SUMMARY:Matching Dragons Mah Jongg
DESCRIPTION:Do you play the game of (American) Mah Jongg and have been looking for a group to play with? Join us on Thursday afternoons 1:00-4:00 PM in Luther’s Lair in the Outreach Center. These are friendly games. We do NOT play for money but we ALWAYS have a good time. This group is for those who already know how to play the game. However\, anyone is invited to come observe to see if they would like to learn to play the game. Questions? Contact Jackie Verdick at jackieverdick@gmail.com or 612-554-0111.
URL:https://www.orovalley.org/event/matching-dragons-mah-jongg/2025-01-09/
END:VEVENT
BEGIN:VEVENT
DTSTART;TZID=UTC:20250108T150000
DTEND;TZID=UTC:20250108T160000
DTSTAMP:20260421T093829
CREATED:20250114T073956Z
LAST-MODIFIED:20250114T073958Z
UID:10004449-1736348400-1736352000@www.orovalley.org
SUMMARY:Scripture & Salsa
DESCRIPTION:You are invited to join Pastor Carol every Wednesday from 3:00 – 4:00 PM at Mi Tierra Mexican Restaurant in Catalina starting January 8th for an informal discussion of the Bible texts for the upcoming weekend’s worship. No registration is required and there is no long-term commitment. Just grab your Bible and drop by.
URL:https://www.orovalley.org/event/scripture-salsa/2025-01-08/
END:VEVENT
BEGIN:VEVENT
DTSTART;TZID=UTC:20250108T113000
DTEND;TZID=UTC:20250108T123000
DTSTAMP:20260421T093829
CREATED:20250114T071927Z
LAST-MODIFIED:20250114T071929Z
UID:10004439-1736335800-1736339400@www.orovalley.org
SUMMARY:PrimeTime With BINGO!
DESCRIPTION:Oro Valley\, Outreach Center Gym \n\n\n\nCome enjoy fun\, food\, and fellowship! \n\n\n\nWe will be serving fried chicken\, mashed potatoes\, green beans\, rolls\, and brownies for dessert. \n\n\n\nThe incredible and entertaining Ron Esposito will be calling BINGO! Great prizes! \n\n\n\n$10.00 per person \n\n\n\nKindly make your reservations here https://rsvp.church/r/ztKN2dJ9 no later than Monday\, January 6th. Invite a friend and bring a food item to donate to the Assembly of God food bank. \n\n\n\nHappy New Year from the PrimeTime Crew!
URL:https://www.orovalley.org/event/primetime-with-bingo/
END:VEVENT
BEGIN:VEVENT
DTSTART;TZID=UTC:20250107T103000
DTEND;TZID=UTC:20250107T120000
DTSTAMP:20260421T093829
CREATED:20241204T234329Z
LAST-MODIFIED:20250605T232408Z
UID:10003951-1736245800-1736251200@www.orovalley.org
SUMMARY:Book Discussion Group: "Jesus' Alternative Plan" by Richard Rohr
DESCRIPTION:Oro Valley\, Sanctuary \n\n\n\nJoin us this winter to read and discuss “Jesus’ Alternative Plan: The Sermon on the Mount” by Richard Rohr. All are welcome! For more information\, please contact Jeff Kraus (discussion leader) krausjm@gmail.com Books are available in the church office.
URL:https://www.orovalley.org/event/book-discussion-group-jesus-alternative-plan-by-richard-rohr/
END:VEVENT
BEGIN:VEVENT
DTSTART;TZID=UTC:20250105T104500
DTEND;TZID=UTC:20250105T114500
DTSTAMP:20260421T093829
CREATED:20240513T203112Z
LAST-MODIFIED:20240513T203139Z
UID:10001351-1736073900-1736077500@www.orovalley.org
SUMMARY:10:45 Worship - Contemporary
DESCRIPTION:Sunday School\, Confirmation\, High School Sunday School \n\n\n\nChildcare Available \n\n\n\n\nWorship Online Here
URL:https://www.orovalley.org/event/1045-worship-contemporary-4/2025-01-05/
LOCATION:Oro Valley Sanctuary
CATEGORIES:Worship
ATTACH;FMTTYPE=image/jpeg:https://www.orovalley.org/wp-content/uploads/2023/11/CopyrightTaylorNoelPhotography2021-200-scaled.jpg
END:VEVENT
BEGIN:VEVENT
DTSTART;TZID=UTC:20250105T090000
DTEND;TZID=UTC:20250105T100000
DTSTAMP:20260421T093829
CREATED:20240106T184634Z
LAST-MODIFIED:20240228T200602Z
UID:10001676-1736067600-1736071200@www.orovalley.org
SUMMARY:Worship at SaddleBrooke
DESCRIPTION:Worship Online Here\n\n\n\nOnline Bulletin Here
URL:https://www.orovalley.org/event/worship-at-saddlebrooke/2025-01-05/
LOCATION:SaddleBrooke\, SaddleBrooke HOA2 Clubhouse\, Tucson\, Arizona\, 85739
CATEGORIES:Worship
ATTACH;FMTTYPE=image/jpeg:https://www.orovalley.org/wp-content/uploads/2023/08/sb-worship-pic_3.jpg
END:VEVENT
BEGIN:VEVENT
DTSTART;TZID=UTC:20250105T074500
DTEND;TZID=UTC:20250105T084500
DTSTAMP:20260421T093829
CREATED:20240513T202737Z
LAST-MODIFIED:20240513T202749Z
UID:10000058-1736063100-1736066700@www.orovalley.org
SUMMARY:7:45 Worship
DESCRIPTION:Traditional Worship. Music provided by Resurrection’s Chancel Choir \n\n\n\n\nWorship Online Here\n\n\n\n\n \n\n\n\n\nOnline Bulletins Here
URL:https://www.orovalley.org/event/745-worship-7/2025-01-05/
LOCATION:Oro Valley Sanctuary
CATEGORIES:Worship
ATTACH;FMTTYPE=image/jpeg:https://www.orovalley.org/wp-content/uploads/2023/12/CopyrightTaylorNoelPhotography2021-158-scaled.jpg
END:VEVENT
BEGIN:VEVENT
DTSTART;TZID=UTC:20250104T170000
DTEND;TZID=UTC:20250104T180000
DTSTAMP:20260421T093829
CREATED:20240130T000623Z
LAST-MODIFIED:20240228T201059Z
UID:10002294-1736010000-1736013600@www.orovalley.org
SUMMARY:5:00 Worship
DESCRIPTION:Join us for worship!  \n\n\n\n\nWorship Online Here\n\n\n\nOnline Bulletins Here
URL:https://www.orovalley.org/event/500-worship-2/2025-01-04/
LOCATION:Oro Valley Sanctuary
CATEGORIES:Worship
ATTACH;FMTTYPE=image/jpeg:https://www.orovalley.org/wp-content/uploads/2023/08/CopyrightTaylorNoelPhotography2021-175-354e5a6-scaled.jpg
END:VEVENT
BEGIN:VEVENT
DTSTART;TZID=UTC:20250104T080000
DTEND;TZID=UTC:20250104T090000
DTSTAMP:20260421T093829
CREATED:20240808T201836Z
LAST-MODIFIED:20260210T201221Z
UID:10003635-1735977600-1735981200@www.orovalley.org
SUMMARY:Men's Bible Study
DESCRIPTION:Uses the Serendipity Bible\, copies are available. All men of the church are welcome to attend. Meets in Luther’s Lair.
URL:https://www.orovalley.org/event/mens-bible-study/2025-01-04/
END:VEVENT
BEGIN:VEVENT
DTSTART;TZID=UTC:20250104T073000
DTEND;TZID=UTC:20250104T093000
DTSTAMP:20260421T093829
CREATED:20241217T203648Z
LAST-MODIFIED:20241217T203716Z
UID:10002536-1735975800-1735983000@www.orovalley.org
SUMMARY:Men's Breakfast
DESCRIPTION:This group meets monthly\, October through May on the first Saturday of the month\, for breakfast\, socializing and learning. There is always a guest speaker. Catered breakfast is included with the $15 cost of admission. \n\n\n\nThis months speaker will be announced closer to the event date.  \n\n\n\nClick Here to RSVP
URL:https://www.orovalley.org/event/mens-breakfast-6/2025-01-04/
LOCATION:Outreach Center Gymnasium\, 11575 N 1st Ave\, Oro Valley\, AZ\, 85737\, United States
CATEGORIES:Men's Breakfast
ATTACH;FMTTYPE=image/jpeg:https://www.orovalley.org/wp-content/uploads/2023/12/27.jpg
END:VEVENT
BEGIN:VEVENT
DTSTART;TZID=UTC:20250102T130000
DTEND;TZID=UTC:20250102T160000
DTSTAMP:20260421T093829
CREATED:20241213T002356Z
LAST-MODIFIED:20241213T002359Z
UID:10004050-1735822800-1735833600@www.orovalley.org
SUMMARY:Matching Dragons Mah Jongg
DESCRIPTION:Do you play the game of (American) Mah Jongg and have been looking for a group to play with? Join us on Thursday afternoons 1:00-4:00 PM in Luther’s Lair in the Outreach Center. These are friendly games. We do NOT play for money but we ALWAYS have a good time. This group is for those who already know how to play the game. However\, anyone is invited to come observe to see if they would like to learn to play the game. Questions? Contact Jackie Verdick at jackieverdick@gmail.com or 612-554-0111.
URL:https://www.orovalley.org/event/matching-dragons-mah-jongg/2025-01-02/
END:VEVENT
BEGIN:VEVENT
DTSTART;TZID=UTC:20250101T000000
DTEND;TZID=UTC:20250101T235959
DTSTAMP:20260421T093829
CREATED:20241212T232829Z
LAST-MODIFIED:20241212T232832Z
UID:10004039-1735689600-1735775999@www.orovalley.org
SUMMARY:CLOSED
DESCRIPTION:The Church Campus will have adjusted hours between Christmas Day and New Year’s Day to give our staff some much needed and well-deserved time off after all of their amazing work during the Advent Season. If you need to drop anything off at the Church while the office is closed\, please leave it in the secure “After Hours Dropbox” next to the front door of the Administration Building next to the Sanctuary.
URL:https://www.orovalley.org/event/closed/2025-01-01/
END:VEVENT
BEGIN:VEVENT
DTSTART;TZID=UTC:20241229T104500
DTEND;TZID=UTC:20241229T114500
DTSTAMP:20260421T093829
CREATED:20240513T203112Z
LAST-MODIFIED:20240513T203139Z
UID:10001350-1735469100-1735472700@www.orovalley.org
SUMMARY:10:45 Worship - Contemporary
DESCRIPTION:Sunday School\, Confirmation\, High School Sunday School \n\n\n\nChildcare Available \n\n\n\n\nWorship Online Here
URL:https://www.orovalley.org/event/1045-worship-contemporary-4/2024-12-29/
LOCATION:Oro Valley Sanctuary
CATEGORIES:Worship
ATTACH;FMTTYPE=image/jpeg:https://www.orovalley.org/wp-content/uploads/2023/11/CopyrightTaylorNoelPhotography2021-200-scaled.jpg
END:VEVENT
BEGIN:VEVENT
DTSTART;TZID=UTC:20241229T090000
DTEND;TZID=UTC:20241229T100000
DTSTAMP:20260421T093829
CREATED:20240106T184634Z
LAST-MODIFIED:20240228T200602Z
UID:10001675-1735462800-1735466400@www.orovalley.org
SUMMARY:Worship at SaddleBrooke
DESCRIPTION:Worship Online Here\n\n\n\nOnline Bulletin Here
URL:https://www.orovalley.org/event/worship-at-saddlebrooke/2024-12-29/
LOCATION:SaddleBrooke\, SaddleBrooke HOA2 Clubhouse\, Tucson\, Arizona\, 85739
CATEGORIES:Worship
ATTACH;FMTTYPE=image/jpeg:https://www.orovalley.org/wp-content/uploads/2023/08/sb-worship-pic_3.jpg
END:VEVENT
BEGIN:VEVENT
DTSTART;TZID=UTC:20241229T074500
DTEND;TZID=UTC:20241229T084500
DTSTAMP:20260421T093829
CREATED:20240513T202737Z
LAST-MODIFIED:20240513T202749Z
UID:10000057-1735458300-1735461900@www.orovalley.org
SUMMARY:7:45 Worship
DESCRIPTION:Traditional Worship. Music provided by Resurrection’s Chancel Choir \n\n\n\n\nWorship Online Here\n\n\n\n\n \n\n\n\n\nOnline Bulletins Here
URL:https://www.orovalley.org/event/745-worship-7/2024-12-29/
LOCATION:Oro Valley Sanctuary
CATEGORIES:Worship
ATTACH;FMTTYPE=image/jpeg:https://www.orovalley.org/wp-content/uploads/2023/12/CopyrightTaylorNoelPhotography2021-158-scaled.jpg
END:VEVENT
BEGIN:VEVENT
DTSTART;TZID=UTC:20241228T170000
DTEND;TZID=UTC:20241228T180000
DTSTAMP:20260421T093829
CREATED:20240130T000623Z
LAST-MODIFIED:20240228T201059Z
UID:10002293-1735405200-1735408800@www.orovalley.org
SUMMARY:5:00 Worship
DESCRIPTION:Join us for worship!  \n\n\n\n\nWorship Online Here\n\n\n\nOnline Bulletins Here
URL:https://www.orovalley.org/event/500-worship-2/2024-12-28/
LOCATION:Oro Valley Sanctuary
CATEGORIES:Worship
ATTACH;FMTTYPE=image/jpeg:https://www.orovalley.org/wp-content/uploads/2023/08/CopyrightTaylorNoelPhotography2021-175-354e5a6-scaled.jpg
END:VEVENT
BEGIN:VEVENT
DTSTART;TZID=UTC:20241227T000000
DTEND;TZID=UTC:20241227T235959
DTSTAMP:20260421T093829
CREATED:20241212T232829Z
LAST-MODIFIED:20241212T232832Z
UID:10004038-1735257600-1735343999@www.orovalley.org
SUMMARY:CLOSED
DESCRIPTION:The Church Campus will have adjusted hours between Christmas Day and New Year’s Day to give our staff some much needed and well-deserved time off after all of their amazing work during the Advent Season. If you need to drop anything off at the Church while the office is closed\, please leave it in the secure “After Hours Dropbox” next to the front door of the Administration Building next to the Sanctuary.
URL:https://www.orovalley.org/event/closed/2024-12-27/
END:VEVENT
BEGIN:VEVENT
DTSTART;TZID=UTC:20241226T000000
DTEND;TZID=UTC:20241226T235959
DTSTAMP:20260421T093829
CREATED:20241212T232829Z
LAST-MODIFIED:20241212T232832Z
UID:10004037-1735171200-1735257599@www.orovalley.org
SUMMARY:CLOSED
DESCRIPTION:The Church Campus will have adjusted hours between Christmas Day and New Year’s Day to give our staff some much needed and well-deserved time off after all of their amazing work during the Advent Season. If you need to drop anything off at the Church while the office is closed\, please leave it in the secure “After Hours Dropbox” next to the front door of the Administration Building next to the Sanctuary.
URL:https://www.orovalley.org/event/closed/2024-12-26/
END:VEVENT
BEGIN:VEVENT
DTSTART;TZID=UTC:20241225T000000
DTEND;TZID=UTC:20241225T235959
DTSTAMP:20260421T093829
CREATED:20241212T232829Z
LAST-MODIFIED:20241212T232832Z
UID:10004036-1735084800-1735171199@www.orovalley.org
SUMMARY:CLOSED
DESCRIPTION:The Church Campus will have adjusted hours between Christmas Day and New Year’s Day to give our staff some much needed and well-deserved time off after all of their amazing work during the Advent Season. If you need to drop anything off at the Church while the office is closed\, please leave it in the secure “After Hours Dropbox” next to the front door of the Administration Building next to the Sanctuary.
URL:https://www.orovalley.org/event/closed/2024-12-25/
END:VEVENT
BEGIN:VEVENT
DTSTART;TZID=UTC:20241222T104500
DTEND;TZID=UTC:20241222T114500
DTSTAMP:20260421T093829
CREATED:20240513T203112Z
LAST-MODIFIED:20240513T203139Z
UID:10001349-1734864300-1734867900@www.orovalley.org
SUMMARY:10:45 Worship - Contemporary
DESCRIPTION:Sunday School\, Confirmation\, High School Sunday School \n\n\n\nChildcare Available \n\n\n\n\nWorship Online Here
URL:https://www.orovalley.org/event/1045-worship-contemporary-4/2024-12-22/
LOCATION:Oro Valley Sanctuary
CATEGORIES:Worship
ATTACH;FMTTYPE=image/jpeg:https://www.orovalley.org/wp-content/uploads/2023/11/CopyrightTaylorNoelPhotography2021-200-scaled.jpg
END:VEVENT
BEGIN:VEVENT
DTSTART;TZID=UTC:20241222T090000
DTEND;TZID=UTC:20241222T100000
DTSTAMP:20260421T093829
CREATED:20240106T184634Z
LAST-MODIFIED:20240228T200602Z
UID:10001674-1734858000-1734861600@www.orovalley.org
SUMMARY:Worship at SaddleBrooke
DESCRIPTION:Worship Online Here\n\n\n\nOnline Bulletin Here
URL:https://www.orovalley.org/event/worship-at-saddlebrooke/2024-12-22/
LOCATION:SaddleBrooke\, SaddleBrooke HOA2 Clubhouse\, Tucson\, Arizona\, 85739
CATEGORIES:Worship
ATTACH;FMTTYPE=image/jpeg:https://www.orovalley.org/wp-content/uploads/2023/08/sb-worship-pic_3.jpg
END:VEVENT
BEGIN:VEVENT
DTSTART;TZID=UTC:20241222T074500
DTEND;TZID=UTC:20241222T084500
DTSTAMP:20260421T093829
CREATED:20240513T202737Z
LAST-MODIFIED:20240513T202749Z
UID:10000056-1734853500-1734857100@www.orovalley.org
SUMMARY:7:45 Worship
DESCRIPTION:Traditional Worship. Music provided by Resurrection’s Chancel Choir \n\n\n\n\nWorship Online Here\n\n\n\n\n \n\n\n\n\nOnline Bulletins Here
URL:https://www.orovalley.org/event/745-worship-7/2024-12-22/
LOCATION:Oro Valley Sanctuary
CATEGORIES:Worship
ATTACH;FMTTYPE=image/jpeg:https://www.orovalley.org/wp-content/uploads/2023/12/CopyrightTaylorNoelPhotography2021-158-scaled.jpg
END:VEVENT
BEGIN:VEVENT
DTSTART;TZID=UTC:20241221T170000
DTEND;TZID=UTC:20241221T180000
DTSTAMP:20260421T093829
CREATED:20240130T000623Z
LAST-MODIFIED:20240228T201059Z
UID:10002292-1734800400-1734804000@www.orovalley.org
SUMMARY:5:00 Worship
DESCRIPTION:Join us for worship!  \n\n\n\n\nWorship Online Here\n\n\n\nOnline Bulletins Here
URL:https://www.orovalley.org/event/500-worship-2/2024-12-21/
LOCATION:Oro Valley Sanctuary
CATEGORIES:Worship
ATTACH;FMTTYPE=image/jpeg:https://www.orovalley.org/wp-content/uploads/2023/08/CopyrightTaylorNoelPhotography2021-175-354e5a6-scaled.jpg
END:VEVENT
BEGIN:VEVENT
DTSTART;TZID=UTC:20241221T160000
DTEND;TZID=UTC:20241221T180000
DTSTAMP:20260421T093829
CREATED:20241212T233527Z
LAST-MODIFIED:20241212T233653Z
UID:10004040-1734796800-1734804000@www.orovalley.org
SUMMARY:Eventide Singers
DESCRIPTION:The Eventide Singers will sing on Saturday\, December 21st. Join us for our 4:00 PM rehearsal in the Music Room. We will sing for that evening’s 5:00 PM worship service. ALL ARE WELCOME! \n\n\n\nCome witness the wonderful news of Jesus’ birth as shared by Resurrection’s children! Questions? Contact Chris Purzycki at cami50@verizon.net
URL:https://www.orovalley.org/event/eventide-singers/
END:VEVENT
BEGIN:VEVENT
DTSTART;TZID=UTC:20241221T080000
DTEND;TZID=UTC:20241221T090000
DTSTAMP:20260421T093829
CREATED:20240808T201836Z
LAST-MODIFIED:20260210T201221Z
UID:10003634-1734768000-1734771600@www.orovalley.org
SUMMARY:Men's Bible Study
DESCRIPTION:Uses the Serendipity Bible\, copies are available. All men of the church are welcome to attend. Meets in Luther’s Lair.
URL:https://www.orovalley.org/event/mens-bible-study/2024-12-21/
END:VEVENT
BEGIN:VEVENT
DTSTART;TZID=UTC:20241219T130000
DTEND;TZID=UTC:20241219T160000
DTSTAMP:20260421T093829
CREATED:20241213T002356Z
LAST-MODIFIED:20241213T002359Z
UID:10004049-1734613200-1734624000@www.orovalley.org
SUMMARY:Matching Dragons Mah Jongg
DESCRIPTION:Do you play the game of (American) Mah Jongg and have been looking for a group to play with? Join us on Thursday afternoons 1:00-4:00 PM in Luther’s Lair in the Outreach Center. These are friendly games. We do NOT play for money but we ALWAYS have a good time. This group is for those who already know how to play the game. However\, anyone is invited to come observe to see if they would like to learn to play the game. Questions? Contact Jackie Verdick at jackieverdick@gmail.com or 612-554-0111.
URL:https://www.orovalley.org/event/matching-dragons-mah-jongg/2024-12-19/
END:VEVENT
BEGIN:VEVENT
DTSTART;TZID=UTC:20241218T103000
DTEND;TZID=UTC:20241218T120000
DTSTAMP:20260421T093830
CREATED:20240617T222009Z
LAST-MODIFIED:20240617T222059Z
UID:10003534-1734517800-1734523200@www.orovalley.org
SUMMARY:Parkinson's Support Group
DESCRIPTION:This support group provides encouragement from meeting with others who have Parkinson’s disease\, and for the care givers of those with Parkinson’s. The meetings provide an opportunity to discuss experiences and feelings and to share solutions to common problems.  Meets every 3rd Wednesday of the month in the High School Youth Room.
URL:https://www.orovalley.org/event/parkinsons-support-group-3/2024-12-18/
LOCATION:Youth Room
CATEGORIES:Congregational Care,Serve
ATTACH;FMTTYPE=image/jpeg:https://www.orovalley.org/wp-content/uploads/2024/06/Graphics-3.jpg
END:VEVENT
END:VCALENDAR