BEGIN:VCALENDAR
VERSION:2.0
PRODID:-//Resurrection Lutheran Church - ECPv6.15.20//NONSGML v1.0//EN
CALSCALE:GREGORIAN
METHOD:PUBLISH
X-WR-CALNAME:Resurrection Lutheran Church
X-ORIGINAL-URL:https://www.orovalley.org
X-WR-CALDESC:Events for Resurrection Lutheran Church
REFRESH-INTERVAL;VALUE=DURATION:PT1H
X-Robots-Tag:noindex
X-PUBLISHED-TTL:PT1H
BEGIN:VTIMEZONE
TZID:UTC
BEGIN:STANDARD
TZOFFSETFROM:+0000
TZOFFSETTO:+0000
TZNAME:UTC
DTSTART:20230101T000000
END:STANDARD
END:VTIMEZONE
BEGIN:VEVENT
DTSTART;TZID=UTC:20241213T173000
DTEND;TZID=UTC:20241213T200000
DTSTAMP:20260421T122154
CREATED:20241212T234214Z
LAST-MODIFIED:20241212T234217Z
UID:10004041-1734111000-1734120000@www.orovalley.org
SUMMARY:Footsteps of Paul Reunion and Celebration
DESCRIPTION:Warren & Connie Burda’s HouseIt has been four months since we have returned from our trip and I am sure there are all kinds of thoughts that have settled in your minds and hearts. Let’s get together to reunite and enjoy the holiday Spirit and share how the words and places of our scriptures have settled in our hearts. For directions\, contact Connie and Warren Burda: 208.867.1771 or connie.burda@gmail.com.
URL:https://www.orovalley.org/event/footsteps-of-paul-reunion-and-celebration/
END:VEVENT
BEGIN:VEVENT
DTSTART;TZID=UTC:20241213T123000
DTEND;TZID=UTC:20241213T133000
DTSTAMP:20260421T122154
CREATED:20241212T235903Z
LAST-MODIFIED:20241212T235906Z
UID:10004045-1734093000-1734096600@www.orovalley.org
SUMMARY:Ladies Luncheon
DESCRIPTION:Wildflower \n\n\n\n7037 N Oracle Rdin the Casas Adobes Plaza \n\n\n\nKindly make reservations here: https://rsvp.church/r/ztKN2dJ9We look forward to you joining us!
URL:https://www.orovalley.org/event/ladies-luncheon-5/
END:VEVENT
BEGIN:VEVENT
DTSTART;TZID=UTC:20241212T130000
DTEND;TZID=UTC:20241212T160000
DTSTAMP:20260421T122154
CREATED:20241213T002356Z
LAST-MODIFIED:20241213T002359Z
UID:10004048-1734008400-1734019200@www.orovalley.org
SUMMARY:Matching Dragons Mah Jongg
DESCRIPTION:Do you play the game of (American) Mah Jongg and have been looking for a group to play with? Join us on Thursday afternoons 1:00-4:00 PM in Luther’s Lair in the Outreach Center. These are friendly games. We do NOT play for money but we ALWAYS have a good time. This group is for those who already know how to play the game. However\, anyone is invited to come observe to see if they would like to learn to play the game. Questions? Contact Jackie Verdick at jackieverdick@gmail.com or 612-554-0111.
URL:https://www.orovalley.org/event/matching-dragons-mah-jongg/2024-12-12/
END:VEVENT
BEGIN:VEVENT
DTSTART;TZID=UTC:20241211T130000
DTEND;TZID=UTC:20241211T140000
DTSTAMP:20260421T122154
CREATED:20241212T234544Z
LAST-MODIFIED:20241212T234547Z
UID:10004042-1733922000-1733925600@www.orovalley.org
SUMMARY:Advent Service and PrimeTime
DESCRIPTION:Come worship at our 12:00 noon midweek Advent service then stay to enjoy a delicious lunch of Lasagna\, Olive Garden salad and breadsticks\, roasted vegetables and cheescake for desert! \n\n\n\nKindly make reservations here https://rsvp.church/r/ztKN2dJ9 no later than Monday\, December 9th. \n\n\n\nInvite a friend and bring a food item to donate to the Assembly of God food bank.Merry Christmas from the entire PrimeTime Crew!
URL:https://www.orovalley.org/event/advent-service-and-primetime/
END:VEVENT
BEGIN:VEVENT
DTSTART;TZID=UTC:20241211T093000
DTEND;TZID=UTC:20241211T123000
DTSTAMP:20260421T122154
CREATED:20241213T003051Z
LAST-MODIFIED:20241213T022911Z
UID:10004309-1733909400-1733920200@www.orovalley.org
SUMMARY:Desert Wanderers: December Hikes and Walks
DESCRIPTION:Walking Tour of St. Anthony’s Greek Orthodox Monastery on December 11th\, meeting at 9:20AM in the southwest corner of the parking lot of the Golden Goose on Oracle Rd. We will sign in and form carpools to the monastery. We will walk through the lush grounds and visit eight temples of worship. This is a sacred place for contemplation. To visit they a have strict dress code. Women: long skirt\, long sleeve shirt\, scarf over your head\, no open toe shoes unless with socks. Men: long sleeve shirt\, long pants\, no open toe shoes\, and no baseball caps. For specifics\, check their website: https://stanthonysmonastery.org/pages/day-visitors-guide. If you don’t have these\, they will provide freshly washed items. Devotions will be held in a sitting area. A free will offering can be given in the gift shop. Afterwards we will lunch at Mt Athons restaurant (separate checks) in Florence. Driver donation is $3. Sign up with Carole Backstrom 520-818-6738 or carole46cb@gmail.com.
URL:https://www.orovalley.org/event/desert-wanderers-december-hikes-and-walks/
END:VEVENT
BEGIN:VEVENT
DTSTART;TZID=UTC:20241210T183000
DTEND;TZID=UTC:20241210T203000
DTSTAMP:20260421T122154
CREATED:20240910T191442Z
LAST-MODIFIED:20240910T191955Z
UID:10003769-1733855400-1733862600@www.orovalley.org
SUMMARY:Resurrection Card Players
DESCRIPTION:RLC Card Players meets every second and fourth Tuesday of the month. No reservation necessary. Please bring a snack to share and your own beverage. We play a variety of card games and we’re happy to teach you if you don’t know how to play. Everyone is welcome.
URL:https://www.orovalley.org/event/resurrection-card-players/2024-12-10/
LOCATION:Luther’s Lair
END:VEVENT
BEGIN:VEVENT
DTSTART;TZID=UTC:20241209T180000
DTEND;TZID=UTC:20241209T200000
DTSTAMP:20260421T122154
CREATED:20241031T213318Z
LAST-MODIFIED:20241031T213743Z
UID:10003936-1733767200-1733774400@www.orovalley.org
SUMMARY:Resurrection Signs
DESCRIPTION:Gaslight  Music Hall of Oro Valley \n\n\n\nCome and join us for a great afternoon or evening of singing Christmas Music and Christmas Trivia while also sharing food and drink with friends from Resurrection. Last year was our first experience and we sold out. We don’t want anyone to miss out and we want you to invite others so we have two options.  \n\n\n\nOption 1: Doors open at 1:00 PM. Come and have a late lunch and hydrate and the music will start at 2:00 PM.  \n\n\n\nOption 2: Doors open at 5:00 PM. Come and have dinner and hydrate with the music starting at 6:00 PM.  \n\n\n\nThe holidays can be hard if you are alone and this event brings people together. Help us end loneliness and bring in the holiday season. \n\n\n\nRegister here: https://rsvp.church/r/ztKN2dJ9
URL:https://www.orovalley.org/event/resurrection-signs/
LOCATION:Gaslight Music Hall – Oro Valley
END:VEVENT
BEGIN:VEVENT
DTSTART;TZID=UTC:20241209T140000
DTEND;TZID=UTC:20241209T160000
DTSTAMP:20260421T122154
CREATED:20241031T213137Z
LAST-MODIFIED:20241031T213640Z
UID:10003935-1733752800-1733760000@www.orovalley.org
SUMMARY:Resurrection Sings
DESCRIPTION:Gaslight  Music Hall of Oro Valley \n\n\n\nCome and join us for a great afternoon or evening of singing Christmas Music and Christmas Trivia while also sharing food and drink with friends from Resurrection. Last year was our first experience and we sold out. We don’t want anyone to miss out and we want you to invite others so we have two options.  \n\n\n\nOption 1: Doors open at 1:00 PM. Come and have a late lunch and hydrate and the music will start at 2:00 PM.  \n\n\n\nOption 2: Doors open at 5:00 PM. Come and have dinner and hydrate with the music starting at 6:00 PM.  \n\n\n\nThe holidays can be hard if you are alone and this event brings people together. Help us end loneliness and bring in the holiday season. \n\n\n\nRegister here: https://rsvp.church/r/ztKN2dJ9
URL:https://www.orovalley.org/event/resurrection-sings/
LOCATION:Gaslight Music Hall – Oro Valley
END:VEVENT
BEGIN:VEVENT
DTSTART;TZID=UTC:20241208T120000
DTEND;TZID=UTC:20241208T130000
DTSTAMP:20260421T122154
CREATED:20241031T221744Z
LAST-MODIFIED:20241031T221747Z
UID:10003938-1733659200-1733662800@www.orovalley.org
SUMMARY:Annual Meeting
DESCRIPTION:Join us for the congregational annual meeting on the Oro Valley campus and online through Zoom. Come and hear what God is up to at RLC!
URL:https://www.orovalley.org/event/annual-meeting/
LOCATION:Oro Valley Sanctuary
CATEGORIES:Churchwide Events
END:VEVENT
BEGIN:VEVENT
DTSTART;TZID=UTC:20241208T104500
DTEND;TZID=UTC:20241208T114500
DTSTAMP:20260421T122154
CREATED:20240513T203112Z
LAST-MODIFIED:20240513T203139Z
UID:10001347-1733654700-1733658300@www.orovalley.org
SUMMARY:10:45 Worship - Contemporary
DESCRIPTION:Sunday School\, Confirmation\, High School Sunday School \n\n\n\nChildcare Available \n\n\n\n\nWorship Online Here
URL:https://www.orovalley.org/event/1045-worship-contemporary-4/2024-12-08/
LOCATION:Oro Valley Sanctuary
CATEGORIES:Worship
ATTACH;FMTTYPE=image/jpeg:https://www.orovalley.org/wp-content/uploads/2023/11/CopyrightTaylorNoelPhotography2021-200-scaled.jpg
END:VEVENT
BEGIN:VEVENT
DTSTART;TZID=UTC:20241208T091500
DTEND;TZID=UTC:20241208T101500
DTSTAMP:20260421T122154
CREATED:20241031T212402Z
LAST-MODIFIED:20241031T212404Z
UID:10003933-1733649300-1733652900@www.orovalley.org
SUMMARY:Children's Christmas Musical
DESCRIPTION:Christmas Joy! \n\n\n\n\n\nCome to hear the children sing during service!
URL:https://www.orovalley.org/event/childrens-christmas-musical-2/
LOCATION:Oro Valley Sanctuary
END:VEVENT
BEGIN:VEVENT
DTSTART;TZID=UTC:20241208T090000
DTEND;TZID=UTC:20241208T100000
DTSTAMP:20260421T122154
CREATED:20240106T184634Z
LAST-MODIFIED:20240228T200602Z
UID:10001672-1733648400-1733652000@www.orovalley.org
SUMMARY:Worship at SaddleBrooke
DESCRIPTION:Worship Online Here\n\n\n\nOnline Bulletin Here
URL:https://www.orovalley.org/event/worship-at-saddlebrooke/2024-12-08/
LOCATION:SaddleBrooke\, SaddleBrooke HOA2 Clubhouse\, Tucson\, Arizona\, 85739
CATEGORIES:Worship
ATTACH;FMTTYPE=image/jpeg:https://www.orovalley.org/wp-content/uploads/2023/08/sb-worship-pic_3.jpg
END:VEVENT
BEGIN:VEVENT
DTSTART;TZID=UTC:20241208T074500
DTEND;TZID=UTC:20241208T084500
DTSTAMP:20260421T122154
CREATED:20240513T202737Z
LAST-MODIFIED:20240513T202749Z
UID:10000054-1733643900-1733647500@www.orovalley.org
SUMMARY:7:45 Worship
DESCRIPTION:Traditional Worship. Music provided by Resurrection’s Chancel Choir \n\n\n\n\nWorship Online Here\n\n\n\n\n \n\n\n\n\nOnline Bulletins Here
URL:https://www.orovalley.org/event/745-worship-7/2024-12-08/
LOCATION:Oro Valley Sanctuary
CATEGORIES:Worship
ATTACH;FMTTYPE=image/jpeg:https://www.orovalley.org/wp-content/uploads/2023/12/CopyrightTaylorNoelPhotography2021-158-scaled.jpg
END:VEVENT
BEGIN:VEVENT
DTSTART;TZID=UTC:20241207T170000
DTEND;TZID=UTC:20241207T180000
DTSTAMP:20260421T122154
CREATED:20241031T212204Z
LAST-MODIFIED:20241031T212207Z
UID:10003932-1733590800-1733594400@www.orovalley.org
SUMMARY:Children's Christmas Musical
DESCRIPTION:Christmas Joy! \n\n\n\n\n\nCome to hear the children sing during service!
URL:https://www.orovalley.org/event/childrens-christmas-musical/
LOCATION:Oro Valley Sanctuary
END:VEVENT
BEGIN:VEVENT
DTSTART;TZID=UTC:20241207T170000
DTEND;TZID=UTC:20241207T180000
DTSTAMP:20260421T122154
CREATED:20240130T000623Z
LAST-MODIFIED:20240228T201059Z
UID:10002290-1733590800-1733594400@www.orovalley.org
SUMMARY:5:00 Worship
DESCRIPTION:Join us for worship!  \n\n\n\n\nWorship Online Here\n\n\n\nOnline Bulletins Here
URL:https://www.orovalley.org/event/500-worship-2/2024-12-07/
LOCATION:Oro Valley Sanctuary
CATEGORIES:Worship
ATTACH;FMTTYPE=image/jpeg:https://www.orovalley.org/wp-content/uploads/2023/08/CopyrightTaylorNoelPhotography2021-175-354e5a6-scaled.jpg
END:VEVENT
BEGIN:VEVENT
DTSTART;TZID=UTC:20241207T080000
DTEND;TZID=UTC:20241207T090000
DTSTAMP:20260421T122154
CREATED:20240808T201836Z
LAST-MODIFIED:20260210T201221Z
UID:10003633-1733558400-1733562000@www.orovalley.org
SUMMARY:Men's Bible Study
DESCRIPTION:Uses the Serendipity Bible\, copies are available. All men of the church are welcome to attend. Meets in Luther’s Lair.
URL:https://www.orovalley.org/event/mens-bible-study/2024-12-07/
END:VEVENT
BEGIN:VEVENT
DTSTART;TZID=UTC:20241207T073000
DTEND;TZID=UTC:20241207T093000
DTSTAMP:20260421T122154
CREATED:20240911T190622Z
LAST-MODIFIED:20241001T202124Z
UID:10002535-1733556600-1733563800@www.orovalley.org
SUMMARY:Men's Breakfast
DESCRIPTION:This group meets monthly\, October through May on the first Saturday of the month\, for breakfast\, socializing and learning. There is always a guest speaker. Catered breakfast is included with the $10 cost of admission. \n\n\n\nThis months speaker will be announced closer to the event date.  \n\n\n\nClick Here to RSVP
URL:https://www.orovalley.org/event/mensbreakfast/2024-12-07/
LOCATION:Outreach Center Gymnasium\, 11575 N 1st Ave\, Oro Valley\, AZ\, 85737\, United States
CATEGORIES:Men's Breakfast
ATTACH;FMTTYPE=image/jpeg:https://www.orovalley.org/wp-content/uploads/2023/12/27.jpg
END:VEVENT
BEGIN:VEVENT
DTSTART;TZID=UTC:20241203T110000
DTEND;TZID=UTC:20241203T140000
DTSTAMP:20260421T122154
CREATED:20241031T205204Z
LAST-MODIFIED:20241031T205207Z
UID:10003925-1733223600-1733234400@www.orovalley.org
SUMMARY:Deck Resurrection's Halls
DESCRIPTION:Come take part in beautifying God’s house for the Advent and Christmas seasons. There is much work to be done setting up and adorning Christmas trees\, wreaths\, garlands\, and more!
URL:https://www.orovalley.org/event/deck-resurrections-halls/
LOCATION:Oro Valley Sanctuary
END:VEVENT
BEGIN:VEVENT
DTSTART;TZID=UTC:20241201T104500
DTEND;TZID=UTC:20241201T114500
DTSTAMP:20260421T122154
CREATED:20240513T203112Z
LAST-MODIFIED:20240513T203139Z
UID:10001346-1733049900-1733053500@www.orovalley.org
SUMMARY:10:45 Worship - Contemporary
DESCRIPTION:Sunday School\, Confirmation\, High School Sunday School \n\n\n\nChildcare Available \n\n\n\n\nWorship Online Here
URL:https://www.orovalley.org/event/1045-worship-contemporary-4/2024-12-01/
LOCATION:Oro Valley Sanctuary
CATEGORIES:Worship
ATTACH;FMTTYPE=image/jpeg:https://www.orovalley.org/wp-content/uploads/2023/11/CopyrightTaylorNoelPhotography2021-200-scaled.jpg
END:VEVENT
BEGIN:VEVENT
DTSTART;TZID=UTC:20241201T090000
DTEND;TZID=UTC:20241201T100000
DTSTAMP:20260421T122154
CREATED:20240106T184634Z
LAST-MODIFIED:20240228T200602Z
UID:10001671-1733043600-1733047200@www.orovalley.org
SUMMARY:Worship at SaddleBrooke
DESCRIPTION:Worship Online Here\n\n\n\nOnline Bulletin Here
URL:https://www.orovalley.org/event/worship-at-saddlebrooke/2024-12-01/
LOCATION:SaddleBrooke\, SaddleBrooke HOA2 Clubhouse\, Tucson\, Arizona\, 85739
CATEGORIES:Worship
ATTACH;FMTTYPE=image/jpeg:https://www.orovalley.org/wp-content/uploads/2023/08/sb-worship-pic_3.jpg
END:VEVENT
BEGIN:VEVENT
DTSTART;TZID=UTC:20241201T074500
DTEND;TZID=UTC:20241201T084500
DTSTAMP:20260421T122154
CREATED:20240513T202737Z
LAST-MODIFIED:20240513T202749Z
UID:10000053-1733039100-1733042700@www.orovalley.org
SUMMARY:7:45 Worship
DESCRIPTION:Traditional Worship. Music provided by Resurrection’s Chancel Choir \n\n\n\n\nWorship Online Here\n\n\n\n\n \n\n\n\n\nOnline Bulletins Here
URL:https://www.orovalley.org/event/745-worship-7/2024-12-01/
LOCATION:Oro Valley Sanctuary
CATEGORIES:Worship
ATTACH;FMTTYPE=image/jpeg:https://www.orovalley.org/wp-content/uploads/2023/12/CopyrightTaylorNoelPhotography2021-158-scaled.jpg
END:VEVENT
BEGIN:VEVENT
DTSTART;TZID=UTC:20241130T170000
DTEND;TZID=UTC:20241130T180000
DTSTAMP:20260421T122154
CREATED:20240130T000623Z
LAST-MODIFIED:20240228T201059Z
UID:10002289-1732986000-1732989600@www.orovalley.org
SUMMARY:5:00 Worship
DESCRIPTION:Join us for worship!  \n\n\n\n\nWorship Online Here\n\n\n\nOnline Bulletins Here
URL:https://www.orovalley.org/event/500-worship-2/2024-11-30/
LOCATION:Oro Valley Sanctuary
CATEGORIES:Worship
ATTACH;FMTTYPE=image/jpeg:https://www.orovalley.org/wp-content/uploads/2023/08/CopyrightTaylorNoelPhotography2021-175-354e5a6-scaled.jpg
END:VEVENT
BEGIN:VEVENT
DTSTART;TZID=UTC:20241127T181500
DTEND;TZID=UTC:20241127T191500
DTSTAMP:20260421T122154
CREATED:20241031T204907Z
LAST-MODIFIED:20241031T204910Z
UID:10003924-1732731300-1732734900@www.orovalley.org
SUMMARY:Thanksgiving Eve Service
DESCRIPTION:Before you give thanks for turkey\, mashed potatoes\, football\, family and parades\, first give thanks to God for all we have. Join us for our Thanksgiving Worship Service on November 27th at 6:15 PM in the Sanctuary. And if the holidays are hard\, if you are alone or there will be an empty chair\, come and be with your church family to hear words of grace\, love and community.
URL:https://www.orovalley.org/event/thanksgiving-eve-service/
LOCATION:Oro Valley Sanctuary
END:VEVENT
BEGIN:VEVENT
DTSTART;TZID=UTC:20241124T104500
DTEND;TZID=UTC:20241124T114500
DTSTAMP:20260421T122154
CREATED:20240513T203112Z
LAST-MODIFIED:20240513T203139Z
UID:10001345-1732445100-1732448700@www.orovalley.org
SUMMARY:10:45 Worship - Contemporary
DESCRIPTION:Sunday School\, Confirmation\, High School Sunday School \n\n\n\nChildcare Available \n\n\n\n\nWorship Online Here
URL:https://www.orovalley.org/event/1045-worship-contemporary-4/2024-11-24/
LOCATION:Oro Valley Sanctuary
CATEGORIES:Worship
ATTACH;FMTTYPE=image/jpeg:https://www.orovalley.org/wp-content/uploads/2023/11/CopyrightTaylorNoelPhotography2021-200-scaled.jpg
END:VEVENT
BEGIN:VEVENT
DTSTART;TZID=UTC:20241124T090000
DTEND;TZID=UTC:20241124T100000
DTSTAMP:20260421T122154
CREATED:20240106T184634Z
LAST-MODIFIED:20240228T200602Z
UID:10001670-1732438800-1732442400@www.orovalley.org
SUMMARY:Worship at SaddleBrooke
DESCRIPTION:Worship Online Here\n\n\n\nOnline Bulletin Here
URL:https://www.orovalley.org/event/worship-at-saddlebrooke/2024-11-24/
LOCATION:SaddleBrooke\, SaddleBrooke HOA2 Clubhouse\, Tucson\, Arizona\, 85739
CATEGORIES:Worship
ATTACH;FMTTYPE=image/jpeg:https://www.orovalley.org/wp-content/uploads/2023/08/sb-worship-pic_3.jpg
END:VEVENT
BEGIN:VEVENT
DTSTART;TZID=UTC:20241124T074500
DTEND;TZID=UTC:20241124T084500
DTSTAMP:20260421T122155
CREATED:20240513T202737Z
LAST-MODIFIED:20240513T202749Z
UID:10000052-1732434300-1732437900@www.orovalley.org
SUMMARY:7:45 Worship
DESCRIPTION:Traditional Worship. Music provided by Resurrection’s Chancel Choir \n\n\n\n\nWorship Online Here\n\n\n\n\n \n\n\n\n\nOnline Bulletins Here
URL:https://www.orovalley.org/event/745-worship-7/2024-11-24/
LOCATION:Oro Valley Sanctuary
CATEGORIES:Worship
ATTACH;FMTTYPE=image/jpeg:https://www.orovalley.org/wp-content/uploads/2023/12/CopyrightTaylorNoelPhotography2021-158-scaled.jpg
END:VEVENT
BEGIN:VEVENT
DTSTART;TZID=UTC:20241123T170000
DTEND;TZID=UTC:20241123T180000
DTSTAMP:20260421T122155
CREATED:20240130T000623Z
LAST-MODIFIED:20240228T201059Z
UID:10002288-1732381200-1732384800@www.orovalley.org
SUMMARY:5:00 Worship
DESCRIPTION:Join us for worship!  \n\n\n\n\nWorship Online Here\n\n\n\nOnline Bulletins Here
URL:https://www.orovalley.org/event/500-worship-2/2024-11-23/
LOCATION:Oro Valley Sanctuary
CATEGORIES:Worship
ATTACH;FMTTYPE=image/jpeg:https://www.orovalley.org/wp-content/uploads/2023/08/CopyrightTaylorNoelPhotography2021-175-354e5a6-scaled.jpg
END:VEVENT
BEGIN:VEVENT
DTSTART;TZID=UTC:20241123T080000
DTEND;TZID=UTC:20241123T090000
DTSTAMP:20260421T122155
CREATED:20240808T201836Z
LAST-MODIFIED:20260210T201221Z
UID:10003632-1732348800-1732352400@www.orovalley.org
SUMMARY:Men's Bible Study
DESCRIPTION:Uses the Serendipity Bible\, copies are available. All men of the church are welcome to attend. Meets in Luther’s Lair.
URL:https://www.orovalley.org/event/mens-bible-study/2024-11-23/
END:VEVENT
BEGIN:VEVENT
DTSTART;TZID=UTC:20241122T173000
DTEND;TZID=UTC:20241122T200000
DTSTAMP:20260421T122155
CREATED:20241031T222047Z
LAST-MODIFIED:20241031T222050Z
UID:10003939-1732296600-1732305600@www.orovalley.org
SUMMARY:Stone Soup
DESCRIPTION:If you have been around for a while\, you may know that the Child Development Center children take the stage every year in the month of November. Since 1996\, with the exception of the year 2020\, we have had our Pre-Kindergarten class offer our very own version of Stone Soup while the Kindergarten children offer an adaptation of Brown Bear\, Brown Bear\, What Do You See…? Always on a Friday night\, after only one week of rehearsal\, our CDC thespians bring life to these stories. We add some singing and laughter and\, Voila! It is a magical time for all. \n\n\n\nThis year our troupe will be performing on Friday\, November 22nd at 5:30 PM in the Oro Valley Sanctuary. After the performances\, we will have a pizza dinner in our Outreach Center. \n\n\n\nWe invite you to join us as we learn about Gratitude and Thankfulness in the abundant life that God gives to us!
URL:https://www.orovalley.org/event/stone-soup/
LOCATION:Oro Valley Sanctuary
CATEGORIES:Children, Youth, and Family Events,K-5 Events
END:VEVENT
BEGIN:VEVENT
DTSTART;TZID=UTC:20241122T170000
DTEND;TZID=UTC:20241122T220000
DTSTAMP:20260421T122155
CREATED:20241031T222245Z
LAST-MODIFIED:20241031T222248Z
UID:10003940-1732294800-1732312800@www.orovalley.org
SUMMARY:Hockey Night
DESCRIPTION:Join us for a great night of fellowship and hockey! We have participated in this for the last two years and it has been a fun event to attend! \n\n\n\nWhat happens during Faith & Family Fun Night? The goal is to provide a fun and unique environment for churches to enjoy a fun night together. They offer a post-game photo on the ice of our group\, t-shirts to purchase\, scoreboard recognition and more. \n\n\n\nWe have received a link for all of us to purchase our own tickets\, but sit together in the same section. We hope that you will join us for this fun evening. You can plan ahead to meet up with friends and family to have dinner downtown before the game to make the most of the evening. \n\n\n\nPlease use this link to purchase your tickets:  \n\n\n\nhttps://fevo-enterprise.com/event/Resurrectionlutheran24
URL:https://www.orovalley.org/event/hockey-night/
END:VEVENT
END:VCALENDAR