BEGIN:VCALENDAR
VERSION:2.0
PRODID:-//Resurrection Lutheran Church - ECPv6.15.17//NONSGML v1.0//EN
CALSCALE:GREGORIAN
METHOD:PUBLISH
X-ORIGINAL-URL:https://www.orovalley.org
X-WR-CALDESC:Events for Resurrection Lutheran Church
REFRESH-INTERVAL;VALUE=DURATION:PT1H
X-Robots-Tag:noindex
X-PUBLISHED-TTL:PT1H
BEGIN:VTIMEZONE
TZID:UTC
BEGIN:STANDARD
TZOFFSETFROM:+0000
TZOFFSETTO:+0000
TZNAME:UTC
DTSTART:20260101T000000
END:STANDARD
END:VTIMEZONE
BEGIN:VEVENT
DTSTART;TZID=UTC:20271228T183000
DTEND;TZID=UTC:20271228T203000
DTSTAMP:20260419T182935
CREATED:20240910T192133Z
LAST-MODIFIED:20240910T192135Z
UID:10003865-1830018600-1830025800@www.orovalley.org
SUMMARY:Resurrection Card Players
DESCRIPTION:RLC Card Players meets every second and fourth Tuesday of the month. No reservation necessary. Please bring a snack to share and your own beverage. We play a variety of card games and we’re happy to teach you if you don’t know how to play. Everyone is welcome.
URL:https://www.orovalley.org/event/resurrection-card-players-2/2027-12-28/
LOCATION:Luther’s Lair
END:VEVENT
BEGIN:VEVENT
DTSTART;TZID=UTC:20280125T183000
DTEND;TZID=UTC:20280125T203000
DTSTAMP:20260419T182935
CREATED:20240910T192133Z
LAST-MODIFIED:20240910T192135Z
UID:10003866-1832437800-1832445000@www.orovalley.org
SUMMARY:Resurrection Card Players
DESCRIPTION:RLC Card Players meets every second and fourth Tuesday of the month. No reservation necessary. Please bring a snack to share and your own beverage. We play a variety of card games and we’re happy to teach you if you don’t know how to play. Everyone is welcome.
URL:https://www.orovalley.org/event/resurrection-card-players-2/2028-01-25/
LOCATION:Luther’s Lair
END:VEVENT
BEGIN:VEVENT
DTSTART;TZID=UTC:20280222T183000
DTEND;TZID=UTC:20280222T203000
DTSTAMP:20260419T182935
CREATED:20240910T192133Z
LAST-MODIFIED:20240910T192135Z
UID:10003867-1834857000-1834864200@www.orovalley.org
SUMMARY:Resurrection Card Players
DESCRIPTION:RLC Card Players meets every second and fourth Tuesday of the month. No reservation necessary. Please bring a snack to share and your own beverage. We play a variety of card games and we’re happy to teach you if you don’t know how to play. Everyone is welcome.
URL:https://www.orovalley.org/event/resurrection-card-players-2/2028-02-22/
LOCATION:Luther’s Lair
END:VEVENT
BEGIN:VEVENT
DTSTART;TZID=UTC:20280328T183000
DTEND;TZID=UTC:20280328T203000
DTSTAMP:20260419T182935
CREATED:20240910T192133Z
LAST-MODIFIED:20240910T192135Z
UID:10003868-1837881000-1837888200@www.orovalley.org
SUMMARY:Resurrection Card Players
DESCRIPTION:RLC Card Players meets every second and fourth Tuesday of the month. No reservation necessary. Please bring a snack to share and your own beverage. We play a variety of card games and we’re happy to teach you if you don’t know how to play. Everyone is welcome.
URL:https://www.orovalley.org/event/resurrection-card-players-2/2028-03-28/
LOCATION:Luther’s Lair
END:VEVENT
BEGIN:VEVENT
DTSTART;TZID=UTC:20280425T183000
DTEND;TZID=UTC:20280425T203000
DTSTAMP:20260419T182935
CREATED:20240910T192133Z
LAST-MODIFIED:20240910T192135Z
UID:10003869-1840300200-1840307400@www.orovalley.org
SUMMARY:Resurrection Card Players
DESCRIPTION:RLC Card Players meets every second and fourth Tuesday of the month. No reservation necessary. Please bring a snack to share and your own beverage. We play a variety of card games and we’re happy to teach you if you don’t know how to play. Everyone is welcome.
URL:https://www.orovalley.org/event/resurrection-card-players-2/2028-04-25/
LOCATION:Luther’s Lair
END:VEVENT
BEGIN:VEVENT
DTSTART;TZID=UTC:20280523T183000
DTEND;TZID=UTC:20280523T203000
DTSTAMP:20260419T182935
CREATED:20240910T192133Z
LAST-MODIFIED:20240910T192135Z
UID:10003870-1842719400-1842726600@www.orovalley.org
SUMMARY:Resurrection Card Players
DESCRIPTION:RLC Card Players meets every second and fourth Tuesday of the month. No reservation necessary. Please bring a snack to share and your own beverage. We play a variety of card games and we’re happy to teach you if you don’t know how to play. Everyone is welcome.
URL:https://www.orovalley.org/event/resurrection-card-players-2/2028-05-23/
LOCATION:Luther’s Lair
END:VEVENT
BEGIN:VEVENT
DTSTART;TZID=UTC:20280627T183000
DTEND;TZID=UTC:20280627T203000
DTSTAMP:20260419T182935
CREATED:20240910T192133Z
LAST-MODIFIED:20240910T192135Z
UID:10003871-1845743400-1845750600@www.orovalley.org
SUMMARY:Resurrection Card Players
DESCRIPTION:RLC Card Players meets every second and fourth Tuesday of the month. No reservation necessary. Please bring a snack to share and your own beverage. We play a variety of card games and we’re happy to teach you if you don’t know how to play. Everyone is welcome.
URL:https://www.orovalley.org/event/resurrection-card-players-2/2028-06-27/
LOCATION:Luther’s Lair
END:VEVENT
BEGIN:VEVENT
DTSTART;TZID=UTC:20280725T183000
DTEND;TZID=UTC:20280725T203000
DTSTAMP:20260419T182935
CREATED:20240910T192133Z
LAST-MODIFIED:20240910T192135Z
UID:10003872-1848162600-1848169800@www.orovalley.org
SUMMARY:Resurrection Card Players
DESCRIPTION:RLC Card Players meets every second and fourth Tuesday of the month. No reservation necessary. Please bring a snack to share and your own beverage. We play a variety of card games and we’re happy to teach you if you don’t know how to play. Everyone is welcome.
URL:https://www.orovalley.org/event/resurrection-card-players-2/2028-07-25/
LOCATION:Luther’s Lair
END:VEVENT
BEGIN:VEVENT
DTSTART;TZID=UTC:20280822T183000
DTEND;TZID=UTC:20280822T203000
DTSTAMP:20260419T182935
CREATED:20240910T192133Z
LAST-MODIFIED:20240910T192135Z
UID:10003873-1850581800-1850589000@www.orovalley.org
SUMMARY:Resurrection Card Players
DESCRIPTION:RLC Card Players meets every second and fourth Tuesday of the month. No reservation necessary. Please bring a snack to share and your own beverage. We play a variety of card games and we’re happy to teach you if you don’t know how to play. Everyone is welcome.
URL:https://www.orovalley.org/event/resurrection-card-players-2/2028-08-22/
LOCATION:Luther’s Lair
END:VEVENT
BEGIN:VEVENT
DTSTART;TZID=UTC:20280926T183000
DTEND;TZID=UTC:20280926T203000
DTSTAMP:20260419T182935
CREATED:20240910T192133Z
LAST-MODIFIED:20240910T192135Z
UID:10003874-1853605800-1853613000@www.orovalley.org
SUMMARY:Resurrection Card Players
DESCRIPTION:RLC Card Players meets every second and fourth Tuesday of the month. No reservation necessary. Please bring a snack to share and your own beverage. We play a variety of card games and we’re happy to teach you if you don’t know how to play. Everyone is welcome.
URL:https://www.orovalley.org/event/resurrection-card-players-2/2028-09-26/
LOCATION:Luther’s Lair
END:VEVENT
BEGIN:VEVENT
DTSTART;TZID=UTC:20281024T183000
DTEND;TZID=UTC:20281024T203000
DTSTAMP:20260419T182935
CREATED:20240910T192133Z
LAST-MODIFIED:20240910T192135Z
UID:10003875-1856025000-1856032200@www.orovalley.org
SUMMARY:Resurrection Card Players
DESCRIPTION:RLC Card Players meets every second and fourth Tuesday of the month. No reservation necessary. Please bring a snack to share and your own beverage. We play a variety of card games and we’re happy to teach you if you don’t know how to play. Everyone is welcome.
URL:https://www.orovalley.org/event/resurrection-card-players-2/2028-10-24/
LOCATION:Luther’s Lair
END:VEVENT
BEGIN:VEVENT
DTSTART;TZID=UTC:20281128T183000
DTEND;TZID=UTC:20281128T203000
DTSTAMP:20260419T182935
CREATED:20240910T192133Z
LAST-MODIFIED:20240910T192135Z
UID:10003876-1859049000-1859056200@www.orovalley.org
SUMMARY:Resurrection Card Players
DESCRIPTION:RLC Card Players meets every second and fourth Tuesday of the month. No reservation necessary. Please bring a snack to share and your own beverage. We play a variety of card games and we’re happy to teach you if you don’t know how to play. Everyone is welcome.
URL:https://www.orovalley.org/event/resurrection-card-players-2/2028-11-28/
LOCATION:Luther’s Lair
END:VEVENT
BEGIN:VEVENT
DTSTART;TZID=UTC:20281226T183000
DTEND;TZID=UTC:20281226T203000
DTSTAMP:20260419T182935
CREATED:20240910T192133Z
LAST-MODIFIED:20240910T192135Z
UID:10003877-1861468200-1861475400@www.orovalley.org
SUMMARY:Resurrection Card Players
DESCRIPTION:RLC Card Players meets every second and fourth Tuesday of the month. No reservation necessary. Please bring a snack to share and your own beverage. We play a variety of card games and we’re happy to teach you if you don’t know how to play. Everyone is welcome.
URL:https://www.orovalley.org/event/resurrection-card-players-2/2028-12-26/
LOCATION:Luther’s Lair
END:VEVENT
BEGIN:VEVENT
DTSTART;TZID=UTC:20290123T183000
DTEND;TZID=UTC:20290123T203000
DTSTAMP:20260419T182935
CREATED:20240910T192133Z
LAST-MODIFIED:20240910T192135Z
UID:10003878-1863887400-1863894600@www.orovalley.org
SUMMARY:Resurrection Card Players
DESCRIPTION:RLC Card Players meets every second and fourth Tuesday of the month. No reservation necessary. Please bring a snack to share and your own beverage. We play a variety of card games and we’re happy to teach you if you don’t know how to play. Everyone is welcome.
URL:https://www.orovalley.org/event/resurrection-card-players-2/2029-01-23/
LOCATION:Luther’s Lair
END:VEVENT
BEGIN:VEVENT
DTSTART;TZID=UTC:20290227T183000
DTEND;TZID=UTC:20290227T203000
DTSTAMP:20260419T182935
CREATED:20240910T192133Z
LAST-MODIFIED:20240910T192135Z
UID:10003879-1866911400-1866918600@www.orovalley.org
SUMMARY:Resurrection Card Players
DESCRIPTION:RLC Card Players meets every second and fourth Tuesday of the month. No reservation necessary. Please bring a snack to share and your own beverage. We play a variety of card games and we’re happy to teach you if you don’t know how to play. Everyone is welcome.
URL:https://www.orovalley.org/event/resurrection-card-players-2/2029-02-27/
LOCATION:Luther’s Lair
END:VEVENT
BEGIN:VEVENT
DTSTART;TZID=UTC:20290327T183000
DTEND;TZID=UTC:20290327T203000
DTSTAMP:20260419T182935
CREATED:20240910T192133Z
LAST-MODIFIED:20240910T192135Z
UID:10003880-1869330600-1869337800@www.orovalley.org
SUMMARY:Resurrection Card Players
DESCRIPTION:RLC Card Players meets every second and fourth Tuesday of the month. No reservation necessary. Please bring a snack to share and your own beverage. We play a variety of card games and we’re happy to teach you if you don’t know how to play. Everyone is welcome.
URL:https://www.orovalley.org/event/resurrection-card-players-2/2029-03-27/
LOCATION:Luther’s Lair
END:VEVENT
BEGIN:VEVENT
DTSTART;TZID=UTC:20290424T183000
DTEND;TZID=UTC:20290424T203000
DTSTAMP:20260419T182935
CREATED:20240910T192133Z
LAST-MODIFIED:20240910T192135Z
UID:10003881-1871749800-1871757000@www.orovalley.org
SUMMARY:Resurrection Card Players
DESCRIPTION:RLC Card Players meets every second and fourth Tuesday of the month. No reservation necessary. Please bring a snack to share and your own beverage. We play a variety of card games and we’re happy to teach you if you don’t know how to play. Everyone is welcome.
URL:https://www.orovalley.org/event/resurrection-card-players-2/2029-04-24/
LOCATION:Luther’s Lair
END:VEVENT
BEGIN:VEVENT
DTSTART;TZID=UTC:20290522T183000
DTEND;TZID=UTC:20290522T203000
DTSTAMP:20260419T182935
CREATED:20240910T192133Z
LAST-MODIFIED:20240910T192135Z
UID:10003882-1874169000-1874176200@www.orovalley.org
SUMMARY:Resurrection Card Players
DESCRIPTION:RLC Card Players meets every second and fourth Tuesday of the month. No reservation necessary. Please bring a snack to share and your own beverage. We play a variety of card games and we’re happy to teach you if you don’t know how to play. Everyone is welcome.
URL:https://www.orovalley.org/event/resurrection-card-players-2/2029-05-22/
LOCATION:Luther’s Lair
END:VEVENT
BEGIN:VEVENT
DTSTART;TZID=UTC:20290626T183000
DTEND;TZID=UTC:20290626T203000
DTSTAMP:20260419T182935
CREATED:20240910T192133Z
LAST-MODIFIED:20240910T192135Z
UID:10003883-1877193000-1877200200@www.orovalley.org
SUMMARY:Resurrection Card Players
DESCRIPTION:RLC Card Players meets every second and fourth Tuesday of the month. No reservation necessary. Please bring a snack to share and your own beverage. We play a variety of card games and we’re happy to teach you if you don’t know how to play. Everyone is welcome.
URL:https://www.orovalley.org/event/resurrection-card-players-2/2029-06-26/
LOCATION:Luther’s Lair
END:VEVENT
BEGIN:VEVENT
DTSTART;TZID=UTC:20290724T183000
DTEND;TZID=UTC:20290724T203000
DTSTAMP:20260419T182935
CREATED:20240910T192133Z
LAST-MODIFIED:20240910T192135Z
UID:10003884-1879612200-1879619400@www.orovalley.org
SUMMARY:Resurrection Card Players
DESCRIPTION:RLC Card Players meets every second and fourth Tuesday of the month. No reservation necessary. Please bring a snack to share and your own beverage. We play a variety of card games and we’re happy to teach you if you don’t know how to play. Everyone is welcome.
URL:https://www.orovalley.org/event/resurrection-card-players-2/2029-07-24/
LOCATION:Luther’s Lair
END:VEVENT
BEGIN:VEVENT
DTSTART;TZID=UTC:20290828T183000
DTEND;TZID=UTC:20290828T203000
DTSTAMP:20260419T182935
CREATED:20240910T192133Z
LAST-MODIFIED:20240910T192135Z
UID:10003885-1882636200-1882643400@www.orovalley.org
SUMMARY:Resurrection Card Players
DESCRIPTION:RLC Card Players meets every second and fourth Tuesday of the month. No reservation necessary. Please bring a snack to share and your own beverage. We play a variety of card games and we’re happy to teach you if you don’t know how to play. Everyone is welcome.
URL:https://www.orovalley.org/event/resurrection-card-players-2/2029-08-28/
LOCATION:Luther’s Lair
END:VEVENT
BEGIN:VEVENT
DTSTART;TZID=UTC:20290925T183000
DTEND;TZID=UTC:20290925T203000
DTSTAMP:20260419T182935
CREATED:20240910T192133Z
LAST-MODIFIED:20240910T192135Z
UID:10003941-1885055400-1885062600@www.orovalley.org
SUMMARY:Resurrection Card Players
DESCRIPTION:RLC Card Players meets every second and fourth Tuesday of the month. No reservation necessary. Please bring a snack to share and your own beverage. We play a variety of card games and we’re happy to teach you if you don’t know how to play. Everyone is welcome.
URL:https://www.orovalley.org/event/resurrection-card-players-2/2029-09-25/
LOCATION:Luther’s Lair
END:VEVENT
BEGIN:VEVENT
DTSTART;TZID=UTC:20291023T183000
DTEND;TZID=UTC:20291023T203000
DTSTAMP:20260419T182935
CREATED:20240910T192133Z
LAST-MODIFIED:20240910T192135Z
UID:10003942-1887474600-1887481800@www.orovalley.org
SUMMARY:Resurrection Card Players
DESCRIPTION:RLC Card Players meets every second and fourth Tuesday of the month. No reservation necessary. Please bring a snack to share and your own beverage. We play a variety of card games and we’re happy to teach you if you don’t know how to play. Everyone is welcome.
URL:https://www.orovalley.org/event/resurrection-card-players-2/2029-10-23/
LOCATION:Luther’s Lair
END:VEVENT
END:VCALENDAR